Back to the "Multiple platform build/check report"
| Package 162/172 | OS | Arch | BUILD | CHECK | BUILD BIN |
stepNorm1.4.0Yuanyuan Xiao | Linux (SUSE 9.2) | x86_64 | OK | [ OK ] | |
| Linux (SUSE 9.2) | i686 | OK | OK | ||
| Solaris 2.9 | sparc | OK | OK | ||
| Linux (SUSE 10.0) | x86_64 | OK | OK | ||
| Windows Server 2003 | x86_64 | OK | OK | OK |
| Package: stepNorm |
| Version: 1.4.0 |
| Command: /loc/biocbuild/1.8d/R/bin/R CMD check stepNorm_1.4.0.tar.gz |
| RetCode: 0 |
| Time: 346.4 seconds |
| Status: OK |
| CheckDir: stepNorm.Rcheck |
| Warnings: 0 |
* checking for working latex ... OK * using log directory '/loc/biocbuild/1.8d/Rpacks/stepNorm.Rcheck' * using Version 2.3.1 (2006-06-01) * checking for file 'stepNorm/DESCRIPTION' ... OK * this is package 'stepNorm' version '1.4.0' * checking package dependencies ... OK * checking if this is a source package ... OK * checking whether package 'stepNorm' can be installed ... OK * checking package directory ... OK * checking for portable file names ... OK * checking for sufficient/correct file permissions ... OK * checking DESCRIPTION meta-information ... OK * checking top-level files ... OK * checking index information ... OK * checking package subdirectories ... OK * checking R files for syntax errors ... OK * checking R files for library.dynam ... OK * checking S3 generic/method consistency ... OK * checking replacement functions ... OK * checking foreign function calls ... OK * checking Rd files ... OK * checking for missing documentation entries ... OK * checking for code/documentation mismatches ... OK * checking Rd \usage sections ... OK * creating stepNorm-Ex.R ... OK * checking examples ... OK * creating stepNorm-manual.tex ... OK * checking stepNorm-manual.tex ... OK
stepNorm.Rcheck/00install.out:
* Installing *source* package 'stepNorm' ...
** R
** inst
** help
>>> Building/Updating help pages for package 'stepNorm'
Formats: text html latex example
calcAIC text html latex example
calcBIC text html latex example
fit2DWithin text html latex example
fitWithin text html latex example
maCompPlate2 text html latex example
makeStepList text html latex example
marrayFitClass text html latex example
seqWithinNorm text html latex example
stepNorm-internal text html latex
stepWithinNorm text html latex example
withinNorm text html latex example
** building package indices ...
* DONE (stepNorm)