Back to the "Multiple platform build/check report"
| Package 161/172 | OS | Arch | BUILD | CHECK | BUILD BIN |
stam1.4.0Claudio Lottaz | Linux (SUSE 9.2) | x86_64 | OK | [ OK ] | |
| Linux (SUSE 9.2) | i686 | OK | OK | ||
| Solaris 2.9 | sparc | OK | OK | ||
| Linux (SUSE 10.0) | x86_64 | OK | OK | ||
| Windows Server 2003 | x86_64 | OK | OK | OK |
| Package: stam |
| Version: 1.4.0 |
| Command: /loc/biocbuild/1.8d/R/bin/R CMD check stam_1.4.0.tar.gz |
| RetCode: 0 |
| Time: 1324.2 seconds |
| Status: OK |
| CheckDir: stam.Rcheck |
| Warnings: 0 |
* checking for working latex ... OK * using log directory '/loc/biocbuild/1.8d/Rpacks/stam.Rcheck' * using Version 2.3.1 (2006-06-01) * checking for file 'stam/DESCRIPTION' ... OK * this is package 'stam' version '1.4.0' * checking package dependencies ... OK * checking if this is a source package ... OK * checking whether package 'stam' can be installed ... OK * checking package directory ... OK * checking for portable file names ... OK * checking for sufficient/correct file permissions ... OK * checking DESCRIPTION meta-information ... OK * checking top-level files ... OK * checking index information ... OK * checking package subdirectories ... OK * checking R files for syntax errors ... OK * checking R files for library.dynam ... OK * checking S3 generic/method consistency ... OK * checking replacement functions ... OK * checking foreign function calls ... OK * checking Rd files ... OK * checking for missing documentation entries ... OK * checking for code/documentation mismatches ... OK * checking Rd \usage sections ... OK * checking for CRLF line endings in C/C++/Fortran sources/headers ... OK * creating stam-Ex.R ... OK * checking examples ... OK * checking package vignettes in 'inst/doc' ... OK * creating stam-manual.tex ... OK * checking stam-manual.tex ... OK
stam.Rcheck/00install.out:
* Installing *source* package 'stam' ...
** libs
gcc -I/loc/biocbuild/1.8d/R/include -I/loc/biocbuild/1.8d/R/include -I/usr/local/include -fpic -g -O2 -std=gnu99 -Wall -c util.c -o util.o
gcc -shared -L/usr/local/lib64 -o stam.so util.o
** R
** data
** inst
** save image
Loading required package: GO
Loading required package: Biobase
Loading required package: tools
Welcome to Bioconductor
Vignettes contain introductory material. To view, type
'openVignette()' or start with 'help(Biobase)'. For details
on reading vignettes, see the openVignette help page.
Loading required package: pamr
Loading required package: cluster
Loading required package: annaffy
Loading required package: KEGG
** help
>>> Building/Updating help pages for package 'stam'
Formats: text html latex example
golubTrain.cv text html latex
golubTrain.fit text html latex
image.stamPrediction text html latex
plot.stamCV text html latex
plot.stamFit text html latex
plot.stamPrediction text html latex
stam-internal text html latex
stam.cv text html latex example
stam.evaluate text html latex example
stam.fit text html latex example
stam.graph.plot text html latex
stam.net text html latex example
stam.predict text html latex example
stam.rgb.colors text html latex example
stam.serve text html latex example
stam.writeHTML text html latex example
stamCV-class text html latex
stamEval-class text html latex
stamFit-class text html latex
stamINode-class text html latex
stamLeaf-class text html latex
stamNet-class text html latex
stamNode-class text html latex
stamPrediction-class text html latex
** building package indices ...
* DONE (stam)