Back to the "Multiple platform build/check report"
| Package 159/172 | OS | Arch | BUILD | CHECK | BUILD BIN |
sscore1.4.2Richard Kennedy | Linux (SUSE 9.2) | x86_64 | OK | [ OK ] | |
| Linux (SUSE 9.2) | i686 | OK | OK | ||
| Solaris 2.9 | sparc | OK | OK | ||
| Linux (SUSE 10.0) | x86_64 | OK | OK | ||
| Windows Server 2003 | x86_64 | OK | OK | OK |
| Package: sscore |
| Version: 1.4.2 |
| Command: /loc/biocbuild/1.8d/R/bin/R CMD check sscore_1.4.2.tar.gz |
| RetCode: 0 |
| Time: 64.3 seconds |
| Status: OK |
| CheckDir: sscore.Rcheck |
| Warnings: 0 |
* checking for working latex ... OK * using log directory '/loc/biocbuild/1.8d/Rpacks/sscore.Rcheck' * using Version 2.3.1 (2006-06-01) * checking for file 'sscore/DESCRIPTION' ... OK * this is package 'sscore' version '1.4.2' * checking package dependencies ... OK * checking if this is a source package ... OK * checking whether package 'sscore' can be installed ... OK * checking package directory ... OK * checking for portable file names ... OK * checking for sufficient/correct file permissions ... OK * checking DESCRIPTION meta-information ... OK * checking top-level files ... OK * checking index information ... OK * checking package subdirectories ... OK * checking R files for syntax errors ... OK * checking R files for library.dynam ... OK * checking S3 generic/method consistency ... OK * checking replacement functions ... OK * checking foreign function calls ... OK * checking Rd files ... OK * checking for missing documentation entries ... OK * checking for code/documentation mismatches ... OK * checking Rd \usage sections ... OK * creating sscore-Ex.R ... OK * checking examples ... OK * checking package vignettes in 'inst/doc' ... OK * creating sscore-manual.tex ... OK * checking sscore-manual.tex ... OK
sscore.Rcheck/00install.out:
* Installing *source* package 'sscore' ...
** R
** inst
** preparing package for lazy loading
Loading required package: affy
Loading required package: Biobase
Loading required package: tools
Welcome to Bioconductor
Vignettes contain introductory material. To view, type
'openVignette()' or start with 'help(Biobase)'. For details
on reading vignettes, see the openVignette help page.
Loading required package: affyio
** help
>>> Building/Updating help pages for package 'sscore'
Formats: text html latex example
OneStepBiweightAlgorithm text html latex
SScore text html latex example
SScoreBatch text html latex example
computeOutlier text html latex example
computeRawQ text html latex
computeSFandSDT text html latex example
computeZoneIInfo text html latex
computeZonenoise text html latex
trimMean text html latex
** building package indices ...
* DONE (sscore)