Back to the "Multiple platform build/check report"
| Package 157/172 | OS | Arch | BUILD | CHECK | BUILD BIN |
splicegear1.4.0Laurent | Linux (SUSE 9.2) | x86_64 | OK | [ OK ] | |
| Linux (SUSE 9.2) | i686 | OK | OK | ||
| Solaris 2.9 | sparc | OK | OK | ||
| Linux (SUSE 10.0) | x86_64 | OK | OK | ||
| Windows Server 2003 | x86_64 | OK | OK | OK |
| Package: splicegear |
| Version: 1.4.0 |
| Command: /loc/biocbuild/1.8d/R/bin/R CMD check splicegear_1.4.0.tar.gz |
| RetCode: 0 |
| Time: 80.8 seconds |
| Status: OK |
| CheckDir: splicegear.Rcheck |
| Warnings: 0 |
* checking for working latex ... OK * using log directory '/loc/biocbuild/1.8d/Rpacks/splicegear.Rcheck' * using Version 2.3.1 (2006-06-01) * checking for file 'splicegear/DESCRIPTION' ... OK * this is package 'splicegear' version '1.4.0' * checking package dependencies ... OK * checking if this is a source package ... OK * checking whether package 'splicegear' can be installed ... OK * checking package directory ... OK * checking for portable file names ... OK * checking for sufficient/correct file permissions ... OK * checking DESCRIPTION meta-information ... OK * checking top-level files ... OK * checking index information ... OK * checking package subdirectories ... OK * checking R files for syntax errors ... OK * checking R files for library.dynam ... OK * checking S3 generic/method consistency ... OK * checking replacement functions ... OK * checking foreign function calls ... OK * checking Rd files ... OK * checking for missing documentation entries ... OK * checking for code/documentation mismatches ... OK * checking Rd \usage sections ... OK * creating splicegear-Ex.R ... OK * checking examples ... OK * checking package vignettes in 'inst/doc' ... OK * creating splicegear-manual.tex ... OK * checking splicegear-manual.tex ... OK
splicegear.Rcheck/00install.out:
* Installing *source* package 'splicegear' ...
** R
** data
** inst
** save image
Loading required package: grid
Loading required package: Biobase
Loading required package: tools
Welcome to Bioconductor
Vignettes contain introductory material. To view, type
'openVignette()' or start with 'help(Biobase)'. For details
on reading vignettes, see the openVignette help page.
Loading required package: XML
Loading required package: annotate
[1] TRUE
[1] "SpliceSites"
[1] "show"
[1] "plot"
[1] "plot"
[1] "initialize"
[1] "grid.plot"
[1] "grid.plot"
[1] "Probes"
[1] "initialize"
[1] "show"
[1] "plot"
[1] "plot"
[1] "grid.plot"
[1] "grid.plot"
[1] "SpliceSitesGenomic"
[1] "plot"
[1] TRUE
[1] "SpliceExprSet"
[1] "spliceSites"
[1] "spliceSites"
[1] "exprs"
[1] "exprs<-"
[1] "show"
[1] "plot"
[1] "grid.plot"
** help
>>> Building/Updating help pages for package 'splicegear'
Formats: text html latex example
Probes-class text html latex example
SpliceExprSet-class text html latex example
SpliceSites-class text html latex example
SpliceSitesGenomic-class text html latex example
as.data.frame.SpliceExprSet text html latex example
barplot.SpliceSites text html latex example
buildSpliceSites text html latex example
getRelSignStrength text html latex example
grid.helpers text html latex
grid.plot.SpliceSites text html latex example
isProbeOnSpliceSite text html latex example
matchprobes2Probes text html latex
plot.SpliceExprSet text html latex example
plot.SpliceSites text html latex example
plot.SpliceSitesGenomic text html latex example
sort.SpliceExprSet text html latex example
spliceset text html latex example
split.SpliceSites text html latex example
** building package indices ...
* DONE (splicegear)