Back to the "Multiple platform build/check report"
| Package 124/172 | OS | Arch | BUILD | CHECK | BUILD BIN |
plgem1.4.0Mattia Pelizzola | Linux (SUSE 9.2) | x86_64 | OK | [ OK ] | |
| Linux (SUSE 9.2) | i686 | OK | OK | ||
| Solaris 2.9 | sparc | OK | OK | ||
| Linux (SUSE 10.0) | x86_64 | OK | OK | ||
| Windows Server 2003 | x86_64 | OK | OK | OK |
| Package: plgem |
| Version: 1.4.0 |
| Command: /loc/biocbuild/1.8d/R/bin/R CMD check plgem_1.4.0.tar.gz |
| RetCode: 0 |
| Time: 259.9 seconds |
| Status: OK |
| CheckDir: plgem.Rcheck |
| Warnings: 0 |
* checking for working latex ... OK * using log directory '/loc/biocbuild/1.8d/Rpacks/plgem.Rcheck' * using Version 2.3.1 (2006-06-01) * checking for file 'plgem/DESCRIPTION' ... OK * this is package 'plgem' version '1.4.0' * checking package dependencies ... OK * checking if this is a source package ... OK * checking whether package 'plgem' can be installed ... OK * checking package directory ... OK * checking for portable file names ... OK * checking for sufficient/correct file permissions ... OK * checking DESCRIPTION meta-information ... OK * checking top-level files ... OK * checking index information ... OK * checking package subdirectories ... OK * checking R files for syntax errors ... OK * checking R files for library.dynam ... OK * checking S3 generic/method consistency ... OK * checking replacement functions ... OK * checking foreign function calls ... OK * checking Rd files ... OK * checking for missing documentation entries ... OK * checking for code/documentation mismatches ... OK * checking Rd \usage sections ... OK * creating plgem-Ex.R ... OK * checking examples ... OK * checking package vignettes in 'inst/doc' ... OK * creating plgem-manual.tex ... OK * checking plgem-manual.tex ... OK
plgem.Rcheck/00install.out:
* Installing *source* package 'plgem' ...
** R
** data
** inst
** help
>>> Building/Updating help pages for package 'plgem'
Formats: text html latex example
LPSeset text html latex example
plgem.deg text html latex example
plgem.fit text html latex example
plgem.obsStn text html latex example
run.plgem text html latex example
** building package indices ...
* DONE (plgem)