Back to the "Multiple platform build/check report"
| Package 122/172 | OS | Arch | BUILD | CHECK | BUILD BIN |
pgUtils1.4.0Johannes Rainer | Linux (SUSE 9.2) | x86_64 | OK | [ OK ] | |
| Linux (SUSE 9.2) | i686 | OK | OK | ||
| Solaris 2.9 | sparc | OK | OK | ||
| Linux (SUSE 10.0) | x86_64 | OK | OK | ||
| Windows Server 2003 | x86_64 | OK | ERROR | ERROR |
| Package: pgUtils |
| Version: 1.4.0 |
| Command: /loc/biocbuild/1.8d/R/bin/R CMD check pgUtils_1.4.0.tar.gz |
| RetCode: 0 |
| Time: 26.8 seconds |
| Status: OK |
| CheckDir: pgUtils.Rcheck |
| Warnings: 0 |
* checking for working latex ... OK * using log directory '/loc/biocbuild/1.8d/Rpacks/pgUtils.Rcheck' * using Version 2.3.1 (2006-06-01) * checking for file 'pgUtils/DESCRIPTION' ... OK * this is package 'pgUtils' version '1.4.0' * checking package dependencies ... OK * checking if this is a source package ... OK * checking whether package 'pgUtils' can be installed ... OK * checking package directory ... OK * checking for portable file names ... OK * checking for sufficient/correct file permissions ... OK * checking DESCRIPTION meta-information ... OK * checking top-level files ... OK * checking index information ... OK * checking package subdirectories ... OK * checking R files for syntax errors ... OK * checking R files for library.dynam ... OK * checking S3 generic/method consistency ... OK * checking replacement functions ... OK * checking foreign function calls ... OK * checking Rd files ... OK * checking for missing documentation entries ... OK * checking for code/documentation mismatches ... OK * checking Rd \usage sections ... OK * creating pgUtils-Ex.R ... OK * checking examples ... OK * creating pgUtils-manual.tex ... OK * checking pgUtils-manual.tex ... OK
pgUtils.Rcheck/00install.out:
* Installing *source* package 'pgUtils' ...
** R
** inst
** preparing package for lazy loading
Loading required package: Rdbi
Loading required package: RdbiPgSQL
** help
Warning messages:
1: incomplete final line found by readLines on './man/getRefColumn-methods.Rd'
2: incomplete final line found by readLines on './man/getRefTable-methods.Rd'
>>> Building/Updating help pages for package 'pgUtils'
Formats: text html latex example
AutoReference text html latex example
auto.fk.name text html latex example
auto.pk.name text html latex example
auto.pk.seq text html latex example
createDBTable text html latex example
createSequence text html latex
dbColnames text html latex
dbListDatabases text html latex
dbListSequences text html latex
deleteDBEntry text html latex example
do.log text html latex
getRefAttribute-methods text html latex
getRefColumn-methods text html latex
getRefTable-methods text html latex
getSourceAttribute-methods text html latex
getSourceColumn-methods text html latex
insertIntoTable text html latex example
log.file text html latex
log.level text html latex
loggit text html latex example
searchIn text html latex example
updateDBTable text html latex example
** building package indices ...
* DONE (pgUtils)