Back to the "Multiple platform build/check report"
| Package 117/172 | OS | Arch | BUILD | CHECK | BUILD BIN |
pairseqsim1.6.0Witold Wolski | Linux (SUSE 9.2) | x86_64 | OK | [ OK ] | |
| Linux (SUSE 9.2) | i686 | OK | OK | ||
| Solaris 2.9 | sparc | OK | OK | ||
| Linux (SUSE 10.0) | x86_64 | OK | OK | ||
| Windows Server 2003 | x86_64 | OK | OK | OK |
| Package: pairseqsim |
| Version: 1.6.0 |
| Command: /loc/biocbuild/1.8d/R/bin/R CMD check pairseqsim_1.6.0.tar.gz |
| RetCode: 0 |
| Time: 71.1 seconds |
| Status: OK |
| CheckDir: pairseqsim.Rcheck |
| Warnings: 0 |
* checking for working latex ... OK * using log directory '/loc/biocbuild/1.8d/Rpacks/pairseqsim.Rcheck' * using Version 2.3.1 (2006-06-01) * checking for file 'pairseqsim/DESCRIPTION' ... OK * this is package 'pairseqsim' version '1.6.0' * checking package dependencies ... OK * checking if this is a source package ... OK * checking whether package 'pairseqsim' can be installed ... OK * checking package directory ... OK * checking for portable file names ... OK * checking for sufficient/correct file permissions ... OK * checking DESCRIPTION meta-information ... OK * checking top-level files ... OK * checking index information ... OK * checking package subdirectories ... OK * checking R files for syntax errors ... OK * checking R files for library.dynam ... OK * checking S3 generic/method consistency ... OK * checking replacement functions ... OK * checking foreign function calls ... OK * checking Rd files ... OK * checking for missing documentation entries ... OK * checking for code/documentation mismatches ... OK * checking Rd \usage sections ... OK * checking for CRLF line endings in C/C++/Fortran sources/headers ... OK * creating pairseqsim-Ex.R ... OK * checking examples ... OK * checking package vignettes in 'inst/doc' ... OK * creating pairseqsim-manual.tex ... OK * checking pairseqsim-manual.tex ... OK
pairseqsim.Rcheck/00install.out:
* Installing *source* package 'pairseqsim' ...
** libs
gcc -I/loc/biocbuild/1.8d/R/include -I/loc/biocbuild/1.8d/R/include -I/usr/local/include -fpic -g -O2 -std=gnu99 -Wall -c align.c -o align.o
gcc -I/loc/biocbuild/1.8d/R/include -I/loc/biocbuild/1.8d/R/include -I/usr/local/include -fpic -g -O2 -std=gnu99 -Wall -c basic.c -o basic.o
gcc -I/loc/biocbuild/1.8d/R/include -I/loc/biocbuild/1.8d/R/include -I/usr/local/include -fpic -g -O2 -std=gnu99 -Wall -c callalign.c -o callalign.o
gcc -shared -L/usr/local/lib64 -o pairseqsim.so align.o basic.o callalign.o
** R
** data
** inst
** help
>>> Building/Updating help pages for package 'pairseqsim'
Formats: text html latex example
AAAlignment-class text html latex example
AAAlphabet-class text html latex example
AASequence-class text html latex example
AASequence text html latex example
AASequenceList-class text html latex example
EPAM110 text html latex example
Submatrix-class text html latex
listdist-methods text html latex
readFasta-methods text html latex example
salign-methods text html latex example
sequlist text html latex example
testalign-methods text html latex
** building package indices ...
* DONE (pairseqsim)