Back to the "Multiple platform build/check report"
| Package 89/172 | OS | Arch | BUILD | CHECK | BUILD BIN |
maanova1.2.1Lei Wu | Linux (SUSE 9.2) | x86_64 | OK | [ OK ] | |
| Linux (SUSE 9.2) | i686 | OK | OK | ||
| Solaris 2.9 | sparc | OK | OK | ||
| Linux (SUSE 10.0) | x86_64 | OK | OK | ||
| Windows Server 2003 | x86_64 | OK | OK | OK |
| Package: maanova |
| Version: 1.2.1 |
| Command: /loc/biocbuild/1.8d/R/bin/R CMD check maanova_1.2.1.tar.gz |
| RetCode: 0 |
| Time: 37.8 seconds |
| Status: OK |
| CheckDir: maanova.Rcheck |
| Warnings: 0 |
* checking for working latex ... OK * using log directory '/loc/biocbuild/1.8d/Rpacks/maanova.Rcheck' * using Version 2.3.1 (2006-06-01) * checking for file 'maanova/DESCRIPTION' ... OK * this is package 'maanova' version '1.2.1' * checking package dependencies ... OK * checking if this is a source package ... OK * checking whether package 'maanova' can be installed ... OK * checking package directory ... OK * checking for portable file names ... OK * checking for sufficient/correct file permissions ... OK * checking DESCRIPTION meta-information ... OK * checking top-level files ... OK * checking index information ... OK * checking package subdirectories ... OK * checking R files for syntax errors ... OK * checking R files for library.dynam ... OK * checking S3 generic/method consistency ... OK * checking replacement functions ... OK * checking foreign function calls ... OK * checking Rd files ... OK * checking for missing documentation entries ... OK * checking for code/documentation mismatches ... OK * checking Rd \usage sections ... OK * checking for CRLF line endings in C/C++/Fortran sources/headers ... OK * creating maanova-Ex.R ... OK * checking examples ... OK * checking package vignettes in 'inst/doc' ... OK * creating maanova-manual.tex ... OK * checking maanova-manual.tex ... OK
maanova.Rcheck/00install.out:
* Installing *source* package 'maanova' ...
** libs
gcc -I/loc/biocbuild/1.8d/R/include -I/loc/biocbuild/1.8d/R/include -I/usr/local/include -fpic -g -O2 -std=gnu99 -Wall -c makeratio.c -o makeratio.o
gcc -I/loc/biocbuild/1.8d/R/include -I/loc/biocbuild/1.8d/R/include -I/usr/local/include -fpic -g -O2 -std=gnu99 -Wall -c shift.c -o shift.o
shift.c: In function `shift':
shift.c:45: warning: implicit declaration of function `median'
shift.c:26: warning: unused variable `k'
gcc -I/loc/biocbuild/1.8d/R/include -I/loc/biocbuild/1.8d/R/include -I/usr/local/include -fpic -g -O2 -std=gnu99 -Wall -c util.c -o util.o
gcc -shared -L/usr/local/lib64 -o maanova.so makeratio.o shift.o util.o
** R
** data
** demo
** inst
** preparing package for lazy loading
** help
>>> Building/Updating help pages for package 'maanova'
Formats: text html latex example
Rmaanova.version text html latex example
abf1 text html latex example
adjPval text html latex example
arrayview text html latex example
consensus text html latex example
createData text html latex example
dyeswapfilter text html latex example
exprSet2Rawdata text html latex
fill.missing text html latex example
fitmaanova text html latex example
fom text html latex example
geneprofile text html latex example
gridcheck text html latex example
kidney text html latex example
maanova-internal text html latex example
macluster text html latex example
makeModel text html latex example
matest text html latex example
paigen text html latex example
read.madata text html latex example
resiplot text html latex example
riplot text html latex example
subset.madata text html latex example
transform.madata text html latex example
varplot text html latex example
volcano text html latex example
write.madata text html latex example
** building package indices ...
* DONE (maanova)