Back to the "Multiple platform build/check report"
| Package 98/172 | OS | Arch | BUILD | CHECK | BUILD BIN |
maSigPro1.4.0Ana Conesa | Linux (SUSE 9.2) | x86_64 | OK | [ OK ] | |
| Linux (SUSE 9.2) | i686 | OK | OK | ||
| Solaris 2.9 | sparc | OK | OK | ||
| Linux (SUSE 10.0) | x86_64 | OK | OK | ||
| Windows Server 2003 | x86_64 | ERROR | skipped | skipped |
| Package: maSigPro |
| Version: 1.4.0 |
| Command: /loc/biocbuild/1.8d/R/bin/R CMD check maSigPro_1.4.0.tar.gz |
| RetCode: 0 |
| Time: 119.7 seconds |
| Status: OK |
| CheckDir: maSigPro.Rcheck |
| Warnings: 0 |
* checking for working latex ... OK * using log directory '/loc/biocbuild/1.8d/Rpacks/maSigPro.Rcheck' * using Version 2.3.1 (2006-06-01) * checking for file 'maSigPro/DESCRIPTION' ... OK * checking extension type ... Package * this is package 'maSigPro' version '1.4.0' * checking package dependencies ... OK * checking if this is a source package ... OK * checking whether package 'maSigPro' can be installed ... OK * checking package directory ... OK * checking for portable file names ... OK * checking for sufficient/correct file permissions ... OK * checking DESCRIPTION meta-information ... OK * checking top-level files ... OK * checking index information ... OK * checking package subdirectories ... OK * checking R files for syntax errors ... OK * checking R files for library.dynam ... OK * checking S3 generic/method consistency ... OK * checking replacement functions ... OK * checking foreign function calls ... OK * checking Rd files ... OK * checking for missing documentation entries ... OK * checking for code/documentation mismatches ... OK * checking Rd \usage sections ... OK * creating maSigPro-Ex.R ... OK * checking examples ... OK * checking package vignettes in 'inst/doc' ... OK * creating maSigPro-manual.tex ... OK * checking maSigPro-manual.tex ... OK
maSigPro.Rcheck/00install.out:
* Installing *source* package 'maSigPro' ...
** R
** data
** inst
** save image
Loading required package: Biobase
Loading required package: tools
Welcome to Bioconductor
Vignettes contain introductory material. To view, type
'openVignette()' or start with 'help(Biobase)'. For details
on reading vignettes, see the openVignette help page.
** help
Warning messages:
1: incomplete final line found by readLines on './man/PlotGroups.Rd'
2: incomplete final line found by readLines on './man/edesign.abiotic.Rd'
3: incomplete final line found by readLines on './man/get.siggenes.Rd'
4: incomplete final line found by readLines on './man/i.rank.Rd'
5: incomplete final line found by readLines on './man/make.design.matrix.Rd'
6: incomplete final line found by readLines on './man/p.vector.Rd'
7: incomplete final line found by readLines on './man/position.Rd'
8: incomplete final line found by readLines on './man/stepfor.Rd'
9: incomplete final line found by readLines on './man/two.ways.stepfor.Rd'
>>> Building/Updating help pages for package 'maSigPro'
Formats: text html latex example
PlotGroups text html latex example
PlotProfiles text html latex example
T.fit text html latex example
average.rows text html latex example
data.abiotic text html latex example
edesign.OD text html latex example
edesign.abiotic text html latex example
edesignCT text html latex example
edesignDR text html latex example
get.siggenes text html latex example
i.rank text html latex example
maSigPro text html latex example
make.design.matrix text html latex example
p.vector text html latex example
position text html latex example
reg.coeffs text html latex example
see.genes text html latex example
stepback text html latex example
stepfor text html latex example
suma2Venn text html latex example
two.ways.stepback text html latex example
two.ways.stepfor text html latex example
** building package indices ...
* DONE (maSigPro)