Back to the "Multiple platform build/check report"
| Package 77/172 | OS | Arch | BUILD | CHECK | BUILD BIN |
hopach1.6.0Katherine S. Pollard | Linux (SUSE 9.2) | x86_64 | OK | [ OK ] | |
| Linux (SUSE 9.2) | i686 | OK | OK | ||
| Solaris 2.9 | sparc | OK | OK | ||
| Linux (SUSE 10.0) | x86_64 | OK | OK | ||
| Windows Server 2003 | x86_64 | OK | OK | OK |
| Package: hopach |
| Version: 1.6.0 |
| Command: /loc/biocbuild/1.8d/R/bin/R CMD check hopach_1.6.0.tar.gz |
| RetCode: 0 |
| Time: 239.4 seconds |
| Status: OK |
| CheckDir: hopach.Rcheck |
| Warnings: 0 |
* checking for working latex ... OK * using log directory '/loc/biocbuild/1.8d/Rpacks/hopach.Rcheck' * using Version 2.3.1 (2006-06-01) * checking for file 'hopach/DESCRIPTION' ... OK * this is package 'hopach' version '1.6.0' * checking package dependencies ... OK * checking if this is a source package ... OK * checking whether package 'hopach' can be installed ... OK * checking package directory ... OK * checking for portable file names ... OK * checking for sufficient/correct file permissions ... OK * checking DESCRIPTION meta-information ... OK * checking top-level files ... OK * checking index information ... OK * checking package subdirectories ... OK * checking R files for syntax errors ... OK * checking R files for library.dynam ... OK * checking S3 generic/method consistency ... OK * checking replacement functions ... OK * checking foreign function calls ... OK * checking Rd files ... OK * checking for missing documentation entries ... OK * checking for code/documentation mismatches ... OK * checking Rd \usage sections ... OK * creating hopach-Ex.R ... OK * checking examples ... OK * checking package vignettes in 'inst/doc' ... OK * creating hopach-manual.tex ... OK * checking hopach-manual.tex ... OK
hopach.Rcheck/00install.out:
* Installing *source* package 'hopach' ...
** R
** data
** inst
** preparing package for lazy loading
Loading required package: cluster
Loading required package: Biobase
Loading required package: tools
Welcome to Bioconductor
Vignettes contain introductory material. To view, type
'openVignette()' or start with 'help(Biobase)'. For details
on reading vignettes, see the openVignette help page.
** help
>>> Building/Updating help pages for package 'hopach'
Formats: text html latex example
boot2fuzzy text html latex example
bootplot text html latex example
bootstrap text html latex example
correlationordering text html latex example
disscosangle text html latex example
distancematrix text html latex example
dplot text html latex example
golub text html latex
hopach text html latex example
hopach.internal text html latex example
hopach2tree text html latex example
labelstomss text html latex example
makeoutput text html latex example
prune text html latex example
** building package indices ...
* DONE (hopach)