Back to the "Multiple platform build/check report"
| Package 67/172 | OS | Arch | BUILD | CHECK | BUILD BIN |
globaltest4.2.0Jelle Goeman | Linux (SUSE 9.2) | x86_64 | OK | [ OK ] | |
| Linux (SUSE 9.2) | i686 | OK | OK | ||
| Solaris 2.9 | sparc | OK | OK | ||
| Linux (SUSE 10.0) | x86_64 | OK | OK | ||
| Windows Server 2003 | x86_64 | OK | OK | OK |
| Package: globaltest |
| Version: 4.2.0 |
| Command: /loc/biocbuild/1.8d/R/bin/R CMD check globaltest_4.2.0.tar.gz |
| RetCode: 0 |
| Time: 459.7 seconds |
| Status: OK |
| CheckDir: globaltest.Rcheck |
| Warnings: 0 |
* checking for working latex ... OK * using log directory '/loc/biocbuild/1.8d/Rpacks/globaltest.Rcheck' * using Version 2.3.1 (2006-06-01) * checking for file 'globaltest/DESCRIPTION' ... OK * this is package 'globaltest' version '4.2.0' * checking package dependencies ... OK * checking if this is a source package ... OK * checking whether package 'globaltest' can be installed ... OK * checking package directory ... OK * checking for portable file names ... OK * checking for sufficient/correct file permissions ... OK * checking DESCRIPTION meta-information ... OK * checking top-level files ... OK * checking index information ... OK * checking package subdirectories ... OK * checking R files for syntax errors ... OK * checking R files for library.dynam ... OK * checking S3 generic/method consistency ... OK * checking replacement functions ... OK * checking foreign function calls ... OK * checking Rd files ... OK * checking for missing documentation entries ... OK * checking for code/documentation mismatches ... OK * checking Rd \usage sections ... OK * creating globaltest-Ex.R ... OK * checking examples ... OK * checking package vignettes in 'inst/doc' ... OK * creating globaltest-manual.tex ... OK * checking globaltest-manual.tex ... OK
globaltest.Rcheck/00install.out:
* Installing *source* package 'globaltest' ...
** R
** data
** inst
** save image
Loading required package: multtest
Loading required package: Biobase
Loading required package: tools
Welcome to Bioconductor
Vignettes contain introductory material. To view, type
'openVignette()' or start with 'help(Biobase)'. For details
on reading vignettes, see the openVignette help page.
Loading required package: survival
Loading required package: splines
Creating a new generic function for 'fitted.values' in 'globaltest'
Creating a new generic function for 'residuals' in 'globaltest'
** help
>>> Building/Updating help pages for package 'globaltest'
Formats: text html latex example
annotation.vandeVijver text html latex
checkerboard text html latex example
geneplot text html latex example
globaltest text html latex example
gt.barplot-class text html latex
gt.result-class text html latex
mlogit text html latex example
multtest text html latex example
permutations text html latex example
regressionplot text html latex example
sampleplot text html latex example
sampling text html latex example
vandeVijver text html latex
** building package indices ...
* DONE (globaltest)