Back to the "Multiple platform build/check report"
| Package 47/172 | OS | Arch | BUILD | CHECK | BUILD BIN |
edd1.10.1Vince Carey | Linux (SUSE 9.2) | x86_64 | OK | [ OK ] | |
| Linux (SUSE 9.2) | i686 | OK | OK | ||
| Solaris 2.9 | sparc | OK | OK | ||
| Linux (SUSE 10.0) | x86_64 | OK | OK | ||
| Windows Server 2003 | x86_64 | OK | OK | OK |
| Package: edd |
| Version: 1.10.1 |
| Command: /loc/biocbuild/1.8d/R/bin/R CMD check edd_1.10.1.tar.gz |
| RetCode: 0 |
| Time: 211.6 seconds |
| Status: OK |
| CheckDir: edd.Rcheck |
| Warnings: 0 |
* checking for working latex ... OK * using log directory '/loc/biocbuild/1.8d/Rpacks/edd.Rcheck' * using Version 2.3.1 (2006-06-01) * checking for file 'edd/DESCRIPTION' ... OK * this is package 'edd' version '1.10.1' * checking package dependencies ... OK * checking if this is a source package ... OK * checking whether package 'edd' can be installed ... OK * checking package directory ... OK * checking for portable file names ... OK * checking for sufficient/correct file permissions ... OK * checking DESCRIPTION meta-information ... OK * checking top-level files ... OK * checking index information ... OK * checking package subdirectories ... OK * checking R files for syntax errors ... OK * checking R files for library.dynam ... OK * checking S3 generic/method consistency ... OK * checking replacement functions ... OK * checking foreign function calls ... OK * checking Rd files ... OK * checking for missing documentation entries ... OK * checking for code/documentation mismatches ... OK * checking Rd \usage sections ... OK * creating edd-Ex.R ... OK * checking examples ... OK * checking package vignettes in 'inst/doc' ... OK * creating edd-manual.tex ... OK * checking edd-manual.tex ... OK
edd.Rcheck/00install.out:
* Installing *source* package 'edd' ...
** R
** inst
** save image
Loading required package: golubEsets
Loading required package: Biobase
Loading required package: tools
Welcome to Bioconductor
Vignettes contain introductory material. To view, type
'openVignette()' or start with 'help(Biobase)'. For details
on reading vignettes, see the openVignette help page.
Loading required package: Biobase
Loading required package: class
Loading required package: nnet
Loading required package: xtable
** help
>>> Building/Updating help pages for package 'edd'
Formats: text html latex example
centerScale text html latex example
edd text html latex example
eddDist-class text html latex example
eddObsolete text html latex example
flatQQNorm text html latex example
latEDtable text html latex example
makeCandmat.raw text html latex example
maxKSp text html latex example
plotED text html latex example
** building package indices ...
* DONE (edd)