Back to the "Multiple platform build/check report"
| Package 18/172 | OS | Arch | BUILD | CHECK | BUILD BIN |
applera1.2.0Francesca Cordero | Linux (SUSE 9.2) | x86_64 | OK | [ OK ] | |
| Linux (SUSE 9.2) | i686 | OK | OK | ||
| Solaris 2.9 | sparc | OK | OK | ||
| Linux (SUSE 10.0) | x86_64 | OK | OK | ||
| Windows Server 2003 | x86_64 | OK | OK | OK |
| Package: applera |
| Version: 1.2.0 |
| Command: /loc/biocbuild/1.8d/R/bin/R CMD check applera_1.2.0.tar.gz |
| RetCode: 0 |
| Time: 139.0 seconds |
| Status: OK |
| CheckDir: applera.Rcheck |
| Warnings: 0 |
* checking for working latex ... OK * using log directory '/loc/biocbuild/1.8d/Rpacks/applera.Rcheck' * using Version 2.3.1 (2006-06-01) * checking for file 'applera/DESCRIPTION' ... OK * this is package 'applera' version '1.2.0' * checking package dependencies ... OK * checking if this is a source package ... OK * checking whether package 'applera' can be installed ... OK * checking package directory ... OK * checking for portable file names ... OK * checking for sufficient/correct file permissions ... OK * checking DESCRIPTION meta-information ... OK * checking top-level files ... OK * checking index information ... OK * checking package subdirectories ... OK * checking R files for syntax errors ... OK * checking R files for library.dynam ... OK * checking S3 generic/method consistency ... OK * checking replacement functions ... OK * checking foreign function calls ... OK * checking Rd files ... OK * checking for missing documentation entries ... OK * checking for code/documentation mismatches ... OK * checking Rd \usage sections ... OK * creating applera-Ex.R ... OK * checking examples ... OK * checking package vignettes in 'inst/doc' ... OK * creating applera-manual.tex ... OK * checking applera-manual.tex ... OK
applera.Rcheck/00install.out:
* Installing *source* package 'applera' ...
** R
** data
** inst
** preparing package for lazy loading
Loading required package: Biobase
Loading required package: tools
Welcome to Bioconductor
Vignettes contain introductory material. To view, type
'openVignette()' or start with 'help(Biobase)'. For details
on reading vignettes, see the openVignette help page.
Loading required package: affy
Loading required package: affyio
Loading required package: genefilter
Loading required package: survival
Loading required package: splines
Loading required package: limma
Loading required package: geneplotter
Loading required package: annotate
KernSmooth 2.22 installed
Copyright M. P. Wand 1997
Loading required package: RColorBrewer
Loading required package: prada
Loading required package: grid
Loading required package: combinat
** help
>>> Building/Updating help pages for package 'applera'
Formats: text html latex example
CATPlots text html latex example
applera text html latex example
optFilter text html latex example
readAp text html latex example
test text html latex example
** building package indices ...
* DONE (applera)