Back to the "Multiple platform build/check report"
| Package 17/172 | OS | Arch | BUILD | CHECK | BUILD BIN |
apComplex1.6.0Denise Scholtens | Linux (SUSE 9.2) | x86_64 | OK | [ OK ] | |
| Linux (SUSE 9.2) | i686 | OK | OK | ||
| Solaris 2.9 | sparc | OK | OK | ||
| Linux (SUSE 10.0) | x86_64 | OK | OK | ||
| Windows Server 2003 | x86_64 | OK | OK | OK |
| Package: apComplex |
| Version: 1.6.0 |
| Command: /loc/biocbuild/1.8d/R/bin/R CMD check apComplex_1.6.0.tar.gz |
| RetCode: 0 |
| Time: 76.8 seconds |
| Status: OK |
| CheckDir: apComplex.Rcheck |
| Warnings: 0 |
* checking for working latex ... OK * using log directory '/loc/biocbuild/1.8d/Rpacks/apComplex.Rcheck' * using Version 2.3.1 (2006-06-01) * checking for file 'apComplex/DESCRIPTION' ... OK * this is package 'apComplex' version '1.6.0' * checking package dependencies ... OK * checking if this is a source package ... OK * checking whether package 'apComplex' can be installed ... OK * checking package directory ... OK * checking for portable file names ... OK * checking for sufficient/correct file permissions ... OK * checking DESCRIPTION meta-information ... OK * checking top-level files ... OK * checking index information ... OK * checking package subdirectories ... OK * checking R files for syntax errors ... OK * checking R files for library.dynam ... OK * checking S3 generic/method consistency ... OK * checking replacement functions ... OK * checking foreign function calls ... OK * checking Rd files ... OK * checking for missing documentation entries ... OK * checking for code/documentation mismatches ... OK * checking Rd \usage sections ... OK * creating apComplex-Ex.R ... OK * checking examples ... OK * checking package vignettes in 'inst/doc' ... OK * creating apComplex-manual.tex ... OK * checking apComplex-manual.tex ... OK
apComplex.Rcheck/00install.out:
* Installing *source* package 'apComplex' ...
** R
** data
** inst
** help
Warning message:
incomplete final line found by readLines on './man/yNameTAP.Rd'
>>> Building/Updating help pages for package 'apComplex'
Formats: text html latex example
HMSPCI text html latex example
Krogan text html latex example
LCdelta text html latex example
MBMEcHMSPCI text html latex example
MBMEcKrogan text html latex example
MBMEcTAP text html latex example
TAP text html latex example
apEX text html latex example
bhmaxSubgraph text html latex example
findComplexes text html latex example
mergeComplexes text html latex example
reduceMat text html latex example
sortComplexes text html latex example
vecInMat text html latex example
yNameTAP text html latex example
yTAP text html latex example
** building package indices ...
* DONE (apComplex)