Back to the "Multiple platform build/check report"
| Package 5/172 | OS | Arch | BUILD | CHECK | BUILD BIN |
affycomp1.8.0Rafael A. Irizarry | Linux (SUSE 9.2) | x86_64 | OK | [ OK ] | |
| Linux (SUSE 9.2) | i686 | OK | OK | ||
| Solaris 2.9 | sparc | OK | OK | ||
| Linux (SUSE 10.0) | x86_64 | OK | OK | ||
| Windows Server 2003 | x86_64 | OK | OK | OK |
| Package: affycomp |
| Version: 1.8.0 |
| Command: /loc/biocbuild/1.8d/R/bin/R CMD check affycomp_1.8.0.tar.gz |
| RetCode: 0 |
| Time: 134.2 seconds |
| Status: OK |
| CheckDir: affycomp.Rcheck |
| Warnings: 0 |
* checking for working latex ... OK * using log directory '/loc/biocbuild/1.8d/Rpacks/affycomp.Rcheck' * using Version 2.3.1 (2006-06-01) * checking for file 'affycomp/DESCRIPTION' ... OK * this is package 'affycomp' version '1.8.0' * checking package dependencies ... OK * checking if this is a source package ... OK * checking whether package 'affycomp' can be installed ... OK * checking package directory ... OK * checking for portable file names ... OK * checking for sufficient/correct file permissions ... OK * checking DESCRIPTION meta-information ... OK * checking top-level files ... OK * checking index information ... OK * checking package subdirectories ... OK * checking R files for syntax errors ... OK * checking R files for library.dynam ... OK * checking S3 generic/method consistency ... OK * checking replacement functions ... OK * checking foreign function calls ... OK * checking Rd files ... OK * checking for missing documentation entries ... OK * checking for code/documentation mismatches ... OK * checking Rd \usage sections ... OK * creating affycomp-Ex.R ... OK * checking examples ... OK * checking package vignettes in 'inst/doc' ... OK * creating affycomp-manual.tex ... OK * checking affycomp-manual.tex ... OK
affycomp.Rcheck/00install.out:
* Installing *source* package 'affycomp' ...
** R
** data
** inst
** preparing package for lazy loading
Loading required package: Biobase
Loading required package: tools
Welcome to Bioconductor
Vignettes contain introductory material. To view, type
'openVignette()' or start with 'help(Biobase)'. For details
on reading vignettes, see the openVignette help page.
** help
>>> Building/Updating help pages for package 'affycomp'
Formats: text html latex example
SD text html latex example
affycomp.compfigs.auxiliary text html latex example
affycomp.figures.auxiliary text html latex example
affycomp.table text html latex example
affycompPlot text html latex example
assessAll text html latex
assessDilution text html latex
assessSD text html latex
assessSpikeIn text html latex
assessSpikeIn2 text html latex
dilution.phenodata text html latex
exprset.log text html latex
hgu133a.spikein.phenodata text html latex
lw.sd.assessment text html latex
mas5.assessment text html latex
readin text html latex
remove.hgu133a.xhyb text html latex
rma.assessment text html latex
rma.sd.assessment text html latex
spikein.phenodata text html latex
xhyb text html latex
** building package indices ...
* DONE (affycomp)