Back to the "Multiple platform build/check report"
| Package 2/172 | OS | Arch | BUILD | CHECK | BUILD BIN |
adSplit1.2.0Claudio Lottaz | Linux (SUSE 9.2) | x86_64 | OK | [ OK ] | |
| Linux (SUSE 9.2) | i686 | OK | OK | ||
| Solaris 2.9 | sparc | OK | OK | ||
| Linux (SUSE 10.0) | x86_64 | OK | OK | ||
| Windows Server 2003 | x86_64 | OK | OK | OK |
| Package: adSplit |
| Version: 1.2.0 |
| Command: /loc/biocbuild/1.8d/R/bin/R CMD check adSplit_1.2.0.tar.gz |
| RetCode: 0 |
| Time: 246.8 seconds |
| Status: OK |
| CheckDir: adSplit.Rcheck |
| Warnings: 0 |
* checking for working latex ... OK * using log directory '/loc/biocbuild/1.8d/Rpacks/adSplit.Rcheck' * using Version 2.3.1 (2006-06-01) * checking for file 'adSplit/DESCRIPTION' ... OK * this is package 'adSplit' version '1.2.0' * checking package dependencies ... OK * checking if this is a source package ... OK * checking whether package 'adSplit' can be installed ... OK * checking package directory ... OK * checking for portable file names ... OK * checking for sufficient/correct file permissions ... OK * checking DESCRIPTION meta-information ... OK * checking top-level files ... OK * checking index information ... OK * checking package subdirectories ... OK * checking R files for syntax errors ... OK * checking R files for library.dynam ... OK * checking S3 generic/method consistency ... OK * checking replacement functions ... OK * checking foreign function calls ... OK * checking Rd files ... OK * checking for missing documentation entries ... OK * checking for code/documentation mismatches ... OK * checking Rd \usage sections ... OK * checking for CRLF line endings in C/C++/Fortran sources/headers ... OK * creating adSplit-Ex.R ... OK * checking examples ... OK * checking package vignettes in 'inst/doc' ... OK * creating adSplit-manual.tex ... OK * checking adSplit-manual.tex ... OK
adSplit.Rcheck/00install.out:
* Installing *source* package 'adSplit' ...
** libs
g++ -I/loc/biocbuild/1.8d/R/include -I/loc/biocbuild/1.8d/R/include -I/usr/local/include -fpic -g -O2 -Wall -c adSplit.cpp -o adSplit.o
g++ -shared -L/usr/local/lib64 -o adSplit.so adSplit.o
** R
** data
** inst
** save image
Loading required package: cluster
Loading required package: multtest
Loading required package: Biobase
Loading required package: tools
Welcome to Bioconductor
Vignettes contain introductory material. To view, type
'openVignette()' or start with 'help(Biobase)'. For details
on reading vignettes, see the openVignette help page.
Loading required package: survival
Loading required package: splines
Loading required package: Biobase
Loading required package: affy
Loading required package: affyio
Loading required package: GO
Loading required package: KEGG
** help
>>> Building/Updating help pages for package 'adSplit'
Formats: text html latex example
adSplit-internal text html latex
adSplit text html latex example
diana2means text html latex example
drawRandomPS text html latex example
golubKEGGSplits text html latex example
hist.splitSet text html latex example
image.splitSet text html latex example
makeLID2PROBESenv text html latex example
print.split text html latex
print.splitSet text html latex example
randomDiana2means text html latex example
** building package indices ...
* DONE (adSplit)