Back to the "Multiple platform build/check report"
| Package 127/172 | OS | Arch | BUILD | CHECK | BUILD BIN |
PROcess1.8.0Xiaochun Li | Linux (SUSE 9.2) | x86_64 | OK | [ OK ] | |
| Linux (SUSE 9.2) | i686 | OK | OK | ||
| Solaris 2.9 | sparc | OK | OK | ||
| Linux (SUSE 10.0) | x86_64 | OK | OK | ||
| Windows Server 2003 | x86_64 | OK | OK | OK |
| Package: PROcess |
| Version: 1.8.0 |
| Command: /loc/biocbuild/1.8d/R/bin/R CMD check PROcess_1.8.0.tar.gz |
| RetCode: 0 |
| Time: 213.4 seconds |
| Status: OK |
| CheckDir: PROcess.Rcheck |
| Warnings: 0 |
* checking for working latex ... OK * using log directory '/loc/biocbuild/1.8d/Rpacks/PROcess.Rcheck' * using Version 2.3.1 (2006-06-01) * checking for file 'PROcess/DESCRIPTION' ... OK * this is package 'PROcess' version '1.8.0' * checking package dependencies ... OK * checking if this is a source package ... OK * checking whether package 'PROcess' can be installed ... OK * checking package directory ... OK * checking for portable file names ... OK * checking for sufficient/correct file permissions ... OK * checking DESCRIPTION meta-information ... OK * checking top-level files ... OK * checking index information ... OK * checking package subdirectories ... OK * checking R files for syntax errors ... OK * checking R files for library.dynam ... OK * checking S3 generic/method consistency ... OK * checking replacement functions ... OK * checking foreign function calls ... OK * checking Rd files ... OK * checking for missing documentation entries ... OK * checking for code/documentation mismatches ... OK * checking Rd \usage sections ... OK * creating PROcess-Ex.R ... OK * checking examples ... OK * checking package vignettes in 'inst/doc' ... OK * creating PROcess-manual.tex ... OK * checking PROcess-manual.tex ... OK
PROcess.Rcheck/00install.out:
* Installing *source* package 'PROcess' ...
** R
** inst
** save image
Loading required package: Icens
Loading required package: survival
Loading required package: splines
** help
>>> Building/Updating help pages for package 'PROcess'
Formats: text html latex example
align text html latex
aveSpec text html latex example
avesd text html latex
binning text html latex
bslnoff text html latex example
gelmap text html latex
getMzs text html latex
getPeaks text html latex example
getPeaks2 text html latex
intg text html latex example
is.multiple text html latex example
isPeak text html latex example
lnn text html latex
peaks text html latex example
pk2bmkr text html latex example
quality text html latex example
read.files text html latex
renorm text html latex example
rmBaseline text html latex example
specZoom text html latex example
** building package indices ...
* DONE (PROcess)