Back to the "Multiple platform build/check report"
| Package 105/172 | OS | Arch | BUILD | CHECK | BUILD BIN |
MiPP1.4.0HyungJun Cho | Linux (SUSE 9.2) | x86_64 | OK | [ OK ] | |
| Linux (SUSE 9.2) | i686 | OK | OK | ||
| Solaris 2.9 | sparc | OK | OK | ||
| Linux (SUSE 10.0) | x86_64 | OK | OK | ||
| Windows Server 2003 | x86_64 | OK | OK | OK |
| Package: MiPP |
| Version: 1.4.0 |
| Command: /loc/biocbuild/1.8d/R/bin/R CMD check MiPP_1.4.0.tar.gz |
| RetCode: 0 |
| Time: 488.3 seconds |
| Status: OK |
| CheckDir: MiPP.Rcheck |
| Warnings: 0 |
* checking for working latex ... OK * using log directory '/loc/biocbuild/1.8d/Rpacks/MiPP.Rcheck' * using Version 2.3.1 (2006-06-01) * checking for file 'MiPP/DESCRIPTION' ... OK * this is package 'MiPP' version '1.4.0' * checking package dependencies ... OK * checking if this is a source package ... OK * checking whether package 'MiPP' can be installed ... OK * checking package directory ... OK * checking for portable file names ... OK * checking for sufficient/correct file permissions ... OK * checking DESCRIPTION meta-information ... OK * checking top-level files ... OK * checking index information ... OK * checking package subdirectories ... OK * checking R files for syntax errors ... OK * checking R files for library.dynam ... OK * checking S3 generic/method consistency ... OK * checking replacement functions ... OK * checking foreign function calls ... OK * checking Rd files ... OK * checking for missing documentation entries ... OK * checking for code/documentation mismatches ... OK * checking Rd \usage sections ... OK * creating MiPP-Ex.R ... OK * checking examples ... OK * checking package vignettes in 'inst/doc' ... OK * creating MiPP-manual.tex ... OK * checking MiPP-manual.tex ... OK
MiPP.Rcheck/00install.out:
* Installing *source* package 'MiPP' ...
** R
** data
** inst
** preparing package for lazy loading
Loading required package: Biobase
Loading required package: tools
Welcome to Bioconductor
Vignettes contain introductory material. To view, type
'openVignette()' or start with 'help(Biobase)'. For details
on reading vignettes, see the openVignette help page.
Loading required package: e1071
Loading required package: class
** help
>>> Building/Updating help pages for package 'MiPP'
Formats: text html latex example
colon text html latex
cv.mipp.rule text html latex
get.mipp text html latex
get.mipp.lda text html latex
get.mipp.logistic text html latex
get.mipp.qda text html latex
get.mipp.svm.linear text html latex
get.mipp.svm.rbf text html latex
leuk1 text html latex
leuk2 text html latex
leukemia text html latex
linearkernel.decision.function text html latex
mipp text html latex example
mipp.preproc text html latex example
mipp.rule text html latex
mipp.seq text html latex example
pre.select text html latex
quant.normal text html latex
quant.normal2 text html latex
rbfkernel.decision.function text html latex
** building package indices ...
* DONE (MiPP)