Back to the "Multiple platform build/check report"
| Package 75/172 | OS | Arch | BUILD | CHECK | BUILD BIN |
HEM1.4.0HyungJun Cho | Linux (SUSE 9.2) | x86_64 | OK | [ OK ] | |
| Linux (SUSE 9.2) | i686 | OK | OK | ||
| Solaris 2.9 | sparc | OK | OK | ||
| Linux (SUSE 10.0) | x86_64 | OK | OK | ||
| Windows Server 2003 | x86_64 | OK | OK | OK |
| Package: HEM |
| Version: 1.4.0 |
| Command: /loc/biocbuild/1.8d/R/bin/R CMD check HEM_1.4.0.tar.gz |
| RetCode: 0 |
| Time: 45.4 seconds |
| Status: OK |
| CheckDir: HEM.Rcheck |
| Warnings: 0 |
* checking for working latex ... OK * using log directory '/loc/biocbuild/1.8d/Rpacks/HEM.Rcheck' * using Version 2.3.1 (2006-06-01) * checking for file 'HEM/DESCRIPTION' ... OK * this is package 'HEM' version '1.4.0' * checking package dependencies ... OK * checking if this is a source package ... OK * checking whether package 'HEM' can be installed ... OK * checking package directory ... OK * checking for portable file names ... OK * checking for sufficient/correct file permissions ... OK * checking DESCRIPTION meta-information ... OK * checking top-level files ... OK * checking index information ... OK * checking package subdirectories ... OK * checking R files for syntax errors ... OK * checking R files for library.dynam ... OK * checking S3 generic/method consistency ... OK * checking replacement functions ... OK * checking foreign function calls ... OK * checking Rd files ... OK * checking for missing documentation entries ... OK * checking for code/documentation mismatches ... OK * checking Rd \usage sections ... OK * checking for CRLF line endings in C/C++/Fortran sources/headers ... OK * creating HEM-Ex.R ... OK * checking examples ... OK * checking package vignettes in 'inst/doc' ... OK * creating HEM-manual.tex ... OK * checking HEM-manual.tex ... OK
HEM.Rcheck/00install.out:
* Installing *source* package 'HEM' ...
** libs
gcc -I/loc/biocbuild/1.8d/R/include -I/loc/biocbuild/1.8d/R/include -I/usr/local/include -fpic -g -O2 -std=gnu99 -Wall -c hem.c -o hem.o
gcc -shared -L/usr/local/lib64 -o HEM.so hem.o
** R
** data
** inst
** preparing package for lazy loading
Loading required package: Biobase
Loading required package: tools
Welcome to Bioconductor
Vignettes contain introductory material. To view, type
'openVignette()' or start with 'help(Biobase)'. For details
on reading vignettes, see the openVignette help page.
** help
>>> Building/Updating help pages for package 'HEM'
Formats: text html latex example
am.tran text html latex
am.tran.half text html latex
base.ASE.Olig text html latex
base.PSE.Olig text html latex
base.error.Olig text html latex
base.error.Olig.quanOnly text html latex
boot.base.ASE.Olig text html latex
boot.base.PSE.Olig text html latex
boot.base.error.Olig text html latex
fixbound.predict.smooth.spline text html latex
hem text html latex example
hem.eb.prior text html latex example
hem.fdr text html latex example
hem.null.no text html latex
hem.null.one text html latex
hem.null.two text html latex
hem.preproc text html latex example
mubcp text html latex
nonpar.error.Olig text html latex
nonpar.no.error.Olig text html latex
nonpar.rep.error.Olig text html latex
par.error.Olig text html latex
par.no.error.Olig text html latex
par.rep.error.Olig text html latex
pbrain text html latex
permut text html latex
quant.norm text html latex
quant.normal text html latex
quant.normal2 text html latex
quant.normalize text html latex
remove.sig.genes text html latex
** building package indices ...
* DONE (HEM)