Back to the "Multiple platform build/check report"
| Package 66/172 | OS | Arch | BUILD | CHECK | BUILD BIN |
GlobalAncova2.2.0R. Meister | Linux (SUSE 9.2) | x86_64 | OK | [ OK ] | |
| Linux (SUSE 9.2) | i686 | OK | OK | ||
| Solaris 2.9 | sparc | OK | OK | ||
| Linux (SUSE 10.0) | x86_64 | OK | OK | ||
| Windows Server 2003 | x86_64 | OK | OK | OK |
| Package: GlobalAncova |
| Version: 2.2.0 |
| Command: /loc/biocbuild/1.8d/R/bin/R CMD check GlobalAncova_2.2.0.tar.gz |
| RetCode: 0 |
| Time: 671.1 seconds |
| Status: OK |
| CheckDir: GlobalAncova.Rcheck |
| Warnings: 0 |
* checking for working latex ... OK * using log directory '/loc/biocbuild/1.8d/Rpacks/GlobalAncova.Rcheck' * using Version 2.3.1 (2006-06-01) * checking for file 'GlobalAncova/DESCRIPTION' ... OK * this is package 'GlobalAncova' version '2.2.0' * checking package dependencies ... OK * checking if this is a source package ... OK * checking whether package 'GlobalAncova' can be installed ... OK * checking package directory ... OK * checking for portable file names ... OK * checking for sufficient/correct file permissions ... OK * checking DESCRIPTION meta-information ... OK * checking top-level files ... OK * checking index information ... OK * checking package subdirectories ... OK * checking R files for syntax errors ... OK * checking R files for library.dynam ... OK * checking S3 generic/method consistency ... OK * checking replacement functions ... OK * checking foreign function calls ... OK * checking Rd files ... OK * checking for missing documentation entries ... OK * checking for code/documentation mismatches ... OK * checking Rd \usage sections ... OK * creating GlobalAncova-Ex.R ... OK * checking examples ... OK * checking package vignettes in 'inst/doc' ... OK * creating GlobalAncova-manual.tex ... OK * checking GlobalAncova-manual.tex ... OK
GlobalAncova.Rcheck/00install.out:
* Installing *source* package 'GlobalAncova' ...
** R
** data
** inst
** preparing package for lazy loading
** help
>>> Building/Updating help pages for package 'GlobalAncova'
Formats: text html latex example
GlobalAncova-methods text html latex
GlobalAncova text html latex example
GlobalAncova.closed-methods text html latex
GlobalAncova.closed text html latex
Plot.genes-methods text html latex
Plot.genes text html latex example
Plot.subjects-methods text html latex
Plot.subjects text html latex example
pathways text html latex example
phenodata text html latex example
vantVeer text html latex example
** building package indices ...
* DONE (GlobalAncova)