Back to the "Multiple platform build/check report"
| Package 57/172 | OS | Arch | BUILD | CHECK | BUILD BIN |
GeneR2.2.1Y. d'Aubenton-Carafa | Linux (SUSE 9.2) | x86_64 | OK | [ OK ] | |
| Linux (SUSE 9.2) | i686 | OK | OK | ||
| Solaris 2.9 | sparc | OK | OK | ||
| Linux (SUSE 10.0) | x86_64 | OK | OK | ||
| Windows Server 2003 | x86_64 | OK | OK | OK |
| Package: GeneR |
| Version: 2.2.1 |
| Command: /loc/biocbuild/1.8d/R/bin/R CMD check GeneR_2.2.1.tar.gz |
| RetCode: 0 |
| Time: 75.8 seconds |
| Status: OK |
| CheckDir: GeneR.Rcheck |
| Warnings: 0 |
* checking for working latex ... OK * using log directory '/loc/biocbuild/1.8d/Rpacks/GeneR.Rcheck' * using Version 2.3.1 (2006-06-01) * checking for file 'GeneR/DESCRIPTION' ... OK * this is package 'GeneR' version '2.2.1' * checking package dependencies ... OK * checking if this is a source package ... OK * checking whether package 'GeneR' can be installed ... OK * checking package directory ... OK * checking for portable file names ... OK * checking for sufficient/correct file permissions ... OK * checking DESCRIPTION meta-information ... OK * checking top-level files ... OK * checking index information ... OK * checking package subdirectories ... OK * checking R files for syntax errors ... OK * checking R files for library.dynam ... OK * checking S3 generic/method consistency ... OK * checking replacement functions ... OK * checking foreign function calls ... OK * checking Rd files ... OK * checking for missing documentation entries ... OK * checking for code/documentation mismatches ... OK * checking Rd \usage sections ... OK * checking for CRLF line endings in C/C++/Fortran sources/headers ... OK * creating GeneR-Ex.R ... OK * checking examples ... OK * checking package vignettes in 'inst/doc' ... OK * creating GeneR-manual.tex ... OK * checking GeneR-manual.tex ... OK
GeneR.Rcheck/00install.out:
* Installing *source* package 'GeneR' ...
** libs
g++ -I/loc/biocbuild/1.8d/R/include -I/loc/biocbuild/1.8d/R/include -I/usr/local/include -fpic -g -O2 -Wall -c complementaire.cc -o complementaire.o
g++ -I/loc/biocbuild/1.8d/R/include -I/loc/biocbuild/1.8d/R/include -I/usr/local/include -fpic -g -O2 -Wall -c compoSeq.cc -o compoSeq.o
g++ -I/loc/biocbuild/1.8d/R/include -I/loc/biocbuild/1.8d/R/include -I/usr/local/include -fpic -g -O2 -Wall -c dnaRna.cc -o dnaRna.o
g++ -I/loc/biocbuild/1.8d/R/include -I/loc/biocbuild/1.8d/R/include -I/usr/local/include -fpic -g -O2 -Wall -c GeneR_glob.cc -o GeneR_glob.o
g++ -I/loc/biocbuild/1.8d/R/include -I/loc/biocbuild/1.8d/R/include -I/usr/local/include -fpic -g -O2 -Wall -c GeneR_seq.cc -o GeneR_seq.o
g++ -I/loc/biocbuild/1.8d/R/include -I/loc/biocbuild/1.8d/R/include -I/usr/local/include -fpic -g -O2 -Wall -c GeneR_strcasestr.cc -o GeneR_strcasestr.o
g++ -I/loc/biocbuild/1.8d/R/include -I/loc/biocbuild/1.8d/R/include -I/usr/local/include -fpic -g -O2 -Wall -c libIndex.cc -o libIndex.o
g++ -I/loc/biocbuild/1.8d/R/include -I/loc/biocbuild/1.8d/R/include -I/usr/local/include -fpic -g -O2 -Wall -c libStrings.cc -o libStrings.o
g++ -I/loc/biocbuild/1.8d/R/include -I/loc/biocbuild/1.8d/R/include -I/usr/local/include -fpic -g -O2 -Wall -c makeIndex.cc -o makeIndex.o
g++ -I/loc/biocbuild/1.8d/R/include -I/loc/biocbuild/1.8d/R/include -I/usr/local/include -fpic -g -O2 -Wall -c masked.cc -o masked.o
g++ -I/loc/biocbuild/1.8d/R/include -I/loc/biocbuild/1.8d/R/include -I/usr/local/include -fpic -g -O2 -Wall -c misc.cc -o misc.o
misc.cc: In function `SEXPREC* str_to_nbstr(SEXPREC*, SEXPREC*)':
misc.cc:30: warning: `SEXPREC*ans' might be used uninitialized in this function
misc.cc:31: warning: `int multiple' might be used uninitialized in this
function
g++ -I/loc/biocbuild/1.8d/R/include -I/loc/biocbuild/1.8d/R/include -I/usr/local/include -fpic -g -O2 -Wall -c readEmblDescript.cc -o readEmblDescript.o
g++ -I/loc/biocbuild/1.8d/R/include -I/loc/biocbuild/1.8d/R/include -I/usr/local/include -fpic -g -O2 -Wall -c readIndex.cc -o readIndex.o
g++ -I/loc/biocbuild/1.8d/R/include -I/loc/biocbuild/1.8d/R/include -I/usr/local/include -fpic -g -O2 -Wall -c readLocation.cc -o readLocation.o
g++ -I/loc/biocbuild/1.8d/R/include -I/loc/biocbuild/1.8d/R/include -I/usr/local/include -fpic -g -O2 -Wall -c readSeqEmbl.cc -o readSeqEmbl.o
g++ -I/loc/biocbuild/1.8d/R/include -I/loc/biocbuild/1.8d/R/include -I/usr/local/include -fpic -g -O2 -Wall -c readSeqFasta.cc -o readSeqFasta.o
g++ -I/loc/biocbuild/1.8d/R/include -I/loc/biocbuild/1.8d/R/include -I/usr/local/include -fpic -g -O2 -Wall -c readSeqGbk.cc -o readSeqGbk.o
g++ -I/loc/biocbuild/1.8d/R/include -I/loc/biocbuild/1.8d/R/include -I/usr/local/include -fpic -g -O2 -Wall -c seqManip.cc -o seqManip.o
g++ -I/loc/biocbuild/1.8d/R/include -I/loc/biocbuild/1.8d/R/include -I/usr/local/include -fpic -g -O2 -Wall -c translate.cc -o translate.o
g++ -I/loc/biocbuild/1.8d/R/include -I/loc/biocbuild/1.8d/R/include -I/usr/local/include -fpic -g -O2 -Wall -c upperSeq.cc -o upperSeq.o
g++ -I/loc/biocbuild/1.8d/R/include -I/loc/biocbuild/1.8d/R/include -I/usr/local/include -fpic -g -O2 -Wall -c vecteurs.cc -o vecteurs.o
g++ -I/loc/biocbuild/1.8d/R/include -I/loc/biocbuild/1.8d/R/include -I/usr/local/include -fpic -g -O2 -Wall -c writeFasta.cc -o writeFasta.o
g++ -shared -L/usr/local/lib64 -o GeneR.so complementaire.o compoSeq.o dnaRna.o GeneR_glob.o GeneR_seq.o GeneR_strcasestr.o libIndex.o libStrings.o makeIndex.o masked.o misc.o readEmblDescript.o readIndex.o readLocation.o readSeqEmbl.o readSeqFasta.o readSeqGbk.o seqManip.o translate.o upperSeq.o vecteurs.o writeFasta.o
** R
** demo
** inst
** preparing package for lazy loading
** help
>>> Building/Updating help pages for package 'GeneR'
Formats: text html latex example
01GeneR text html latex example
02globalSeg text html latex example
02globals text html latex example
Allorf text html latex example
AtoR text html latex example
Match text html latex example
Xor.globalSeg text html latex example
Xor.segSet text html latex example
and.globalSeg text html latex example
and.segSet text html latex example
appendSeq text html latex example
as.globalSeg text html latex
as.segSet text html latex
assemble text html latex example
bankDensityProfile text html latex example
bankSummary text html latex example
compos.seq text html latex example
concat text html latex example
deleteCR text html latex example
densityProfile text html latex example
dna.rna text html latex example
exact.word text html latex example
fasta.descript text html latex example
free.seq text html latex example
getAccn text html latex
getParam text html latex
getseq text html latex example
indexfasta text html latex
insert text html latex example
lower text html latex example
makeIndex text html latex example
mask text html latex example
not.globalSeg text html latex example
not.segSet text html latex example
or.globalSeg text html latex example
or.segSet text html latex example
placestring text html latex example
plot.globalSeg text html latex example
posMaskedSeq text html latex example
randomSeq text html latex example
read.gbk.location text html latex example
readEmblDescript text html latex example
readseq text html latex example
relist text html latex example
revcomp text html latex example
seqSkew text html latex example
sequrl text html latex example
setAccn text html latex
setParam text html latex
size.globalSeg text html latex example
sizeseq text html latex example
sizeseqfasta text html latex example
sliceSegment text html latex example
translation text html latex example
write.fasta text html latex example
writeEMBL text html latex example
** building package indices ...
* DONE (GeneR)