Back to the "Multiple platform build/check report"
| Package 168/172 | OS | Arch | BUILD | CHECK | BUILD BIN |
webbioc1.4.0Colin A. Smith | Linux (SUSE 9.2) | x86_64 | OK | OK | |
| Linux (SUSE 9.2) | i686 | OK | OK | ||
| Solaris 2.9 | sparc | OK | OK | ||
| Linux (SUSE 10.0) | x86_64 | OK | [ OK ] | ||
| Windows Server 2003 | x86_64 | OK | OK | OK |
| Package: webbioc |
| Version: 1.4.0 |
| Command: /home/biocbuild/1.8d/R/bin/R CMD check webbioc_1.4.0.tar.gz |
| RetCode: 0 |
| Time: 29.5 seconds |
| Status: OK |
| CheckDir: webbioc.Rcheck |
| Warnings: 0 |
* checking for working latex ... OK * using log directory '/home/biocbuild/1.8d/Rpacks/webbioc.Rcheck' * using Version 2.3.1 (2006-06-01) * checking for file 'webbioc/DESCRIPTION' ... OK * this is package 'webbioc' version '1.4.0' * checking package dependencies ... OK * checking if this is a source package ... OK * checking whether package 'webbioc' can be installed ... OK * checking package directory ... OK * checking for portable file names ... OK * checking for sufficient/correct file permissions ... OK * checking DESCRIPTION meta-information ... OK * checking top-level files ... OK * checking index information ... OK * checking package subdirectories ... OK * checking R files for syntax errors ... OK * checking R files for library.dynam ... OK * checking S3 generic/method consistency ... OK * checking replacement functions ... OK * checking foreign function calls ... OK * checking Rd files ... OK * checking for missing documentation entries ... OK * checking for code/documentation mismatches ... OK * checking Rd \usage sections ... OK * creating webbioc-Ex.R ... OK * checking examples ... OK * checking package vignettes in 'inst/doc' ... OK * creating webbioc-manual.tex ... OK * checking webbioc-manual.tex ... OK
webbioc.Rcheck/00install.out:
* Installing *source* package 'webbioc' ...
** R
** inst
** save image
Loading required package: affy
Loading required package: Biobase
Loading required package: tools
Welcome to Bioconductor
Vignettes contain introductory material. To view, type
'openVignette()' or start with 'help(Biobase)'. For details
on reading vignettes, see the openVignette help page.
Loading required package: affyio
Loading required package: multtest
Loading required package: survival
Loading required package: splines
Loading required package: annaffy
Loading required package: GO
Loading required package: KEGG
Loading required package: vsn
Loading required package: gcrma
Loading required package: matchprobes
Loading required package: reposTools
[1] TRUE
** help
>>> Building/Updating help pages for package 'webbioc'
Formats: text html latex example
installReps text html latex
mt.wrapper text html latex
qplot text html latex
qvalue text html latex
qwrite text html latex
** building package indices ...
* DONE (webbioc)