Back to the "Multiple platform build/check report"
| Package 120/172 | OS | Arch | BUILD | CHECK | BUILD BIN |
pathRender1.0.0Li Long | Linux (SUSE 9.2) | x86_64 | OK | OK | |
| Linux (SUSE 9.2) | i686 | OK | OK | ||
| Solaris 2.9 | sparc | OK | OK | ||
| Linux (SUSE 10.0) | x86_64 | [ OK ] | OK | ||
| Windows Server 2003 | x86_64 | OK | OK | OK |
| Package: pathRender |
| Version: 1.0.0 |
| Command: /home/biocbuild/1.8d/R/bin/R CMD build pathRender |
| RetCode: 0 |
| Time: 0.5 seconds |
| Status: OK |
| PackageFile: pathRender_1.0.0.tar.gz |
* checking for file 'pathRender/DESCRIPTION' ... OK * preparing 'pathRender': * checking DESCRIPTION meta-information ... OK * removing junk files * checking for LF line-endings in source files * checking for empty or unneeded directories * building 'pathRender_1.0.0.tar.gz'