Back to the "Multiple platform build/check report"
| Package 111/172 | OS | Arch | BUILD | CHECK | BUILD BIN |
nudge1.2.0N. Dean | Linux (SUSE 9.2) | x86_64 | OK | OK | |
| Linux (SUSE 9.2) | i686 | OK | OK | ||
| Solaris 2.9 | sparc | OK | OK | ||
| Linux (SUSE 10.0) | x86_64 | OK | [ OK ] | ||
| Windows Server 2003 | x86_64 | OK | OK | OK |
| Package: nudge |
| Version: 1.2.0 |
| Command: /home/biocbuild/1.8d/R/bin/R CMD check nudge_1.2.0.tar.gz |
| RetCode: 0 |
| Time: 40.5 seconds |
| Status: OK |
| CheckDir: nudge.Rcheck |
| Warnings: 0 |
* checking for working latex ... OK * using log directory '/home/biocbuild/1.8d/Rpacks/nudge.Rcheck' * using Version 2.3.1 (2006-06-01) * checking for file 'nudge/DESCRIPTION' ... OK * this is package 'nudge' version '1.2.0' * checking package dependencies ... OK * checking if this is a source package ... OK * checking whether package 'nudge' can be installed ... OK * checking package directory ... OK * checking for portable file names ... OK * checking for sufficient/correct file permissions ... OK * checking DESCRIPTION meta-information ... OK * checking top-level files ... OK * checking index information ... OK * checking package subdirectories ... OK * checking R files for syntax errors ... OK * checking R files for library.dynam ... OK * checking S3 generic/method consistency ... OK * checking replacement functions ... OK * checking foreign function calls ... OK * checking Rd files ... OK * checking for missing documentation entries ... OK * checking for code/documentation mismatches ... OK * checking Rd \usage sections ... OK * creating nudge-Ex.R ... OK * checking examples ... OK * checking package vignettes in 'inst/doc' ... OK * creating nudge-manual.tex ... OK * checking nudge-manual.tex ... OK
nudge.Rcheck/00install.out:
* Installing *source* package 'nudge' ...
** R
** data
** inst
** help
Warning messages:
1: incomplete final line found by readLines on './man/hiv.Rd'
2: incomplete final line found by readLines on './man/like.Rd'
3: incomplete final line found by readLines on './man/neg.contr.Rd'
4: incomplete final line found by readLines on './man/nudge1.Rd'
>>> Building/Updating help pages for package 'nudge'
Formats: text html latex example
hiv text html latex
like text html latex
neg.contr text html latex
norm1a text html latex example
norm1b text html latex example
norm1c text html latex example
norm1d text html latex example
norm2c text html latex example
norm2d text html latex example
nudge1 text html latex example
nudge2 text html latex example
pos.contr text html latex
** building package indices ...
* DONE (nudge)