Back to the "Multiple platform build/check report"
| Package 108/172 | OS | Arch | BUILD | CHECK | BUILD BIN |
multtest1.10.2Katherine S. Pollard | Linux (SUSE 9.2) | x86_64 | OK | OK | |
| Linux (SUSE 9.2) | i686 | OK | OK | ||
| Solaris 2.9 | sparc | OK | OK | ||
| Linux (SUSE 10.0) | x86_64 | OK | [ OK ] | ||
| Windows Server 2003 | x86_64 | OK | OK | OK |
| Package: multtest |
| Version: 1.10.2 |
| Command: /home/biocbuild/1.8d/R/bin/R CMD check multtest_1.10.2.tar.gz |
| RetCode: 0 |
| Time: 42.5 seconds |
| Status: OK |
| CheckDir: multtest.Rcheck |
| Warnings: 0 |
* checking for working latex ... OK * using log directory '/home/biocbuild/1.8d/Rpacks/multtest.Rcheck' * using Version 2.3.1 (2006-06-01) * checking for file 'multtest/DESCRIPTION' ... OK * this is package 'multtest' version '1.10.2' * checking package dependencies ... OK * checking if this is a source package ... OK * checking whether package 'multtest' can be installed ... OK * checking package directory ... OK * checking for portable file names ... OK * checking for sufficient/correct file permissions ... OK * checking DESCRIPTION meta-information ... OK * checking top-level files ... OK * checking index information ... OK * checking package subdirectories ... OK * checking R files for syntax errors ... OK * checking R files for library.dynam ... OK * checking S3 generic/method consistency ... OK * checking replacement functions ... OK * checking foreign function calls ... OK * checking Rd files ... OK * checking for missing documentation entries ... OK * checking for code/documentation mismatches ... OK * checking Rd \usage sections ... OK * checking for CRLF line endings in C/C++/Fortran sources/headers ... OK * checking for portable compilation flags in Makevars ... OK * creating multtest-Ex.R ... OK * checking examples ... OK * creating multtest-manual.tex ... OK * checking multtest-manual.tex ... OK
multtest.Rcheck/00install.out:
* Installing *source* package 'multtest' ...
** libs
gcc -I/home/biocbuild/1.8d/R/include -I/home/biocbuild/1.8d/R/include -I/usr/local/include -DUSEDOUBLE -fpic -g -O2 -std=gnu99 -Wall -c block_sampling_fixed.c -o block_sampling_fixed.o
gcc -I/home/biocbuild/1.8d/R/include -I/home/biocbuild/1.8d/R/include -I/usr/local/include -DUSEDOUBLE -fpic -g -O2 -std=gnu99 -Wall -c bootloop.c -o bootloop.o
gcc -I/home/biocbuild/1.8d/R/include -I/home/biocbuild/1.8d/R/include -I/usr/local/include -DUSEDOUBLE -fpic -g -O2 -std=gnu99 -Wall -c mt.c -o mt.o
gcc -I/home/biocbuild/1.8d/R/include -I/home/biocbuild/1.8d/R/include -I/usr/local/include -DUSEDOUBLE -fpic -g -O2 -std=gnu99 -Wall -c pairt_sampling.c -o pairt_sampling.o
gcc -I/home/biocbuild/1.8d/R/include -I/home/biocbuild/1.8d/R/include -I/usr/local/include -DUSEDOUBLE -fpic -g -O2 -std=gnu99 -Wall -c pairt_sampling_fixed.c -o pairt_sampling_fixed.o
gcc -I/home/biocbuild/1.8d/R/include -I/home/biocbuild/1.8d/R/include -I/usr/local/include -DUSEDOUBLE -fpic -g -O2 -std=gnu99 -Wall -c random.c -o random.o
gcc -I/home/biocbuild/1.8d/R/include -I/home/biocbuild/1.8d/R/include -I/usr/local/include -DUSEDOUBLE -fpic -g -O2 -std=gnu99 -Wall -c Rpack.c -o Rpack.o
gcc -I/home/biocbuild/1.8d/R/include -I/home/biocbuild/1.8d/R/include -I/usr/local/include -DUSEDOUBLE -fpic -g -O2 -std=gnu99 -Wall -c sampling.c -o sampling.o
gcc -I/home/biocbuild/1.8d/R/include -I/home/biocbuild/1.8d/R/include -I/usr/local/include -DUSEDOUBLE -fpic -g -O2 -std=gnu99 -Wall -c sampling_fixed.c -o sampling_fixed.o
gcc -I/home/biocbuild/1.8d/R/include -I/home/biocbuild/1.8d/R/include -I/usr/local/include -DUSEDOUBLE -fpic -g -O2 -std=gnu99 -Wall -c stat_func.c -o stat_func.o
gcc -I/home/biocbuild/1.8d/R/include -I/home/biocbuild/1.8d/R/include -I/usr/local/include -DUSEDOUBLE -fpic -g -O2 -std=gnu99 -Wall -c stat_order.c -o stat_order.o
gcc -shared -L/usr/local/lib64 -o multtest.so block_sampling_fixed.o bootloop.o mt.o pairt_sampling.o pairt_sampling_fixed.o random.o Rpack.o sampling.o sampling_fixed.o stat_func.o stat_order.o -lm
** R
** data
** inst
** save image
Loading required package: Biobase
Loading required package: tools
Welcome to Bioconductor
Vignettes contain introductory material. To view, type
'openVignette()' or start with 'help(Biobase)'. For details
on reading vignettes, see the openVignette help page.
Loading required package: survival
Loading required package: splines
[1] "MTP"
Creating a new generic function for 'plot' in 'multtest'
[1] "plot"
Creating a new generic function for 'summary' in 'multtest'
[1] "summary"
[1] "["
Creating a new generic function for 'as.list' in 'multtest'
[1] "as.list"
Creating a new generic function for 'update' in 'multtest'
[1] "update"
** help
>>> Building/Updating help pages for package 'multtest'
Formats: text html latex example
MTP-class text html latex example
MTP-methods text html latex
MTP text html latex example
boot.resample text html latex example
fwer2gfwer text html latex example
get.index text html latex example
golub text html latex
meanX text html latex example
mt.internal text html latex
mt.maxT text html latex example
mt.plot text html latex example
mt.rawp2adjp text html latex example
mt.reject text html latex example
mt.sample.teststat text html latex example
mt.teststat text html latex example
ss.maxT text html latex example
wapply text html latex example
** building package indices ...
* DONE (multtest)