Back to the "Multiple platform build/check report"
| Package 26/172 | OS | Arch | BUILD | CHECK | BUILD BIN |
biomaRt1.6.3Steffen Durinck | Linux (SUSE 9.2) | x86_64 | OK | OK | |
| Linux (SUSE 9.2) | i686 | OK | OK | ||
| Solaris 2.9 | sparc | OK | WARNINGS | ||
| Linux (SUSE 10.0) | x86_64 | OK | [ OK ] | ||
| Windows Server 2003 | x86_64 | OK | OK | OK |
| Package: biomaRt |
| Version: 1.6.3 |
| Command: /home/biocbuild/1.8d/R/bin/R CMD check biomaRt_1.6.3.tar.gz |
| RetCode: 0 |
| Time: 193.3 seconds |
| Status: OK |
| CheckDir: biomaRt.Rcheck |
| Warnings: 0 |
* checking for working latex ... OK * using log directory '/home/biocbuild/1.8d/Rpacks/biomaRt.Rcheck' * using Version 2.3.1 (2006-06-01) * checking for file 'biomaRt/DESCRIPTION' ... OK * this is package 'biomaRt' version '1.6.3' * checking package dependencies ... OK * checking if this is a source package ... OK * checking whether package 'biomaRt' can be installed ... OK * checking package directory ... OK * checking for portable file names ... OK * checking for sufficient/correct file permissions ... OK * checking DESCRIPTION meta-information ... OK * checking top-level files ... OK * checking index information ... OK * checking package subdirectories ... OK * checking R files for syntax errors ... OK * checking R files for library.dynam ... OK * checking S3 generic/method consistency ... OK * checking replacement functions ... OK * checking foreign function calls ... OK * checking Rd files ... OK * checking for missing documentation entries ... OK * checking for code/documentation mismatches ... OK * checking Rd \usage sections ... OK * creating biomaRt-Ex.R ... OK * checking examples ... OK * checking package vignettes in 'inst/doc' ... OK * creating biomaRt-manual.tex ... OK * checking biomaRt-manual.tex ... OK
biomaRt.Rcheck/00install.out:
* Installing *source* package 'biomaRt' ...
** R
** inst
** save image
Loading required package: XML
Loading required package: RCurl
** help
>>> Building/Updating help pages for package 'biomaRt'
Formats: text html latex example
Mart-class text html latex
exportFASTA text html latex example
getAffyArrays text html latex example
getBM text html latex example
getFeature text html latex example
getGO text html latex example
getGene text html latex example
getHomolog text html latex example
getINTERPRO text html latex example
getOMIM text html latex example
getPossibleXrefs text html latex example
getSNP text html latex example
getSequence text html latex example
getXref text html latex example
listAttributes text html latex example
listDatasets text html latex example
listFilters text html latex example
listMarts text html latex example
martConnect text html latex example
martDisconnect text html latex example
martTable-class text html latex
parseAttributes text html latex
parseFilters text html latex
useDataset text html latex example
useMart text html latex example
** building package indices ...
* DONE (biomaRt)