Back to the "Multiple platform build/check report"
| Package 34/172 | OS | Arch | BUILD | CHECK | BUILD BIN |
CoCiteStats1.4.1R. Gentleman | Linux (SUSE 9.2) | x86_64 | OK | OK | |
| Linux (SUSE 9.2) | i686 | OK | OK | ||
| Solaris 2.9 | sparc | OK | OK | ||
| Linux (SUSE 10.0) | x86_64 | [ OK ] | OK | ||
| Windows Server 2003 | x86_64 | OK | OK | OK |
| Package: CoCiteStats |
| Version: 1.4.1 |
| Command: /home/biocbuild/1.8d/R/bin/R CMD build CoCiteStats |
| RetCode: 0 |
| Time: 0.5 seconds |
| Status: OK |
| PackageFile: CoCiteStats_1.4.1.tar.gz |
* checking for file 'CoCiteStats/DESCRIPTION' ... OK * preparing 'CoCiteStats': * checking DESCRIPTION meta-information ... OK * removing junk files * checking for LF line-endings in source files * checking for empty or unneeded directories * building 'CoCiteStats_1.4.1.tar.gz'