Back to the "Multiple platform build/check report"
| Package 171/172 | OS | Arch | BUILD | CHECK | BUILD BIN |
xcms1.4.0Colin A. Smith | Linux (SUSE 9.2) | x86_64 | OK | OK | |
| Linux (SUSE 9.2) | i686 | OK | OK | ||
| Solaris 2.9 | sparc | OK | [ OK ] | ||
| Linux (SUSE 10.0) | x86_64 | OK | OK | ||
| Windows Server 2003 | x86_64 | OK | OK | OK |
| Package: xcms |
| Version: 1.4.0 |
| Command: /loc/biocbuild/1.8d/R/bin/R CMD check xcms_1.4.0.tar.gz |
| RetCode: 0 |
| Time: 676.0 seconds |
| Status: OK |
| CheckDir: xcms.Rcheck |
| Warnings: 0 |
* checking for working latex ... OK * using log directory '/loc/biocbuild/1.8d/Rpacks/xcms.Rcheck' * using Version 2.3.1 (2006-06-01) * checking for file 'xcms/DESCRIPTION' ... OK * this is package 'xcms' version '1.4.0' * checking package dependencies ... OK * checking if this is a source package ... OK * checking whether package 'xcms' can be installed ... OK * checking package directory ... OK * checking for portable file names ... OK * checking for sufficient/correct file permissions ... OK * checking DESCRIPTION meta-information ... OK * checking top-level files ... OK * checking index information ... OK * checking package subdirectories ... OK * checking R files for syntax errors ... OK * checking R files for library.dynam ... OK * checking S3 generic/method consistency ... OK * checking replacement functions ... OK * checking foreign function calls ... OK * checking Rd files ... OK * checking for missing documentation entries ... OK * checking for code/documentation mismatches ... OK * checking Rd \usage sections ... OK * checking for CRLF line endings in C/C++/Fortran sources/headers ... OK * checking for portable compilation flags in Makevars ... OK * creating xcms-Ex.R ... OK * checking examples ... OK * checking package vignettes in 'inst/doc' ... OK * creating xcms-manual.tex ... OK * checking xcms-manual.tex ... OK
xcms.Rcheck/00install.out:
* Installing *source* package 'xcms' ...
** libs
gcc -I/loc/biocbuild/1.8d/R/include -I/loc/biocbuild/1.8d/R/include -I/usr/local/include -I/sw/include -D_LARGEFILE_SOURCE -I/usr/local/include -fPIC -g -O2 -std=gnu99 -c base64.c -o base64.o
gcc -I/loc/biocbuild/1.8d/R/include -I/loc/biocbuild/1.8d/R/include -I/usr/local/include -I/sw/include -D_LARGEFILE_SOURCE -I/usr/local/include -fPIC -g -O2 -std=gnu99 -c netCDF.c -o netCDF.o
gcc -I/loc/biocbuild/1.8d/R/include -I/loc/biocbuild/1.8d/R/include -I/usr/local/include -I/sw/include -D_LARGEFILE_SOURCE -I/usr/local/include -fPIC -g -O2 -std=gnu99 -c ramp.c -o ramp.o
gcc -I/loc/biocbuild/1.8d/R/include -I/loc/biocbuild/1.8d/R/include -I/usr/local/include -I/sw/include -D_LARGEFILE_SOURCE -I/usr/local/include -fPIC -g -O2 -std=gnu99 -c rampR.c -o rampR.o
gcc -I/loc/biocbuild/1.8d/R/include -I/loc/biocbuild/1.8d/R/include -I/usr/local/include -I/sw/include -D_LARGEFILE_SOURCE -I/usr/local/include -fPIC -g -O2 -std=gnu99 -c util.c -o util.o
gcc -I/loc/biocbuild/1.8d/R/include -I/loc/biocbuild/1.8d/R/include -I/usr/local/include -I/sw/include -D_LARGEFILE_SOURCE -I/usr/local/include -fPIC -g -O2 -std=gnu99 -c xcms.c -o xcms.o
xcms.c: In function 'ProfBinLinBase':
xcms.c:70: warning: implicit declaration of function 'round'
xcms.c:70: warning: incompatible implicit declaration of built-in function 'round'
gcc -G -L/usr/local/lib -o xcms.so base64.o netCDF.o ramp.o rampR.o util.o xcms.o -L/usr/local/lib -L/sw/lib -lnetcdf
** R
** inst
** preparing package for lazy loading
** help
Warning message:
incomplete final line found by readLines on './man/medianFilter.Rd'
>>> Building/Updating help pages for package 'xcms'
Formats: text html latex example
SSgauss text html latex
c.xcmsSet text html latex
clustunique text html latex
colMax text html latex
descendZero text html latex example
diffreport-methods text html latex
doubleMatrix text html latex
etg text html latex
fillPeaks-methods text html latex
filtfft text html latex
findEqualGreater text html latex
findPeaks-methods text html latex
getEIC-methods text html latex
getPeaks-methods text html latex
getScan-methods text html latex
getSpec-methods text html latex
group-methods text html latex
groupnames-methods text html latex
groupval-methods text html latex
image.xcmsRaw text html latex
medianFilter text html latex example
na.flatfill text html latex
netCDF text html latex
panel.cor text html latex
plot-methods text html latex
plotChrom-methods text html latex
plotPeaks-methods text html latex
plotRaw-methods text html latex
plotScan-methods text html latex
plotSpec-methods text html latex
plotSurf-methods text html latex
plotTIC-methods text html latex
plotrt-methods text html latex
profGenerate text html latex
profMedFilt-methods text html latex
profMethod-methods text html latex
profRange-methods text html latex
profStep-methods text html latex
pval text html latex
ramp text html latex
rectUnique text html latex example
retcor-methods text html latex
retexp text html latex
sampnames-methods text html latex
specNoise text html latex
specPeaks text html latex
split.xcmsSet text html latex
xcmsEIC-class text html latex
xcmsRaw-class text html latex
xcmsRaw text html latex
xcmsSet-class text html latex
xcmsSet text html latex
** building package indices ...
* DONE (xcms)