Back to the "Multiple platform build/check report"
| Package 92/172 | OS | Arch | BUILD | CHECK | BUILD BIN | 
| maDB1.4.0Johannes Rainer | Linux (SUSE 9.2) | x86_64 | OK | OK | |
| Linux (SUSE 9.2) | i686 | OK | OK | ||
| Solaris 2.9 | sparc | [ OK ] | OK | ||
| Linux (SUSE 10.0) | x86_64 | OK | OK | ||
| Windows Server 2003 | x86_64 | OK | ERROR | ERROR | 
| Package: maDB | 
| Version: 1.4.0 | 
| Command: /loc/biocbuild/1.8d/R/bin/R CMD build maDB | 
| RetCode: 0 | 
| Time: 1.8 seconds | 
| Status: OK | 
| PackageFile: maDB_1.4.0.tar.gz | 
* checking for file 'maDB/DESCRIPTION' ... OK * preparing 'maDB': * checking DESCRIPTION meta-information ... OK * removing junk files * checking for LF line-endings in source files * checking for empty or unneeded directories * building 'maDB_1.4.0.tar.gz'