Back to the "Multiple platform build/check report"
| Package 133/172 | OS | Arch | BUILD | CHECK | BUILD BIN |
RdbiPgSQL1.6.1Jianhua Zhang | Linux (SUSE 9.2) | x86_64 | OK | OK | |
| Linux (SUSE 9.2) | i686 | OK | OK | ||
| Solaris 2.9 | sparc | OK | [ OK ] | ||
| Linux (SUSE 10.0) | x86_64 | OK | OK | ||
| Windows Server 2003 | x86_64 | OK | ERROR | ERROR |
| Package: RdbiPgSQL |
| Version: 1.6.1 |
| Command: /loc/biocbuild/1.8d/R/bin/R CMD check RdbiPgSQL_1.6.1.tar.gz |
| RetCode: 0 |
| Time: 33.0 seconds |
| Status: OK |
| CheckDir: RdbiPgSQL.Rcheck |
| Warnings: 0 |
* checking for working latex ... OK * using log directory '/loc/biocbuild/1.8d/Rpacks/RdbiPgSQL.Rcheck' * using Version 2.3.1 (2006-06-01) * checking for file 'RdbiPgSQL/DESCRIPTION' ... OK * this is package 'RdbiPgSQL' version '1.6.1' * checking package dependencies ... OK * checking if this is a source package ... OK * checking whether package 'RdbiPgSQL' can be installed ... OK * checking package directory ... OK * checking for portable file names ... OK * checking for sufficient/correct file permissions ... OK * checking DESCRIPTION meta-information ... OK * checking top-level files ... OK * checking index information ... OK * checking package subdirectories ... OK * checking R files for syntax errors ... OK * checking R files for library.dynam ... OK * checking S3 generic/method consistency ... OK * checking replacement functions ... OK * checking foreign function calls ... OK * checking Rd files ... OK * checking for missing documentation entries ... OK * checking for code/documentation mismatches ... OK * checking Rd \usage sections ... OK * checking for CRLF line endings in C/C++/Fortran sources/headers ... OK * checking for portable compilation flags in Makevars ... OK * creating RdbiPgSQL-Ex.R ... OK * checking examples ... OK * creating RdbiPgSQL-manual.tex ... OK * checking RdbiPgSQL-manual.tex ... OK
RdbiPgSQL.Rcheck/00install.out:
* Installing *source* package 'RdbiPgSQL' ...
creating cache ./config.cache
checking for PQconnectdb in -lpq... yes
checking how to run the C preprocessor... cc -E
checking for /usr/include/libpq-fe.h... no
checking how to run the C preprocessor... cc -E
checking for /usr/include/pgsql/libpq-fe.h... no
checking how to run the C preprocessor... cc -E
checking for /usr/include/postgresql/libpq-fe.h... no
checking how to run the C preprocessor... cc -E
checking for /usr/local/include/libpq-fe.h... no
checking how to run the C preprocessor... cc -E
checking for /usr/local/include/pgsql/libpq-fe.h... yes
updating cache ./config.cache
creating ./config.status
creating src/Makevars
** libs
gcc -I/loc/biocbuild/1.8d/R/include -I/loc/biocbuild/1.8d/R/include -I/usr/local/include/pgsql -I/usr/local/include -fPIC -g -O2 -std=gnu99 -c PgSQL.c -o PgSQL.o
gcc -I/loc/biocbuild/1.8d/R/include -I/loc/biocbuild/1.8d/R/include -I/usr/local/include/pgsql -I/usr/local/include -fPIC -g -O2 -std=gnu99 -c PgSQLInit.c -o PgSQLInit.o
gcc -G -L/usr/local/lib -o RdbiPgSQL.so PgSQL.o PgSQLInit.o -lpq
** R
** help
>>> Building/Updating help pages for package 'RdbiPgSQL'
Formats: text html latex example
PgSQL text html latex
dbAppendTable.PgSQL.conn text html latex
dbClearResult.PgSQL.result text html latex
dbColumnInfo.PgSQL.result text html latex
dbConnect.PgSQL text html latex
dbConnectionInfo.PgSQL.conn text html latex
dbDisconnect.PgSQL.conn text html latex
dbGetQuery.PgSQL.conn text html latex
dbGetResult.PgSQL.result text html latex
dbListTables.PgSQL.conn text html latex
dbReadTable.PgSQL.conn text html latex
dbResultInfo.PgSQL.result text html latex
dbSendQuery.PgSQL.conn text html latex
dbWriteTable.PgSQL.conn text html latex
internal text html latex
psql text html latex
** building package indices ...
* DONE (RdbiPgSQL)