* checking for file 'RLMM/DESCRIPTION' ... OK
* preparing 'RLMM':
* checking DESCRIPTION meta-information ... OK
* running cleanup
* installing the package to re-build vignettes
* Installing *source* package 'RLMM' ...
** R
** inst
** help
 >>> Building/Updating help pages for package 'RLMM'
     Formats: text html latex example 
  Classify                          text    html    latex
  create_Thetafile                  text    html    latex
  normalize_Rawfiles                text    html    latex
  plot_theta                        text    html    latex
** building package indices ...
* DONE (RLMM)
* creating vignettes ... OK
* running cleanup
* removing junk files
* checking for LF line-endings in source files
* checking for empty or unneeded directories
* building 'RLMM_0.10.0.tar.gz'