Package: variants Version: 1.32.0 Command: chmod a+r variants -R && E:\biocbuild\bbs-3.21-bioc\R\bin\R.exe CMD build --keep-empty-dirs --no-resave-data variants StartedAt: 2025-08-15 13:18:31 -0400 (Fri, 15 Aug 2025) EndedAt: 2025-08-15 13:19:33 -0400 (Fri, 15 Aug 2025) EllapsedTime: 62.1 seconds RetCode: 0 Status: OK PackageFile: variants_1.32.0.tar.gz PackageFileSize: 4.84 MiB