Package: spicyWorkflow Version: 1.8.0 Command: /Library/Frameworks/R.framework/Resources/bin/R CMD INSTALL spicyWorkflow StartedAt: 2025-10-03 13:00:28 -0400 (Fri, 03 Oct 2025) EndedAt: 2025-10-03 13:00:42 -0400 (Fri, 03 Oct 2025) EllapsedTime: 14.7 seconds RetCode: 0 Status: OK