Package: spicyWorkflow Version: 1.8.0 Command: /Library/Frameworks/R.framework/Resources/bin/R CMD build --keep-empty-dirs --no-resave-data spicyWorkflow StartedAt: 2025-09-26 14:02:34 -0400 (Fri, 26 Sep 2025) EndedAt: 2025-09-26 16:03:25 -0400 (Fri, 26 Sep 2025) EllapsedTime: 7250.8 seconds RetCode: 1 Status: ERROR PackageFile: None PackageFileSize: NA