Package: simpleSingleCell Version: 1.32.0 Command: /Library/Frameworks/R.framework/Resources/bin/R CMD INSTALL simpleSingleCell StartedAt: 2025-09-26 13:00:49 -0400 (Fri, 26 Sep 2025) EndedAt: 2025-09-26 13:01:00 -0400 (Fri, 26 Sep 2025) EllapsedTime: 11.1 seconds RetCode: 0 Status: OK