Package: sequencing Version: 1.32.0 Command: E:\biocbuild\bbs-3.21-bioc\R\bin\R.exe CMD INSTALL sequencing StartedAt: 2025-08-15 13:01:33 -0400 (Fri, 15 Aug 2025) EndedAt: 2025-08-15 13:02:08 -0400 (Fri, 15 Aug 2025) EllapsedTime: 35.7 seconds RetCode: 0 Status: OK