Package: seqpac Version: 1.10.0 Command: /home/biocbuild/bbs-3.22-bioc/R/bin/R CMD build --keep-empty-dirs --no-resave-data seqpac StartedAt: 2025-11-04 13:11:10 -0500 (Tue, 04 Nov 2025) EndedAt: 2025-11-04 13:14:49 -0500 (Tue, 04 Nov 2025) EllapsedTime: 219.6 seconds RetCode: 0 Status: OK PackageFile: seqpac_1.10.0.tar.gz PackageFileSize: 3.093 MiB