Package: seqpac Version: 1.8.2 Command: /home/biocbuild/bbs-3.21-bioc/R/bin/R CMD build --keep-empty-dirs --no-resave-data seqpac StartedAt: 2025-09-30 13:10:30 -0400 (Tue, 30 Sep 2025) EndedAt: 2025-09-30 13:14:08 -0400 (Tue, 30 Sep 2025) EllapsedTime: 218.5 seconds RetCode: 0 Status: OK PackageFile: seqpac_1.8.2.tar.gz PackageFileSize: 3.093 MiB