Package: seqpac Version: 1.8.0 Command: /Library/Frameworks/R.framework/Resources/bin/R CMD build --keep-empty-dirs --no-resave-data seqpac StartedAt: 2025-04-22 13:08:03 -0400 (Tue, 22 Apr 2025) EndedAt: 2025-04-22 13:09:07 -0400 (Tue, 22 Apr 2025) EllapsedTime: 63.8 seconds RetCode: 1 Status: ERROR PackageFile: None PackageFileSize: NA