Package: seqpac Version: 1.8.2 Maintainer: Alessandro Gozzo MaintainerEmail: alessandro.gozzo at liu.se git_url: https://git.bioconductor.org/packages/seqpac git_branch: RELEASE_3_21 git_last_commit: 673d345 git_last_commit_date: 2025-09-30 04:22:34 -0400 (Tue, 30 Sep 2025)