Package: rnaseqGene Version: 1.32.0 Command: /home/biocbuild/bbs-3.21-bioc/R/bin/R CMD build --keep-empty-dirs --no-resave-data rnaseqGene StartedAt: 2025-10-03 13:09:30 -0400 (Fri, 03 Oct 2025) EndedAt: 2025-10-03 13:12:13 -0400 (Fri, 03 Oct 2025) EllapsedTime: 163.2 seconds RetCode: 0 Status: OK PackageFile: rnaseqGene_1.32.0.tar.gz PackageFileSize: 1.554 MiB