Package: rnaseqGene Version: 1.32.0 Command: /Library/Frameworks/R.framework/Resources/bin/R CMD INSTALL rnaseqGene StartedAt: 2025-10-14 13:03:29 -0400 (Tue, 14 Oct 2025) EndedAt: 2025-10-14 13:05:27 -0400 (Tue, 14 Oct 2025) EllapsedTime: 118.1 seconds RetCode: 0 Status: OK