Package: rnaseqGene Version: 1.32.0 Command: /Library/Frameworks/R.framework/Resources/bin/R CMD build --keep-empty-dirs --no-resave-data rnaseqGene StartedAt: 2025-10-14 13:31:20 -0400 (Tue, 14 Oct 2025) EndedAt: 2025-10-14 13:41:09 -0400 (Tue, 14 Oct 2025) EllapsedTime: 589.6 seconds RetCode: 0 Status: OK PackageFile: rnaseqGene_1.32.0.tar.gz PackageFileSize: 1.82 MiB