Package: rnaseqDTU Version: 1.28.0 Command: /Library/Frameworks/R.framework/Resources/bin/R CMD INSTALL rnaseqDTU StartedAt: 2025-10-14 13:01:27 -0400 (Tue, 14 Oct 2025) EndedAt: 2025-10-14 13:03:29 -0400 (Tue, 14 Oct 2025) EllapsedTime: 122.4 seconds RetCode: 0 Status: OK