Package: rnaseqDTU Version: 1.28.0 Command: /Library/Frameworks/R.framework/Resources/bin/R CMD build --keep-empty-dirs --no-resave-data rnaseqDTU StartedAt: 2025-10-14 13:28:15 -0400 (Tue, 14 Oct 2025) EndedAt: 2025-10-14 13:36:33 -0400 (Tue, 14 Oct 2025) EllapsedTime: 498.8 seconds RetCode: 0 Status: OK PackageFile: rnaseqDTU_1.28.0.tar.gz PackageFileSize: 8.758 MiB