]rʶ޿}9uoI*I9\h@ǚ" u;OrWkB&id{BRV^xV9dS5u[mֵ֕FSM >Wu*i >BLMk]_hcO!_Wku7X!BgP7 Wz]]濦/H4ƭ': yE t⼃*RީVφg񉚬hc'0CuUv/+2 CU_SZy+'Gi'W}za[%un}t\'$N( =RAF|02fHtL{/'r1&NMtYSN_`nAtv!uP"qG// |H0#$O&*\#APA!`Ncy_'p`/}5&$::' pCt2oEo^ta P ?s;roY Sߝ;[ۅ.s^NAJBcәP{xkls<}{A)< .zěS}~ק@AMn`83@8%h LqHƔ%7IWhRSz8'"8/ ^%)1">F4| BP}>d}c?(޽~&T `7x,;iFAdT媔@%ggKɹ3q#]e4?Mh?3HFe4wy|̯z|p1x8n4jaMjĀoO$)]αOVҾx}R%jo[`7y0fH=sjTԚhA<&wSs[M+f@}eme\LFnvqbCUz Ø{ڦP&mj)+˜ )LDtY Jmy3ʢEmzg,f$ /\0ڥ܄͘@kd4zC eZ\V#w=4ZЗDWM\rwĹ3}>Ը['9Y C6w">=z<|^Q\WAlZЋAzġ<p3!l3(13&+!Y?G5O +ѝί.L %e}t4a}h<ڢxVX T$= TcCtK'  B%IKi- y X;zKW[aq] Ԗ^۷;`д&ԛMӋz2AM}vqr "_zDd>„YX(d <0kb%y鑱#U{)XW؟XnF%V>]Tκt$‰`E9s5Q$o\??w4:Vv55'rkUt=@r??$2L#σƥVjcK%cYbbt ,$](02p`.>"H$ (t6%xE\Bq*X)b8?@U\Lte!]΁wdaMC^N!+uY@G4Ϧy:٫:Lzؙ\_M#7,x@T Q *D3XgQ j^z r:q`5O_Pb/8`Si@ea/RKDU S @nU /[0smR(#яs`ت ~]JWr&rۙ?g߶~ЏzQEa ץ1uNhiyxɑ'1=#wt"kKܡg\"ܸ4 Ms)봋ܹm> 9I/dfڣ4zHl0+(',Ȇo/{Vn 49Sngﳫ.z m=4_;J\ԭ;J\ǭ\5ѿ:J<룼Fӏ9(q:-|jC3v`כͺe4>$_=AD՚\,I2o~{oj$ZymOgXՆX՚/q^w'6eNb_g{ЮOQ_%Gn m߮Sh+7r/o~= i=Ou}Sg?1i,UP}܉M5l )='v}r%(_fZ<q;Z}I1mOS󦌶}gU?/*"WFcdwU]]D#p~[47fbu5FDDQ(ɽ%Xdvzs՚ h&ۻYO}\>7j ؾjYp~eY>F]=~_F&0,6*?bOSLw\ݰL){?+ye)|y)\/&.u zzh/f /ޟٔ;?;r٧{ݺ{nmuХmh&];HҝoD$}Bm=rI8dmG_krTkM/$e-9`Z,E_$E_$E_$cW;aY8jtMojj_~?  om6LU$;$\^}F{ st~7J"=<&GO\ 1; Y:B~,5LgtQH@f0 _Yc'/? :E:]vd |\>  ܨH8@@tYN cNnQ2a i"#gT\)R+g+=8Nua@sPO$4qH%QC*4Co{zМm|P da$i;Q"E@mo2܄u]ml&$e. =.]X =JeL}<_0,Hȧ?qXt)ɩ3uH&'(QLM<Dk뚵=5{}7 l/\t8{8Ns[&uO=s;Ӹ.Rj>0Pc1ZyɈ.C)ހ_lqP 439ִ!rH4=2 o֬L_bf YhzKHG2 |w vMRLX!E3 6 \ؘz7.ޔ$0 kcFl$a2)5V w(ʡH,*ȝ:VY46ELrX3S7 `g[| ,bƹ=uviy1A E(܀5cJVX < 7a-S Fn|9 N@vVpy5txe*k[1nwB#k*AEnXҖpxU&ⵦwr>,^h^m*-Ҭ| @XlyN M -z:7 /Yӻ\N 4n@ Z!tEp$/?2R+"a5mlA@&)?e@=Y8u,Н n.#=^w' mh hwQ:O/ѴvKGן\,}3 磒XTs;;XY3d(<`QϘ`CHQ!   keqRN6Yqf)J!l g E1( HAWSy:#)oQ|H` 7duVLsTUW$7?@) ^o# {Q]OɅ,5Y]U4"oam7zVL-wk)4OSrY M_Mmi a%Jo̻rUDI*qm,-2 #+QS UOFU|`f#yEw,HG6qvn, Uh+*,4}%iS~tQ"EV_NWb ; R c r%|'<GUCfM>FSO}u?Æ%;[r`3DѢlIa'EH+G5s\4%u9Mk͠}CCNA@A*mii u}`"w .d38:XRcmgy֡Q e |O 7~B]U<[|)״S08V]A@|l+EH8åBYW}"&{@hbHCuse) ̼9`=lwMC@,3w~KOq^ThL L̜s'"Qa[٦~#9 YT-LٻvMW,E"@D-Q g~A\!τ Pi]˼0hӭ歩k#n%@bjpIds !)MҤx+'MtwX-H ֲNWFV+ 5xF !Hm7@D|tE_WnܿH:JCҷ#u | *jZn#*O]W:GjHiZed ,vjAF(:BkAخRlȢ֜~޷3cΎ0[?C!h5a"ϱe&1Ul7-Hˆ:7l +ނ [(A`tqD)t5(yޅ6\.'Yz̭ZbeKI"9-H Yh! ҚvB`khr=#kMZK^A^!)`5&VOf/qԂ2R{:k0 oWxkYptQE[4SǨyA$A?Jf׊]aU'JfD"dmpPt+d8)0nn0cv'o %N갹NV2cšy-mxILd0b3=EG B+"?"<< ܹh}_?_ӂ ׂv+WOI]hX:#>1A˿,>Tj" Y| ٮf5R$WSJ|@"H74[HUmd`DFb9q5 M):te^Er05_\&<8kІb3Hwyg$mhWd蹤7O/ ? aL.ZZ"FnEIWX  \.W°^$ Gni_oFl1/WM8s|x S_r}ޚZ\OQCRd RqSo6=.)`#TXl3ן;#NPY97s'xP .!@v.* ^[d0GK9X@v?w ĝy]+.y0sRz ߚݯƁ%6qXzg~˄qj ۵2@rm8gsyTkZ;>p9 a %b8rL (:zF`^{X"߽5k/\-u[ujٖ+kYPYkawQ]iCUX.T-OTS~] ͂# ?8RZhWJ) :6{^`9H\Y| _#7Z($g-R k[^w Z3Yh% aӮ*)ݚ+H$+w]iЊe!hoX{,Vl#d[&+Uv)B;@&q5≹ t+2*_g̤ZbЬ%+do\C"@]M\^hOK̘RB)`AW~}[!kAd`ɕa"K[Uv.Zz2" DIr=5_z= 4\ӃS[O ƦSY*Af nA*AA UL%xح)u'fBB_9wJԂ5~yt%!2[y4\Ϡ=20.p[@]T K![ @ :| i@\@ԲO :vkXQ[NJuflˆ`;À+ ~ E*/ 7˖UҨ`I1Ͼ_'T f0UB+ۨuɮ=&Yiq&jl f"Mi@L sQ|QBVZתFwt9Hv+KLe*矃 wx ٮ}52T[+1H!4>L3<:uڨJw݅u:TAk08GCf<[ߣ6g$ǎ'5E / zX lΗ1r UmABSqw*v\<+WE+~x3Wl\đN_rQyc(RJnlۧܬZg/Ybw4VՉ 9#PSټ"c/#㴷 qӨh@.@۳lGnnngBm z(6]xЌ(UU1CdnB'G,ȓ"x 5Lhښ "ם-S 4+m dDŽiEpv<r{(0x dKy5ίk,R1BFB ]{k/:w +آa s K}5*]Q}! ozd_QF yv[s%2nV7X-H'W?%Ɩ7}x/Zu6ه#d@4`fB6ql@:z%2% ѹL| v0Ȱi}:Ds Ji[oD2KQlHnxx X^PcEFDmĚ&O- b56KW3\x,[sLufpw_Q%7x)B,ݣʳ"ו(c]N// ]{ҹH;y:6, ݛղc {x=ķF( "z@J"$|2͛LԵX{m8 R%ݚ琉qXor |G |#ݬH؛+f2/yK Xķr  ?q-i䳪kJ$JFG@-T7"BNqeA`Uin qWh;ؘJXcD8䝑ݭ}puh/7f,*qEz:vͲR4 i8˿y?O( A*|d?, z2gމ=NP 6F'ZṞ5F]ֺjd 4k$0CXQ 7@+♊ ٗbWсسdoE"12lL{47 |kzv/r'<K+nA%w+?{_z-ʸ5P_5INkqgSL5&#9 ^9B1P sxĴbukV`Ud?Z0K^~-gDQ6b* -HϏ'xbNiAС<:?+q2UQpE> J j+b?iT)N=o~270t r-E=jY9.OuF}D_woC_9[8ERXuծHU98w"=99ոfvU  PKiA &.ޜL''dd/ {FL_W]w d>F?젗EvX# 2,k!;H-j\u]/cdA +BBfxDU}`*Z^5쒗yʥLK;<*m oԡ=#H J w5|#_xsz~}to"T ެ'=O1GLP[C֡A- ` p+̬ G2̭*;B~!GBaJT` x,}i!Aﰶ[sW)W*#?rLU/y,i v[O;R<:|/e:Ƕ`ehErB/[ (Ҍe!cQR辮1-dfEv+U AGI,!Knw/*LkzT 7+~Q x?ĞF=Νd21s"酭 p x6Y@$_i?vĹ[1yJ?@ݼOhKOESQh@.J~Y<{u7/MY'B< 3'uhE'%w< SAg7#[0 R@mi~m^p_pc\@Sf魙U4I<^- Ö @aۈM8᳇[QHWع()X9Z 2kX?aVu,2G:^]jN#JՊ5Mt=D^Zt=Nގ6HH9לS(u; ِuAo*kEBWXor$SU,½{Imkand_Рa H3ςc!T5{7 T#x pDwF:cka$%o]|jAdvV D" ;3oZ ڱJwVϣK3HU =ł4T J]"dH ,q |,H/Hp `&x,^.Y^ '[{ {Vx-dM@!I-3da|PێM -i/&6 Kp i$1H> Hz:`AYΒ=˹~l Wīt2kؽO9=?#FupuSv XzᨸHt ǘT Ye#FƠYV*v2fi3Ȗ["%V普{@{X m w=+CnI9*W j*VAy&e|E`9^߯ۚ:6/ ]T*Ͱ xMjri_|P1!hJқdP0y>co.]r۸ϿXR%5+9έHH„$|(?dmYbTݧq@6^n%6Fkd$#8Gx(R3!^bO  U7#-Z]"$3o_#4R8x#3"hd"J Ed#F y&ӹ)+1jר07=Ϻ*(U>^wDTKGL8Y Xwͻi BN5sD$cDPVAϑ2F (d߷W՗ $3YYZ}r5!x] M2zh#Dc)='ѽ|VSg_=L Ru H 8Jm+)o(߿oNx|؃?@ ^@ *ޡ.)]FqJuѝY nz.j6IU^AIf(1(g碪QM2 4{s7+ber:sF:zUdүRQ({v@.S$*쀌mT^ܗWnlsw@W}B DG s`GD&݀@"i Z P+tXXu~*Uu9"7N|&}a(f:]O}4/KS4nx`NʐHGalzW2JY09}9Y~(jDh׍']plYu@y ~Ҝ݉g<9hO#ۭWC=H쀴Ja:?)H4J QoEXOWgnZ#bQK\g X[."m:h=aOowYKF-X  ҳ@ڰ: Ȗ4;物\)4fGȕe?<ԦWf\+l$,ŦZ@Eѵ|Xhe ݿaVRhC9k_{|T9`ߜAϑ3}B S]STJY/.N<:2-)=GT%ߓ/{$j`9! zk#buZ)M/|3)G՜wl,p+CxN' eM"rI Cj[058UV"1L'ҥ5u@:0"? =WG1+!n@g=5݋0j@h@4?tYq zmt~M >A]в!yIZbKd@]#x0p5VFꑯ#,[ix wr8R7TA%R-^' 9ɎPZ?LHpztۿ&։TN }@b]@4dOۄ.E][F,r% V%xJ{ \C ľk@ӗ؝JuYh؛@wBjn4"2m֖?3b!1L-ODOq"˂͝. .Ei&@νEmtHЀeHμ@93fiGJv\ѳ?5Y=Fqzdg hGED, MV&wf Y 0u\mnP!-ޱ]ctٸPbCƋ.uRFY AT35SbN{&!,2R%WzɿrkCv^k0"WqVc g0"C@J[^ l^>c|#']/yG;y;/|$ <1~uЄtD8CiT;_GAu蛆jCƐM ]ts%"7"+&ҿTcO,"mH dUEE: AZ197mάKW`Re d(@ݶ`4h6"T->tLX2*|_FK!`>† }Ȳx9N$YPg] /#KN&K)T^Ά ?= O )` 㕽SNH@ sD:8AJ,o6@:V_Rb]~8+:B(2Fk+n_øF E_F؛HR #7iKWLQNB`-I@YbQ?ޭ~5W}EJ|D. 4;YW tεg]#*/k!!3ϻk$Vş4"PbJ 4R@KEY85ĄMUnu蟬2MUSw@6dV C6@ -^)LK$'3t^[q2 @̒ONz)?W%>,1᧘dI_Mg G!a9o}; S YfSy9J9Lsi)ž[A%/SUbzdډ_WNa*i,*$)s3L =|<x$r-'U}gZ갍\@H&ʝh偦8|- ƍri|«r: J>`:T0/yyZ_P+YN _?8˸NC! Ć>mR$33 " P ZMf }JhmtV_)Tk q ?Ȁt=?ff"W ͗y*qD7k 2 ]H7F%%p/1@.[ vi4>`sq[ ,TVW"h-rL_i(x@C ܛ*4fwqB8>/@ZrSRگYIGo0w; tbzղS m`gBv'v@ʷ4#DZL5bH%DcMH &QZNGL o;f+;Qhɐo ̬%.x:>TboXHߵ*IbTV*L@v*+JNXh:>FN\i9>`K֩:R8 Yd_:?_>#g',Fб6:; Mxu'f'oe?kWTk~n@w9"?ҹ` \>;蛆n@gd*_N`~D6Mr{9H2eN~ID/eZGa#k58hzSH>\";Ѐ~>J Y=/qY4f\ƛpV If%Կ<T9։LǢ2_!k6z0U_u!b7zQsfa1]}*.*Z@+hSGn9 7UKXT@<ӶG cs2niGnBؿhDǫ:l.D&>< {l* 8/KE{x%Q'tп:T`$}@ iK,DYA{9 QeD*u@n_.=]_:VgpZ"#{~0HǟnY 9_yyhmHE1K |n "RJl`wS)J͟G tܠaeK,y097. ,HbXXB Pb4歛|rUgNb6@kJW} k` ?AНV^$W0 kTZ, 8W@)ǯf؟፟6GRT3)>q3@yKXȤ \ol %4`Tr <0 dsAKoq5]K3ms@e;N'>9mzrvu҃}Rr[IzxD -LW' L5tkY A5j*i0΀}ߑJ-hb>lH%J&W3 W]o+v Q0&ሌٛl1ӇlX+4)~F"M: V J2>h} F#<`<uV d&LѦI2:i^L< N@>|DKoVH$7$iAPGI3w {8"dXt?XF Y0I` ̫haPd%t+@P!#ş0"rĔm'gVbɀ[,x/ҵI,[|@薦uVEp犛t^gQ0_y@.UFDfd[iueDoY k>҅"bb V!m7GJ[iH,`4@; H2 NYV.N,vR[h :ޏ{?ߑRX/i.>:@+Kem- F(pה@q3%t-y? @ܽ+PpJ~4φ첨(=YgOx O@OO~K|bU,O}#r"r pN^CxJ23P)""SWn @d_ H&K#"-_XtX +-\6ovBœ@6Im1t/KuJy F_@w^@KcDQ>X^"oҽk_W;]nwbKR5Wq$x6@3wn݉DaqIG4OH8t9oݶm̧ߒ!UBWyE~tq.ڨƿb%<[vm h6T=֏V ]W?zwN]7i kZ ɢh%R: )$&Ee@x͍\7&%`b,Ls4@OAWhvNM3 ĢMyv>N8:^b߬8!y dqԆ8\@m?*r S$dKk"W?eaG4V)A:Pf،MoM2'+hr cu߅i^Aea{v#J: E[!#aANpHBzyV:e֋SCИ+d>~a߬RbFi5$h :WucKKf)6$82A#2Uzӳ hֳv9]9L$CzV ҵ/v}hd[Fx^: F MB|,H/EJ J *>S%,b9x: A҆z9sdKo֟ 9C+r w2s^8ztK3YNpH-M5Gv gn+nu [iTJ-q5OOA==*KVyFi!K -›d&# |d\Ĩ2YN8zVWU]{䩇gHLL mh~v+16N 2niJSEw?sNÆ"v>k^i\Ƚ:Fd*1%$dЙ%Hb&.  ܏Ovɩ$Z;`Xvx#]"H`[@NQN%a,SE[:&ߨҧm-5gkGzh߃ߊ:#z[q49aAxszQdW=mWn(; īKug{8Ɓӳ/# aOÛM٧J>A!о@>OA>Xo1lWQ 2 YgE)*9MN4)Շ!3X |:C\f STʼ=Ld1؄?sWROY8RT Cߎ{*X֗[Sn~Hd]5=;PST9{L_G!H9A4Z<7S_A':` kQU<+o8k,ja %̳ ց=$@a-5vҹ~WyBnQEZKOO~q2l#UIޥi7Bp] g.Z2EE ֖OO\bԃ&-il,w"{'}ݬNgg"4S۠trd+UԃR"ҕن g=y.peƔ 7~KėVHjUoL?C l6؃e-? J6k ¸ա@RSiҍ%6yzJRFt<`F) Mh~y.kCf%aia g!HO9iSVe)8;6[5vl啯=>apAJִމx]_R_3\ݭ[W "bMS ިxߑ6 t}뱢Q*,f9>?s K琉?xrC3N "Cύ Q֪#{N*Yӂ[]"ٮy䱈NR)d*m8=!vEy7k.\#'^|WۨAaҍ\bg?z7;q 7w γ7IUѨ@@W|UVڗxqr|'(N#ϚWTKX|vNJ=bD GNs=-p V RR+e!ї>k%^%dݐN$1.IvїZL;-bEN*u7+(rL8 R3}H A乨vx5j[ =ހ"@W AHt" J+d:~?b݁`G_~XsِCǷY.VfM]?nAJXox|.|}џ^B\UOx[ln2&c(PY*/4zlHeĚQe CdD&B:Fû. %boFkKHBl~`Ǥ FI:d@~bd @v-M:TF!5Ib{[)y~ͳYLNݭM3Lk] !ǓYw4/&IR2Nc96LR$,Ҙf=!npzH C;_@F;ۏ*br<0)vcV;}<70nVOK#{ݭNY(aD$fRn@" zṊl ^ |rzKԴ+p H:NNHd4Y p&CV]h~^O<> =nI Zlj\Kw H&[C]w+pjrl"EA:zj'JI?e:WLYAP^4k#73dm/Cn@kڍbzri!5ԏx'p}b$Ҝ1ĎY :5Us^n@m='Q>2d x,Rp`A&&"F  b,ۘ %@L܏ P/Y__t 8χBy .*жK?, K>Iij0]*:iLJ Qml.>|kgPس /*B <5~ K|#6dnY qA/4BL'i6.//Ez C,~݁% @wl, /44Xih@p_*p 5G 0CgG rZ*wmPF2 *u#5qAb rT2GY?2⋮oem&%0>uq)3 n8|i\=uYt7Łz4LY!]AN͠*uF)=$5E4?n՞X:Wu @p3i-() 3;œAxJq%AZccE]}٬0dE׏0|*lKT'Ԑ=9AIn)h@_]G<Hص`m_\pG '4fq*SU|EQXd$rRKcDVxY n "ɐpklՖ1?Tl>E 6W褫g->kz`9VB ,7T7+PaAMl|Z7KXX"˯> _>< faG܅>,46dg_݂fX{{$ՙR)TON`hfxvT)]W`-RO,#݈Gڗo]Og#X>u~QȖQluC\[{h~=o ׂ<|QU<ߚOsflyb}1D M{Ȃ]LmVOiw")78ch'="ANq@@OȂI ݀ YG2ILdBY߀0_dpw/A@ i Muh"4gh*bw:ϯOc4DKmPZpⵎ"ZPUKɍ^"q@𾷑 rRy׍UH:27,M Ƒ6k 6ʣ]6dxg݁AJcVc Ώ০A Ez֏G3-` bG,b o-R=7`= ȟѫApð4MH2'R Uo"!kG*1b-ޭQO:4˂D:.&@EFU*dv#lfrLJA7kߛb!]FZ}p*] <:+Eī 賾`2A4C.L݈#\.;F*:afj|HV2sz˸4D>Pqب M@T%Q&S+ s9#,){(|A#/;F_w+~<>[Hbj_cx69%^hV厨C-w,Nl-R"ޓ^j4#+U _sEz 霻hYMN( 蛔_IU]{D'+޺xѩn"W1zdcAˌ5btt{Z7ee)"eA"BS@h4L$Ν}Mo{MʿZ1KSn$Zk'D"EbK**KZd !k5/AB<7{d1M'5"j]^|d5x29(=ñJ!;6eGAY;˂sҀ\S^hA*D̙ĺ#9?r [3L<rl5vҝB<Yj\) )}+l5 {zDVDFe ;P94bfd)$3̳ 5gU(+:`iG$dFngBȸI rKLY{|v]ヨDH Z49^IKԬƔ]ӂ\ r'BaF3GZkA#S-H?ΖZBQyA o]i-`[:_@V+tHą73Lx,*/5d#ZhKXsh R Zkw w jY-\X0܊+%d*́ZGH.f`6퀆"̽/Rp ]q%>v؟QShsLl< ✣䄋#`<4Nyَ,'B$S#W*0HGEHS`Uý*}TtMs2_n ZAUn,3Hqs 'Pҁ긇H ҂"Oi2x 'Lnl;I/te@߫/^0tyhyi4:89fAsI Vh^ZaOCuDe+M(?)dC,HtEZc֡,!Ÿ }K x5{+xƺt_-1p f.oZQ!O7 ÿ\ q9*Mw'=i\E(5w}Щ}|{5A 2ܼ]tTi߃#fu , *ɮAIцf9~-/4)kϱK>`hcaxTor[d?]]s9}Ňď2cƻQ fFWmV˦O 's.҉m;mO{Nk^3XW _?@~:#k\6w y@PgB /p@v/fxΏx\_:;.AG_}FQ8W䤌G~vG~ ;aC(R5CZ*FJO|?+gT0ŕ?HurvmVJ&5+ϷWZc Ai} Y56 *bV"#5~^s;Q@$+R}!@ HGw@f"IUL~Vret(7Ȯ/ЬE&#Y8,J8cw}Wn&Hۜs+vZ a;SALOTGW{8x>Mi#ݚnq^,P[ Tn@5͋]кuh*|z#"VHB 8#/~wb5 4խ9 5,YӚUW|krU%j#7iM7@߆P_bTP"fe*W HG$|e}Ԣ{SؔS/u.0 .G)['f= %knmLEhBtoXRkhP T ;3 ȹ7賊-`mtZ{gh ژLч֜a@ $/Ys^5mM\4t&̣O:@l\,@gl%ENn@WgdQGHW!T@>śA%)@}R_Kv #ptuV/@*d?H8l d׷=l3_"]E5#vW1]Uo:/vh32̳+^!6, JS)qE6R _EH(#Oq@Rpߚ.r(s"a:qrs)p21^& 'JdN>SŧrnWj= 8W}9H/ŕJW -IeO' htՊ9tX+)a'H_I%%@tb~BZr;#7H-\L!1mRrZPHGK?oM~{}m`Nf! [|2yNR-jTZWtk2'Rd@͋3oR )pRp[V$g]&HG4?funu!M9A4!% ߚCIyH@r]b5Լ$*aVzﰲSpsi 𰦪P3BM+q4Rj3F'Ejd#0PZ n( 7MҪaZ_ȕ(sN1DK옰R~ A$HIGZg]狾Y&? UxV Ć4X*4l.q_'}QaHBFh/@Wғ΍'l^D0l xF,R/d)^N,"IUάR2 8(K,1Qsx}3VS GhHYX -ck0s@~E^qQ[DZ@ /Aq伀Hfv!sIӴ7vsi_f灀t!}Hy=/n~ eS,c. k@>5K7>@o4UA s; =z=dmGZo!S`3*.pihxxR;:s-Qmg P Y)e8 2Zt[ ediH7@Md1+Ts@"by, GT(dO2qی@+*,U!o8 > -_rNv+iFt:baҲ^pmLt/`@2Y-qcX[iH?Bm=k $jw~YytOUԏW:{guH!Ea8@0R:aY겙KH ==:A߾}ov7@\ nY#ë{G"SaQ7;ɂYEÛk< ód' d`#f H D"gES&d}D) at@IۭWBw*)Xf95_. Q D;X@8duDǡt2|*R]~\% 2.\L@Hx";#?ж@*a-b5.N}wC"nYn1^"P<2Ӏ~$A}-L,إ=w@Z닞i!TWagC%p7W=c2+Y z|#X ؑp[4^ 7!+F*W:(sJiVxl' I@E/+Z*wzJU | _ 75|>+O:TrxA*B)$LNP &Qq9֢JuH d*lP}LM,eyT9h\y#!5Ч` )-x}k ̛׷+(E :4~a˟VQ2Jfs> |&wݏ@yRf %v_r/!sZ<#1'OWS|!Q4 ~IM ZU4I;BwX}ZAk̪B .zb)N<H4.u.x"g5fpޚ,eK M1 G yVU[B,$ ?fMk+N0G7Oih UʹH0RdMNhN<{':@@d?6@R)j FΟB%p[,r n?$W?Mtu9€^@o&|};D]+/fHwk(ufh&x(>2W6(,LEq|RR/pH do+9D:RC%^ĿWB%p]2L *Y}s:4bm#–<~G<#yUWkz#h-#M G 0a}8̢봓yF-p@O,tЮ^ܠm@=]Cz}} }LfӭPqT: n]9%g8 ?YgBR} (nst׽֗OI@eu:Õ1lm ,8q@ $cC# kA KW .s-ұ.P[E*}d!9:=dFB!Ѐ[D aXHZt _?}n [%~bnQrc'15o7y!s>ϏTÆ#U@Jd{Bn?"i3Xz!thYh; s#Pr*yٛ^`Բ@r%ueҐi5z>{F,e? HNwXH!k5-T4.jB 4`k+8xv@sj~|eHh;${)p4ؖ sJ;zo6V3Ң@e»,gz>bE, t\(YD5]_0: ]| Wd'>\&[5&5 U|Y7\ H MŮ?+⛊.=xnk<=N~ 嬤0OUyNY$Ol{iqD3 H%۩YNGdHAN $ U *BĮȘN,VH74UP?bWdCO%gdRj<[+⍍鼀 p5GoG|:#Gr;i+L#VMo@*U @XG ŮuhR̥@|*{! O|!BvXURtGˊeN#ANT[T`Qx=jF;X2 2/W$p\D<دI_ow8@ݭʩ4+82Ղ{\}}!^tEvXB5}ξ"@ eU]˪jY4Ͼ=_C+]e)VtKo2%-ky >/ " Wva G ;Nρ%}"\ ;` #۬BF=k W[􇣳G}`Izc|{Z.%M.PHAޝl ҡa:PkZ0ʙSuk:ɞCi2GtX;#,ߑyc{1m:֩IiզCA&*02z2 s|OUFӂ:m! dY&>|T"onT!-xa=`҅ʱM"@ 8h suy q ގ *TuDr3RN8^bp CET$RPuueAʤ8'+`[иُ!_d,۩rt5{R /MUt_@pM@wF(\|,h oMіbHeUtWwNz n]֧Zf-+n=;uUw\lV z~k {ĂLR >ZHc/+k=3tBONdU" ҸV*uZIFQiײvkjY <˯xI93Ey[XS rtrvzR#|I\\֡e4܄#oḠy,ABZչhPthNF+>zuocDin+r@6Szk^A ?IE!7?ktb'R`h|ۆ?D7w[.Ndlu/5f:<aKf}ٚ_st|䅮.TуT&g.d++|3R脵~wZdT~7oϵXT@d-1R _-]{ ڇ" g "3n|]/@>=4`uiY _QBd9X RZV\}>vEú_d0tߚU ~4ȷ}{.YpZ7Ŋ"Rל3IDKݛ% vE}ntFIoG gcdy:]/k.X!euE%2yM@_p:7?lTio@ۊ)tO!`? Q k)[d̈쌜xUi?dQP~vE$k.-1yQ11OUgK rg'bLqR GW|YQWdʊ<*foWբQE+L/ANE9OMx0b6jR"Iot+[ʔޑ6a:`q LR}uCWq _Ύ'< !t32B [ A@'܂hWȺ"@E ɝ;oͽ}3@KMoMkT;= 7C,Q#@N֋ MڐRl`E圊GA۴;?tuPO=~],?#-ZY[3-S) nI K o%H*KZ*5ڇY;wR16XAAP(xnWU%.#&rYiC*MU@] o}dGo}0 r{uJi"Y-<\>FCohò>#( RZHUy|ع^حYi>̳8{ǩ#$H2]oF M7-oeÀ}0]T7t L+) -08"?BMDP=YV$oDv$q QL0.ߑ3lk"vEc'Bq$2Sܾ/&b&nt YTq}e!etgz"kdenFCn=+p œ@A篂튴;⋯eZ>]s3uEܭ"Fq#~+T5']u_bӪ4tQE?]3Fk f9RG[[5{C4ߑr*-OŭtM5e-'gʵAQ];YAN; h\*%(#Mf¾>Gqjjhھ΃x~'}y;}į&IR쨻>4JjQ#%Ia&Y8+;E Fҵ112 ~Dpvaz5ٷzGv d9\`Ag@Cd>~-*jLYH\${ %$Wy4H8\)\ήoI?tʹME[S˾.==(hA >hA2La,UA =5ħC}#::BXf^`AnSpͭk  ӽ~?<{CN@ [ΈUͫLb ȷozT.D) U m{AŧCGhJyi݊z& ٤MX4Ȝ[I\b]D]` )A6d0t|E֦]0,H.LfNl@97z^J!AW8)!#: F6ۏN9_jaӳ "]LpM A!ɠ7us8Wr9fQqdA~ 3AKzڀxRni6gpуZr5ƨxzΥ ]HߚdY rxAlЙ RPf½Z}Q:6zF>8G_@r/VSƓ}V尪~!Ŝ䝦ituqq}o}Y_un^VxJgFrid"9Bq';{^FhNXd~P R \N?gAe]K$ 9A\ (9шZɪdt^/{d®J(-H+S>Pgmj v"Oށ9ޑE+0ÁN Kߚ9.s[T@@u{@(P~g u-ׄbgx hdG_Aޠ[$ :Ryܠ'TFLSl.MkH[!e5jRo%yYEX2w{Ik==b"jA Y #@QօD2)5?kl|4F@Hk69_VٶOWȹmVZ  J hD\OpҞd|1dGA J34~C% Ҳ}7)E8ߑERѽUA}r;X rEx/ȕ2@wa ydFFBglt<~,b֛-ښcB7^93ˊ{0ށOg<%gT?fE:{hi˝c] MB(Ʈ@39*ZhË "Hގ]dЮFRͯ29xUۊ$gNEݿ G/1i}?BHn*!D[#H?`y3pȻ5Py9CB"@H% &aArт&t 1T@vP^ 5_V`>F?kJ ĞցhT ~x3o#?"`0M%e:H2r#ԭH!p}ΰ!5Fd-m%mQ9Ai^ tCB!Z(q CkWqjR"5 odΧjxsRz%قEWtAeGO& ]ى1;PUf6etb~dfbZ 痣PGr(WGDrj Ye&A H4(e!* W¹@@+k}2,M:W 'a_;|OT2IܥUQ0wŅ AT]&%NC;ו`yQ_rPxT̀\ٵ|4w](A-N )~| aשiT;䁗Qn{ۜV28#ٿy&_Wc a@\Or~[st½q"JWhp4I'wM5r_Pd*o tk{Yin7",[孹<{tKYmP=@?q~+[3Ӵ]{,HG~Z R2c 3c)0q)5'G  U.@>̅ˮ@RPfAv0`YVl_#g wsٸۼ$'\;a.@܊VsɧQ7ځ4"gQGE1T5@ϼqtZ8ZŏLޫ5;g0_ZKЁFq4s5m!b5@-LgdO ^V/t54^Or[c?@5{ & XW6\/yA\ɂY$388_]{b xg$g%oȭ98Oyuy  [?:>m~蓿$\vUNtz&nb()`;"P6}}_Aj5`,` Vr#"iDŐ#"c "3l쉏\N һW{O;#y>AÛd-Tꏾr8 t!ȁxgtBcB$AkOB<[1}xSzbA_޹@ kZű00.X{s No<8a]{X{E4a I^hoK7QͽUa}J`#l-.sj} z r G]3U:+A9!SيA鑂IstASdߚ]nTikӡ#֜* d|kB72ƮH-aaN/{k?zSdOZ?>2Vq[? 1ԟLAj!t!3a=j & 9P$@Iz8k!V $K3 Ͱ#(@!9w ,gܚǙ>~~( Lr {'0-LJd3 $5juvk%K>;UIֳv@0 f\4{-Pr*X2Yܻ{ BiRˋm,ϒY3A-QLu/gxh@Oxh)I=o>NtqQg̑F援s\d"݁T%cd@" xoH?g+ [,8vsĜ$Nׂ$9DA4gUmi BymXK¥qyv+l@X%*.xV1rbCt fkt/?y-֮-Rgq[}ͪ/QvtSQcA[:ש#wWԂLD!oR=κ}HB"N=G1. )_z=ǂc?`:Y ΄/EehH ccG\I) L 8 +/BÛ\ d c4n2@5Rm溋*1K8Y-# :J#H.A:dV({rk>/5ȵUYABLC6]i dP'|, =HrZL(_̋bYiqNgDݍů@LEz f,D24&VF*Gzlk{$i*3 $'oA.\;ƈ=9[uGtRVUN<Ƶ. PFAѼ^z |I6i~fDaA؃yKn-eAUizo:^7TEM[nye,yNX,F"3 jzU,Bi{]fz1ω7d ٧6GS.c/E&sImk'lF2b.ZG $V`"*pUt>k 8G2OTę8j|V`^+O;un$G$\tHRv*d*wDYScTT+. @[e'9PN GG+ ҃Gث_<=_D j`h剨,FO)`Ѐp$ K@2 Z( ۬n<ڹ(˥ȹ-۷ U]MkDU{c5w'/Z soGRQ 0S@V^(f0XH(%F27*!n@r]|5 p+;E;oМE N֫YEp`Ia{:UCdPڳ, !ZՁ ̜"BDI mG= Ij9#X7_qCuv9'kSC6L ";Gu03u8kRw ,E6/uku٬NՂ t-B%ԫlA2Q^r޲ ZDBi.jF ?i8 U"^˿L#Y~_rp`~ ĆjwtXL_AJP>rnq_H]->Aj@Vz:dMոÕ.P7UUZFܦ"߃[>xmNP_騬*4V^΋wkpE "@6zJ@z6f)wTѶٺ,>~jǖ={+Ðen%b^Vw4`~Ox-ʼ{lh0D6)hiJ|/! <6 oilޏoY-*IjwץIaE bK{\;QzS,/X 2Fϐ:ݞUY8+H!d/4qs>_H${8Aލ[[ddj//xA /ގқgNye+UcfiBd3Nj gm@:_>=" P$7S|JЁn@zqTd@oM)KiX fbi!}z?8@̱ HpqJ_|˜Ѵo(]vr+Ew.\wE{t_ߏ@$(\Fȕ\a[|֎㞹@w?E~ Ggi3HVˏ7H)3tn13 b''Qܦy}ǣ ~q0 3eх&ڐko4|k`AL+<'ȸo@&5r.>|5EB ՟}a kB9\4RfE | i0,bc݁\cd!sXY! ]#Ysx=دi=~7K$[.L M4cHg[fGIS@JKdܣXYh2]׳% S :o]݀ DDž<؜b9zue@>"P0;*•҃+H;OXe$/uq!8Gt.=*n"qtU%E}LB4?tXAη7 KOwU*,t)vg'eO֏>@\zS,2_b}m:kDqi@*6qd6+"@b lȩYwe?i YeYyr*\Z.bhϨmk&l@tY'VSWaݠ{U๝{F 9yY4UVJ_3vQ'汞!UBh.g!9]Z 7H5ɺIZEOPGY78JE SG-Q6xf, ҳ- N&9zm|N2w, cg :"=A weR/^C~N1>RCV')u1k ܢ4pl&E!0QU޾V}+Oެk\0tִjM=4)Xg&?hk3 ,D&R+9&x]ЃA _U c @!K){PR0 1rKQ{9:Е?cD /OJ"mV߀Q伂}5'KkZ"L Y$<ŞCW |$x}z[9mmiA1An*pD6Rz܉5H?gUѓ Yr9ka-pKM bȜ=RD(]*gfmTX-j#qszz0 %9{]IQՅRawcE+kE pm9h׭0 x:Q W.ހO-q}HEZWD १ ? 3_F#Y2dg@_ 4BJxFң1ѨN*S~ۀ 7|. '㚗.Hh@B  `F6{A^x]5K]39BƫϚ 6-8G&*g#  0۞ zz^#'I@&1 j ٫V|p,9qEI =Y*YzE,+%/9\N`VHP@3(\ Tw1Sdm-[ ׷W8 >?Wc@pϾA*+ \H@)G71~w&ܕ/؇/'tKoo֧GV2XHI|%dW_,GY ǃoA@(˪0UE[(`_>,H8&4*c.1OɮT R. x3XߠO$[]X2iPF^)';*ېhG= ӯX,BJ*yt<k2ݭBRPPΒo@bWd펼Z t+k@z~A?U Ѕ7Z8O8U0FrP:=뤽׋7 iފ^A*s5(ʺ@IOvO 엌8T `RIfBcL515 J,(4Rs0j^ N^K)[Lx7qdLU}aYs%{`9E`uyA;h8>b)RXo?e@s%E-""pB|ٝ_Ӏ,R" h 'qKQ9c{K&Ɏ.vK2/p>vO7D 4ѧU봿n5Ȭ.q_ϊ e1#gitbaȷ= ]-r9Ӣ8XDw{dr MUc(;O@l 2G), WRg}\q{hl)T.[d)\#r| 7{$h#ERI7--7E"E4#Y-_88@E_ Lb Bp[(-Ȫ׶\ԉG*lNJ_-e5ql@nѢD5q S/EI$jX[UiSz'gEHb9U*_^߾8ҴZ51.tEd3Pu;8c&gf9C >RJ\y#ZdKs:{䷬*d^_z3\JcO7I^'.q:styzpBQq2`N[GB繵eҤ"St-1FZQT ;4Z) .h\ ikG)6hR e΋4 cܚY6$O35*F]߾+ ed~jPJ%JguÛf- 4 ܢ[ƣoZD1ŷ-Wphl>MY8H-Ԛt|=Q@4~tH +B?>o{ Ov{l ųE[))4k;Oo/]1 nB- &~(=AV8F9Zq MYNȂEbt]).ES;z=Y2QY ~`A+8[Xf{ p w^ -+Oey-'k@11YYLBf?>R 8RwڭÃ)2aTy,u/>W߀$z-zՒ> w7c-5HOtUgHyߪUKSTƕ"~/gcPRc 7qi_E](;G?҅OA\ /E,o~ߐ 2!kjBv.:/;YKtlGN"@Ǒō]&?[(@ق<*5dɜ8_z[/j$v]4 G};x#}y^-V ~_<޲~.5 4SOoRƼ q"Ŋ|qR5 k"HB6{hY6VlhR9>Vbs;U0@bKtON_w A^DƘrEq ]7iZӒFkO>; b4B[z]@.QՊ-VwڵTBٮ@֒<Bgde*R_oB`@4.q]XhXVkZS4 -T]"_tgK'vxsd*iF*f$Uyi ޾ HV$ts-dY=@>G:W󝵾t ^Ĩg+8ZŇ oVXѕz$UXN2R >H|~.4 nHɗ2~ƖYe"`WT~sWo A +FkSQt-JeDF8TF֡5erY-,&&5.;6~xfqE 'AEjw=9]@ZBR~-bA{k$]pp#9I-r 5:  xZ2DbE7/ܹAmo8?f`lU {+dozP7=/@%$l=ѬOXI2T)PoAnv[n ENM#S(5$OAJ%@w$ ͧA!P57-ˬbaX!E929P&^}BG|m kA5$Y;M89g=GXFfW˲xQt%^d'FE8xLxeSzZ]973?#ƐJ ?҇ Fd?\Qs #Zb7v};F8@T*r}:ތdpap2ُO,#[دy uD>Ԗ8"L@{ BFW9.vlS+ZB+^9YܳҀ'={&tHvn{$JB>'q# hEף;`k,LXss'%R. qDA.^=]JSt5d&R dUt 9|%sU %4@q]uf9^f-OZOD2& 0;ϵc,H\d 8z.MXTqVO7`@e EdJab<ֶLcbt+?gA2AA,-b;YHAw͜!8+m.nn=!J^$ 6I_0 9j0 LO"oCز =ޜ%rB8м|#i!WͶ?VZH]zZ5^EHTZUUug@Ĉd1=ȉ׌zNIA#'XiQ#Fd=XEw$NtUȧSvZ`zÊ~12xRߋ_绁>sāT[WUKN[_V`Ex\R D~D T1?M& i\!Kt 0hAަ u1Q_. X=4<Hi8pn5Sժrm4 t@N|5r>L.Q*S "3xkd$E${b1~(dqyT3Mf'?2gtG$<qVE)7m)]s?"Sdw =U<8A+q-Yi(Y5R34 d|1ݹd.?+|H,$@`F_PtZW9¶ 6e M1u|- s9Bf./zWҋA /5P5r3<ڐLJٝ&;GwwIx%>v\Ȍ̄QHgʁh)>5f>}V r,!T*:ElBY~1/`]4OY|OeZ,Q@2fN¤AX+co+)LҌ'xnN ;"S1y5R3VOo%S |Uָ]$HT:] `_ HH#t_zxMq [#^D%cNVN |qku Q8]hyYt zNkk4^b@TGƦy)oШRijykkL2Bi!Gʈ,h ٧˴m׷{{NM>+myAKс䢿Xs|/I5r׋ZxSԼ3@iS<\I!߾EV$ߐON R сA-gMQE>1 QIșT3Aܪ։?'܂8='gDmbC EZL+/Jŋ봖.f;?YAm{ Ҝ-;T?El8E@7<*@`Tp v \>=8I$z^V-&ˁ,2i-o "lBojWVeRkpH O Ȥ@db׋ӀwZ#́gb{ނ>Y3HVLqB9|/M#@B3\y]9w~Zk}d*0ÂnHUK˓_R`jB-Hl¡U)sE @}]s$,H2ps`C Yswg!뺂8?>Rq%~AW)ЁJ [;BZIWN)8FQ Ud H{8׈7{}G&{̴6A?:ϣ=v/]5m3W1Fͱ083ϜP;"p:G#Z[KX>zQIktB 09E_Թٵ`C^z$Q4VQj|J];''HZ#E1w|k. _ǭT\Tq#iMvAA ?t9X/S9yzGV,;̫H*1i-'A.O@N>1HOsI&p+$;h2 " bM {;mp^#HzDDz3\UTuΦX@>[#? c^Trt5rթ0F@Lވ7dׂTqoRg+#F߆"#9d0~, ]}^蹜EGjko}Ӱgb\UJH%ԇj| FK23#De]L{ o#xEqmguYuPE!i\q S`AyV4+y 5 O ,q^R.a_t ߇,C+GH‚Ūc8=:/ޯud|vVK͹3'N#d J mQ;C | bzy^rWA@(A5ȥJ%55`XbFCW@".ʀ#kHqj^ģا0>`+|Yݮ9|OӿĎX 4k,kbv͉5[=O5~QNM"`wUKb9S5i+-JS VJ4~|e?5\P߀'kb9:e.F/;&*m>E`W8ݧ(~kĉU*a܃Ut]?,#08WZ%̱xU\Y+홫*mSE-92>*UgH;o@"L<۝{Nx!p r+>t[֖ЀTX/E8k= @c7K]yp]?ԇKw=F'觙W{P ͔{L!5R1>Pbd!_}b2 Qc7c~׸L:B ^"Cz'BOGidK#~f!ͨ4 Ya-kJƁj.UE Z$L[^&|!I#bѡ[#]#A=za@Ɖ2򣋷}?x7&G }GL*ci6}w7Fx[a'izʿ5?:a.U%KisFH%@r /`swX\[8R@1sKvD/'1D56d~\IflgN'AfhP%SU}BBtBxsۦiÈP3|}p*=uP ~qU޾_uOn<&niȟ#gIqqxrjuSan?i0R+N+zҥdn^YrROfUe-b7曣k#Q~qn7fcTG=kh M2Mls:g@{ l<ޜ)vhW!Ur[mt&>gNΐЫ֣(ɛ4Uolxu=>=\eƑ15J=5\ޱWv[́Cc}ǜ gQpf;pt.bq36Alg;gn bBn lV߹:o9ƵY{&0G-ѿsaǕMߩT;zw}~pTk4+Yʼzw}P9%sP{8Ѵ>9{a󚛸_?=.{VW1Mz*DqJ:HŜT}9HcKř)Q8Oz_WbP%8\ J[xZUǦ<UܭAe}8_*2헃kNT9ԗgg^}ի8LQa*;:r dl4㗊-7BX~~9z6 *iIKsxKEYüe_U?g ׶$a嬍zYݒ~ꓮ5R}DO9\DUš< ,yVu\m|6*͓wqhTsȿ3 o#QuՊi.)}?q?EMSl#xCBQ"XD܋d1qaY]KK mb>2V2 (~k\[݋vMH@k;ӽ⑂bE) (J]@D3CP`rJ$/./m}̢?qe*x } ' 2x(?)y?gqNf :3 ySͦij)x@h++3^^^H?׿² 6pI<Ͽ闁QO|F12y;x?G v0t Z/y][]>(XTzx$uFuiħ,m~/ /xՋM!'T s%ch>#CZ'Ϫ[}%}EY+iJkck.F/ހűO\I+x||PxF,$E^_E2xr>14竂pz]܉- 7͘28~{xn'Qxd8x[~H$*wk̉D>\ix-]׿xfh i:\\Ë+t~/E $rʎxn#x&g*LE,MIyUf+CFn'u O2EJs!RĻw}| gW#>E2-{7XLq=mߴH8@~< rEG]ɷWWGҶ ^<'-)<6%^@p1?S<b~%S9uu~5T x^T ΅W5Iy0 .T ^'(/x%p`t<BbdȌ/((x?WQw  z* *A</Û#S~~fx¾D<ó<@^2_8 Yz˗ĵN`39h'>=0܇y>8~L2O$%5[J\P,;f.wF>6:܈.67B 9LmTx1 !4wZmjϱuOXb`?{m4Y?"u?F +^ٝOAgo_3t:]=A_ /PxhV,K\;<ݪnݜ_]fߡ)e1z?@^2ce[@)g>Zᡘxq|AΙNFL fd't5:1 m>79a.y*}/,5q鸆3_#Gt $̾ /bNI@ FGpk%u5$;!{.S Idxzn![A=r*x'@}τb]E<{GZj@~̇7ϳfPxb$ExPC<,Dw~@ U֗tl5xPB%k3^ݬm+#l'J|ʵ|KE^-MDo/qf+Cm?a9k:6 ] o<0?QpĩxJ| ]ҷ񯒇s\ ].y]?}#}?HB*ϕї$r }?MiWV}O&xKQMKDžOnVEuE}G??[[&˝m{w1/^vF%Ŀa?8rG<]~9sf>ΛȄ6so@ډ>h}.$ݢ g.B%#x/v_ܖxY M;R43O4,CO(q%ܭ'Y7=@=NWQVo*u&K8@Y׵+K;<c?xAIGjm 쎷 ,rP?/t#Q^H堤zY@Vqld> xh 3I?\~dt< L{%h~SBV ؊j 7Q)*zh Nwxǀ|$kPy/CSomFAO??קÇQ5]&]ttHd!>.c gGR%^- SUET xgő$; ﯔ`}Zc@[[+>8aI\? ^2ORKLg,*nt,"<-dAXyůlD}C|I}٢u>YB|{ (.^q ,vTR3(>@E 0 {sO ̈́ rx]4^gt] ~j\xÜRF g5!:ЀrYLv<%#_}?ݕ[(,`5Mk~»b:CDF$\/s|E4wϗSl:?e(|\(P}K3<)Ʃ?»S.n^(#D  @F8~*(ǚzz߂,PMB/z=d@ŖvˡGhgM |vE9t2Qx2)BJ%}%ߔ$/zYӚt>tI2 ثBVֿ w:.~ԹƅRA~ʱ {#Hu =J+9&4dCl:*oByϣ4'3N") R<&lOFME#Ux'd{-G7ň?\5<Wb'JzР~#-!6cI8/+RճCy|:s2~(K+`{,p-/Yp  I[mЈR2>='_ބljd)׿x}롋@ /ī ݟ ;?t9.Ek{a>{4 R/TV |X/ M BB5S#rvg5 }>68>}„}8`mGdcH~)te PJlב=B2/! ws}'lc[f|La&p3C?/.Ō%>AhR^:|8ܟ)>ZoϋEN,9=gHXv3:Nڀ3x٤ iGәӟ}N?B XeShc^yA" w'ˇtsb/|!4z6xV?J|gDŬ?_>=LNļ@6-q;e+Nۃ~|<K2?6ߣWO~7kI~JڨUO0[Ֆ&`hH)o_~}D:$|vu2$1Vau)R?9/46LPosE.:h/>¼JԦ.;<,u<=^'Ã_"ʵȟC{a}$;?=(CA&SuC {Cy~+HkZ1R,sTu&vrZyV{ORJ/)>'[OOz;6W|5ti<&=${_|8f}or{(㍳:U%G{9*Ƿ߆o=#'[w_pg_%v:k<7֗$;;ԳCfļH ЏH!ߠϱw}py`?I,2SL}6E{< &^8%r<}#dzb ‘5q6??"M֮o:3CJ >{wȈ'>~mc}/C>~m[1~zW JODJԃwDr- 9?GWi2gB+03, |<9E~x4+C}3~gvS|<tf~.Raom} Ittwㄙx@a;Vļ[B?Wy(>+wVvփq͟X+yz3Q>.w㏬Mw 'n\+d 61S<_wCC~862sS#F{_~ߟy U?ef7*ڮϯ/py!qAO~+5yjq<([#tJr^xFd$e^96*k>oF{ s2iĖAOY^qWg"6B'^s4Hw%&CP?ayv 5y@x }oסky{Z DV_7E+1%áp$R,V(_l'34 ?2)?_xA|~ =\PA:?9mÃM_y #f-y](袬T{B8QxYޝS~6d.@}Oԟu=᜕ o!rJ8k(_x؉ׯmyh9wf{?bo%o6 _FQ.&7&ĩs}+xI0zғFo~Ӗ7?Z狓O=AUeȂ~m˫Slh{twퟸf=N2 *}u2Վ%|x+7B%;By]\zQj?C,P35K{r[*-%U?j9fTl,iEߐby6UPKy:v[S\8#UIݒjy]߾"z<a{ↄWV}lAXC' |ȠJ2CyG'>*' xOntU'^w 'm3==!'N~^҆ 7xϞßyDBr#AֹZF-w~W ٟjcs/<"m$sь)z>Cso>$o+L)Cq}ph/G*P>q Aw<4~j,O7e`,K%z8+LvpCK/?wVdV_ rAԯ'|Dd!wdFi`?uu3)c](=)0? Z\5HUUo-磨/ Z?yNOp奢`,O>4t~<¾3HrDEp=>3Yтy~x^xXxAx ̈́Y 2aPvy+9 F׈+-4_ ciY|KY1,2h޾v(|rkP֟w{&bVe\W=4|ލȜ>!o>uG OD>qu馟[^S/Y!y"Lb{TG.vAMdm|::]zJZ^-KOb=KTJ!b_/ ~ǣq<-3)2%ӼH04ŅG_Kmϼ:>J4U)5zk]k$Bb" 7Z &\>7=exO?_d^xŁ1#1 Ylt A}ȏrE ںh9`¿όر,v8O62K^AFH3>@o9*8?\#GtKyg.~+GyY5a'~R! & |Yj o(|UGiPjb{)xi7B?{f\]gz(F\_,3#ǫDKpG`jt>2eB'yYsJ{]tH _U&|_ l/kt3m?c}y_ ~(=^ȧ"'K~?"nUޢ1PwsLay<>QJ(/Rjg~LΖuN_)k#*U1'&ܟ<7ˊp}{t;oϋyU*ʿ{pϻNEHsʥ&o>eu҃lϋf3x7Z:S{'?`ϻ6<yHp̏;? {>}|  Y4& zPMÛPI?bg@3 +[?ClI AdqY_& ~[zRxSU8M@|?<>hyny[%y`}HZn _k;=5}i"BC?< J<[ڟpYp&"w:4 پ^q[CoПQnZ줤\?潷Tbs:CyJ_ח 0Q~VGw4J8|}@}[ߣ*k_SӢ̿瑈JʚKQ)/Y)rT(>qKD4xD1`_'8ax@|0MPI7?ߑ$h b`@xmlo_'r3C,%| heFwh4rǻ:Ӧ7?)LI702~Sa}hV_I18WOxl;:^]z@b:D8}[־ϭo!WOq4,u0[G/ |<~b05zvǓF*L[C| x;. u]=|3υ n\/퉆 $z:96}3o&Dg'jyxo&+^7G2D$ W}:?%/q2@~Nxpwٟv} 1oOBVܴhxhETIz}x%yյDMt/:*󶊩 tQ){xly #/(_1D9(Y;yaj?61fO/^=8[ߝ=JM1dyi$,0)ˀ狇X -]C О>m/9־ƖSį:rloRWG)x;,2Ώi?<^JU) aBjdy ܏Sÿqs'=dė=?FCܰۡ^?'7N])@~Hm3xPxyyG@7joA?FYx1'_A ,oc4r_x =Wkօ-/-/҆c~\zߛIWpuk5G=s}iyo1u!{)Qkɦs{.+oNIq<AqsyDky|N}]T _>]TWXJr_έ9qYÿ(T&SR;TȗF}c[&d~L jۖbպaCΥ]ޠa%! o^13h‹I|:&ha͓p~Ԍ 7{e~ͲzEXXaޜ B,0:v]\1v9:(L?h(;NrZE\/@]> 1Q\Ŷm72{ZdI(C_pG[$8? ֳ2;lu:zG׮|1{?ACks|5k \H >u@f-S}c_9+\$[{П}††W ٮGӴ(1-T[>Y"cdo&bK<Þp)S` Q?ҘZ9ObŘ~9|1CѺrŊ#;4oV ƒ3|VCM 3+f]vX} g~zxo*0"?`s@,1Sz'õwUc F<.ߥJ$+9YU\xxߪ2ַ XtFӲ8Pwҫ!?gϦx Ub÷DB_{x Fϯ}[t^UGg>+}C̹'\6(1}YB+JٷFY9o8 1>~6M\#2fGohq/[߰4?i~3g,Q/On e $ HϯGxg cV#.6,C1>~ސ>O j_XS9pP?Xd5o-]j26g>i2[0L>gVxȞT}ĻOYĞޛo֟7Vg֟H. WOkxȜ(D5^xʹKǪ K2n>,<>F%>y|7}8Ed^óo /P<~s>t z0m}Tك˥q]c|t}/_-% ֯~"%\ ]ᜟ[ZVhNBDY~@=+n Cw9"rT5;%?yIZ`yKK͸gɭoH<<@0MHp+S7;1-py'B9sʦ/^eRd*8Szd~|X2E7.v (<{my|qYq0|햗EqGF^rLq/H=?^h$*?uY.x[4z> ^x7Gpx?&i2)O 9 ʘ Rὒ*X/ZE>-dJ|eRy龿,K(n7-Fq>; UrD:)-YB} l&\ec*<~>ռ`m`.7C҃=_~ zld\o^o w}q g`zߪ{/=tEAG w'Ҽx կW)46Oc+Dʎ?K@_ % 0|X*_Jt_frƉ$ypl";,X C:d}>K%s$C k肣t–'jܷ\!tz?vY$MB:oVg?P@$8{aӚ ==짭 rZϺ{l$tg()\,FT7#}@zG|MΕW.ϯwyrOݍ]iY)N߂γM.b0*փp~H&r +ƒzt{_o[І֧ͥ4^'}R,HsZ>_1gI^z`xY^(gg_C)6@x[ooACO8%cA|ħl./@=6s?óddO"{,y=Z!? edyx"w_&" Gߛv>sqmOl\2l< ~ٛ_wKPPQo8lqOFzoux(st_d=,oP_GZ}?ymyW)=e$^4B_w|3'̑22_̻Ρ(86I-OcZg˳qyv4:ƻ80&׎-!F'B_}']|qKl: oGy>[LM}Oң;$?뷊io|/ Qߛ{e )K^z:7%G3Oz۫~%b><ӻ^+@V%^]Gπ/R?r[=@9k;ф&nu?n}Bu!2xz?oiPOxHdmO? ɃW/} _Xl2<e)*RJ@E{EJxɿ>G/- _տDq'/aq0ĕ=&CǮnjOX$={,O'EE6>3#oxO<ƒ%7$aN'ntV7- ~L}=r:'^ơx)ѿ㛄X/tfÄ+dS'~D䡏'#C<'1#`=?IUE6rѺGW&u|-;Cq~Z`ÛDTi~.UvY*-V5Lǹٛa|sooHY![xW<~>>_.5prx|/Oh|=}? ;4ȘKWOxTV'ɍtno^o~:mdx?# 1P?S8̌ifkuAR)6Cfl7[>O?9vx3vt{snH߁/c| b /e z"[yǒ0A=(_ ~rE| VqہTp^^?aZ8]{LCa͛8;VOy߲tb*nׁ|c,OlBO;{oco-_7K~@̒\0:_'/2b׋ӏR\3sX(q@y+StJ3_H*9T #w}.xP!{,Fy]00Us:P=8nUik쇥( ;|V T? W@8B,mG/KtW).O ֳ2<W"^%?N* ԰_\%uOeLW3nR 4?y&!`=ix,Cpm0(Ehڟx:Pѕo^~ϫkGcxo:b jOg%g69 HF(0o` [eد<-/?ly%Bc7<6<)bk> 0s>"\d?x<XFRw|gbV`|~7D8 |O,ԓ;of.E~ ݫvx9[cjy}6L΃i+&IjASP ]8>@mxXcw>>(%.V-'.ayxk҇7=[Np_zl]~}}ų}*xw}=x2 r:ˢwry~[U<>[hw8S?l?s,y9nrN%}0%/ld_wCkVk_|S[kz\><j^gXbS[ʛWla1OCz?_޿Rqk!~D}R3|#I_q_O<<@_xzO|'?wxYL*DEl^3D<ԫ}eS;z*78i^rc@}sgR`{|q۴!!/:mDE,7 ^Xs< ^,VݨY4/ޕK>gͳ`~P BxW/KvC]d)y j>5x1>V?zXy@Kޠ{N}yxcѻpA9 )AI׹ Ys:NrP]+v]+k }=ݗn!Gx[@Ճ޽b7܄Y} .}ޱ '0JNLG4L`x_"8O) `wN԰xVO4*9:{>PFFN{<@x15A:Z3xhu*{>ʰ?{пʌ_nD͢ޣJe(EjjX^%\! h~utRduq" t(w4܃t[e8g>}p+>0&³!H:{<ęuxu={5?S??q}=bzYR ,ws}!%^>Vz$x$Vp_?5f<1궏Oyȗ^3f*ز~ t \Tz62,c& 4/9N7zr>g7&<ԫ RF~σN MX#O[JQR>0}2z=/y%3E-~S rܙN6"+P;ʧuC;y&H{B|jO6xl;d\oҲy.Ol9Jebl߷}ϩh)Wf)Iw8x|@Fذw;{4NL0f:y~.Hf}(x}]$JVORh8ww")h<uXa=!F.Sʌ_GiD+Ho 6C@L|L=N&6S? l-hPG! __tHDϩ{gcZ&KxѺ1OogKnH>Sp͛CӮHDE??7>aI^K=l'&Np>̕xmϞgzc jr8Z%x@K&Pxo5=pB?|紇vx@2ǥ*gN˟(%4x_T4G=(R@Qgx ~@q=Ǣ_3x%"s] < {{ OId*-Ãl"g(p/W³|?ܵ^?o[͟wL2O [ gcTqxC:qZfś2Ƅ'Oql•0,$O1l3*gm'~x^q3#=xE_<2 3ȱ=zK~'u]XO%rjx@J*6 dߒ @ƃ ?Us%xm}xL?S֫T;C"~,[>čFP YH'p;ݙSut*,uf( w m|=oC]z%_. %Z-?kJ -aJc>x)AAUHllZ<0ƪqV/Y%jYzKK+~{2&GQ|S;aR>S FcM(!^'ȥgY)c_WX~{ld`~h2}|5E^>W<­gx%ZB/Șnt Pz&r8vr}r'1x]JfAdR pޓJTdXڡYa򮫼G=f1qPt&?Hz*9Q2%8Oy?%U`s~>C=<  wn>~/Pcɢ˦GY Od?@{ϺsyXrɞH> ^W;!.ޭ i9L6N} ?kӀxq8텧g7/Hg6<wV.?{$iNe(sM3 /" \ýъ,iCmTxgޡ|U$'>!#~ ǃl\8FY6dywh_8ױ`៣ | jߢ; xCJrR?`t&N7}v//3_x:c5Ǧ'rGm^{^twGBC|ȳ̮Zctµ.uQ!)lq0O ? ͮ`_;vgf넊Nezo0U70UZ_6Ji[Cex~$/ׯ X|&uU%"g:&ɭo~׶_~ ﻣ7` ۟lHa/o'"E+Ul_ koq8}5H*>~>V,L_̟}c&S?o^oR,ђ _y&vnݯ1y>:a_ ^RE*AH[^ءwc߬?GWi|3|xe+30):p0x{u_0̯jAzvA o}$,M_JL">0hJJ9敷~u`S%G 'BׯwlUoE*x~'7cxx8(6wW?||E&O&ԡ{?At4go~,EnBo><$I#;rT3?ks㕭.J؃N$ uU׀O=K1Ju^#ɺq~YۦRlw(qxmUr\خ1y0Cn#^'0_ma)TlS[ E_dZx_8HE2]B?K6_AUr+c%~x%|A~(O*HUVߊm>/*zњ_7Tnb bxZ-gGjiEGҼh?+Ik굛?xMO E jU<[pLmx;X_eRy[X_0VaҏS}s{k/S͠ U U!0X5xΰ]gIi價y,F</\OD92UD*%ȣyucTa7u΋S1Ⱦ\`} ^!rcnt;D4x;̨:%ϛGM\?^xqHp?X:*.: ^nO@QCa%Hן5^%O6x2A  qzU[ǟx/CJg9rn}ggߛW͑t<@$K& k>W,i=/L/~[<5r~ލ ^^`}V:"#~ύwoА+Jp3MI(S߇'v 1\a73D:1 Uᤐ?g>PzXʗoˊ{4[P<u4+=^wlFή=mYÿ(\i{HPv1PNE,&[r $ؚ7/}336Sy̶M=>.Iͯy"OǭD+|/8O!'΁ϰS}e(C|y8ICxk$VEZ2-{4}&颷(տg@kn[t}5x`Ӕ|.t_Z#B7x<~:X]>zO_ocy(WD, QūFĦڐ>7q;ԟoCuo(MH}!"Wz>_w_Wk [_\ Oߡ\\p^fy|=Ɗ'^:`k>u^–r6'[^<'zT=P]ӧQ SR ,[ʤ@~> R?1ypq|1p.RJt] ~#B%\xkb)ˊz_na}I]AxPL}vs̒ // i)Kk~Q/~2Q9;Y [ݝ 6݂/t  <)wPh% a_C= Q Yx.G3m_y!ӷ!+~:kȳwIihLkt\`4 Cd 9nNP̴5gCYGb̆Ge 8<7l Hi6  _,P/,w~]}sك.;,gREOg *,~TO<yK<~BS)G+^1;u <<\KPcykK\}Ӄu!&+ SPx3'n;ۗ6EsZ暏RyOȆAd{7Z^hdRCvC?<y7yo>~t}dTMw7*"7|# UdV< O/ULݟ﷙q3 uoS(d9BonE\N ݨGv >PWz2[bzC6 ot9;~!~ cI@?xQE=ϧ_ח3$¿_xؐy|y7(UזG7S8~¿_UrI*^,/=8އ7wS,!}r6m&O;n7?-/|3%?}}+_~,z)5 BKq+qz#7? 髳>Ȟp؞aZk}= d;emvrmo 8ʫ};}xxP>\ D\nJZOp.@{rQxg/%,E6 h^gWJ4:#AOi3w<g^{ Do=9{a}37+Jay=̋eo®/&|No>Af<܁p0IxrF_aLvaj4?5Sl Wd΁T.G\z>(?tLd xL .,_Qז-O >FVwl9O ^ny:wO~2?*wR /4r|X^noJm_Bf34lO@h8/b.lT! aєu#3U ^';*޿p /̉uR'=(5x \DjyǗ{4w%Ag.rֹׁ͸dZVk`7x z@v "i:_KO=Wد9q \`˲[3"b>ԃIFyC7 q3׿9B']e) L z)Ufޭd^uySY@Oky^#]00v `d9T-'n]}z=o;Ki=x*_q|w#qT,n5⃾V~cy=>h^عJ$.7x/Ƅ`}V֏iy59^*E"<_aų}Pgr߆ 3-)nu5'=oJ%_s&p@O9^wm@$y[&o({J2#+1ۙZJ ЗϺ|zv?(@<9»:ͦHm9W#=5.yՒsU=MT_pHAJy엸Y5o\[EHfL 0vo`왷3 \q)o/ ?O쬗<(>hW\ }G1^2@QˌBoqBr~ū .r]k}{kn(q 8^.}24-<>HaԚ>{{:>鯄7BwK?2)ZM[<Q<+zœٮP=W\ &=?؉O_R/Awk {iL[oP2zف7ov )S=mO!4C?;D#w2|OО8N_EjЂ7{1_t_<>(ϰ]h~lJӏ _vW1 vk3X@_/WrH1Pfˠ׀Ŏo{ K[3(NCaQ@|)y(2);o>R:I؟K/>Jt??x?=\U߯aHax% ]Am4B;/G:92owZƻ  3lg5)z6O Zc C[Pvg()=>~_gt&ES1Iv>14.Wҿ^*D=|%x7`{+[ x☯ kߗBEߟg~|g7f'~>{Z<'_EFBABz3D!2_ZJH u/EOȕXEqnvM, Y#@խ/<0o+]m[]"AYW \<~Mzzh:|[n?j}brI}iu^ϼN&~W;H>-.;a@'; (0k^,Wo< *Ldxm}4օ#<LzTzZCy/;;OgρIp'8[d9I6>tx{ՋNʹ2•svx[7 drS 4G</?䩼3)I/~mmɓ j<}H}}6:`,Bg;o3zKc}×O7g ԓ 6EMֻtO@s/e)?uq)\2!Yx4 ^x"U<aRȢnO@'<_|{BWO?ώ"@<0ͺs|}.ΡxY T:6{qӻ$#}VxgV֗u kQ~?"Rj|N^<1mQ@x@=NJ%@? Zk~#J%<ېu:oQ|N]녁xUütd*K|SE!mS xs`}$7i"\9F=3þg7 + _L0ܟz@/e pmKzMq|42'X-N]'/\;zo-/N?`sl_uBrWy%7-27}ԩ^?>8X*7ofm;?ξfFV@(^~c}ھPxF {yٙ#t^vߟcyq2k"Zd6}<y M!z&[[z]Ș@.vm]H8c4|q;tY؊m2- Ra^tK%eM{_wx\|0@ K!D  3~NT)”!@~Q } <,y׳:'ӂΔ诬)&8HIuͥ +f/GR-aOިmM'_+8͡_>6u/y\̏E_|ׅJY[l~ݝOk|E (^/EVyxrz6 Ļe"πx- g}yb#}ggW]x}h[<1Ż^^agw? Zw# ե߿E!V+e^(|/ G&<xxSŻ>œEZ J]3IEK_~]W0m< %Xog rbx0"L|Z@~N|ӫ׽P5.uo߇.#OK>_x o 'J"3N;dQ գ*Cļǟ%k}id3bߧP{ّ2=,^;i}yR M|Z4(qx'6%l ޵UUg8{ᄒx23<[rgkZyˣ8F:pqj׮3vx3 Ͻh{| Grx $pwf7%S>ߟûȉgkTʢ??8kq R](m"ޑ/VgpGq&;g?peϛWJoqCsQ7 :wX/t>{>f  cHL{d_KO0g~"fv}hw5P/~SS.> u~ 1X{ŻC$ KibA0|p6LlYd :"~wfP5\oׁ[l䷀~`|]TK}~X"5_ܤo/Ol59D̮u^dϒ?k>I>},,m*c<:V} $C<}">3~\K!wS絷dK'yz)gz:O  |JT6HR-q?xⵢAZ~߾]*Į؝=]R}HM/^Z qs:qC㍏1<"߼E|de m`}skRsAÆ'z^C{qJTL@J|1ۯ? njp|TyH!}o1[U-xOU9S3yrKxXnX|^럪E1?{A3|)@E=M:GO?orYc_/ DZ#/M{J?!B1zU&(؏ QBC,^.;M\ԙZ6.WM-E}L1Q;{]Ƀ7…njq ֏,^.Lf#zc ~wnk@p+ .,s޼bg~=Η] W˘ϟ+)Dy/秓eXM/V3x#ex_=**U+!׽|Q'I П.E|׷!dt3` J~o_r<{EBШo_5-Ĵ9TgOR,[9}Ou񘮌x;:B1կ{<,~CxY.~[Wđ(X<ro' xnGa|kDdLtwo)hU6dB/E{x~d,B8?eRoI=V_ğ5.E'^Ro[:o_l3/%Bq,v6ޒ@=҈o@?ڞ$*C, I5wǥzY_^V,"` zZqrvGޓU⫡QWʦ"[pev>d>fP'vxFԫ؟֕j *(oSb6CwȈh_jʃtmg3cY -ްG}ӓUH>̘kH? ﱾe]ˁe$P~ЩV,w3/_b#Btz3O<7*3O<Ϡz-N'yj,|ݒ#>C(;8,=>rY1~KϠPr|Q/C8{#oɴeQ d@ǃ[0p^wx?qm<1úS+Uâ4w<ߡx9f{m}1M8?ǫ6^jZ`KʩSD2Sí<7΍hOáNoVoƻgxB|&;>[ǒC?̏Dz`)tQ$|An!Y#zuPA~!o=**T03=-xo׷^aO?5C?CC|"|Y9E;Q=@zm jA;AاGrǨ #n߽(TO{~*1qopZBT:wf$rJP|u  7+M'p|/NDs^~tިviGymZWLԉ%`@ΧG?x'x|g%wZƣ*Ekc&nsGD}}ے  ߼S.}?| K/5僡/Ozyşn|qkOWz֏ID~| :n/M5R]?Dcny NKK(6~@9>nWjXǏ^h 1޽lka qr?_^?#lZi*f{䂭_ {:7qͤ/ Z)ױ𓏠қyW?+1Es?u#rp8Ś ?_nRQp}dt8:֗ 2yRR%'QdN59t~g>^)iJ+O+50 f>i1P}>7hKV/|@}]9Ey%džмoVsyח4>fY_O/П0+xX7#$[-m9J{u?^ͧ&_b. 0"'D=~id-aS3:\xX+qW?49ǻv}'2] q~WmPF͓mI XT~Ëv!]Vdpx3e8'>߾<{!00.]6Z?%3I8g>N%m0ƛ}ƃ/{o)ŝǎ#}/ݟ*Mw'xU@HO%v;bAgJW04@{"[ |<>xr> ^C=7mH>/9'JuyLA/M7t-bao4'9[?zH^x~,}|Ƌ>A=fѬ R헞A=wSQ#}"NP~k <\I3dxXs *9<xPR^dQ N}~Fԃ}/ogI 2)ڡ\jezO'^A[<=i/ꫪx / U/0]O?)ҕD/. "tĻS]hsb=愡޷|e-*T7|@k[<?X]}c4NÎϦ*LSPߟba bB>zC{@@<_;I$!y 0H>:+ ߷~2ET<3]=hςËU- o~y=^>=} }/*XI2htߑA*|f5փwOԤEKPƛꪕU;MsPp^?up1S3i3%bPu?dչHi'#Io};1ia[c/)'?rM.p3p~.!#0x6|Ȝ/;<~)@B i}#οLdE&}8gOxtCGjZ/{~Qm|3wy)˲xk#C)JbsGPǠ|P%W4,3x]?%_dΫ=1w@K[cZxNnzr Y{}\`}UU2y 01L&мRmf`ThCf%j&=#~AD6*[b&Z="o@ r<٪Ԧ87z5z8n)p>y;<:_^^.<>GKmbcCl=u26[ !eeƵMp'4!>^nJ u^/^oxM=_ `l3n *?OGTk"Nl£~9TYU &|U<`{=- >sxKUMq6g*S4OTǚ T#Zd:b~eUN 7Ow3NVm\B BOc!7/cNvu@?f.).!L=&nqL?v(-S"kߗGm]oEm<MWYH>3ogsmM a?.z <ӟiX(쥽>di|BC~O\ RMU4 wm9$ǃ~}LG!q /W/G;! cĉzłx%P붿\}(} P}+vłgN}1g9 >cDƠ[p>+/ dRbRM K*x]m ~@wԀ/均4}ax$|4>{ʦyں9z7ިg%O~o/iN0Iv%Ŝ_ zla>u|/Mۧ5[O?񆇙ξ"ð벘K#?&=g>Mχ=~}oS-Jt "SY df\v~?- π~-L4ȔYg&X0rדӳ _@"I/דq;u~.lm#<`^6Q~PܥAh<π#f5{^+OZInt9Ŏ?g[4: 䇬(-28~BPSoжlea 0@|_p Q ]ĊK ʗ?|<o}=G /Kq\Pd=]lJ4 'c[_\:<._+\͊ߘ/Al}<3`+H~?|p2@K^ ͸~}U-1|$r6 8_Gzƿy>{f˅G(D'4=h5"__\E"x5*_7>:G,9n)3,Uj{~o>Xe߆Ux=?o2f>mjSy.?CڇWh9r<|>TZQ}<\hXlz<)&'a@- )SlMͷBDDoosEN'|?U\|LoR\Lr^cڞכb\2/ QÏ?߻)7tE0>7m]z?cc 9Mw @` P[+c)veƔ?s|o~Y̏灭%}Pg2J'\o\-L |b?]̫8F׵uc?OƢ\/M@_y{e\j OGc-GF,pd^Y`wRf+`/z%ߡW_0F-ԡxAuvawAH?wmg6N{[Bd"y1g@=hTx.>Q 5F IS<q9QV.zz{3D RmZ(r=zvqKq&q_Da5763g7|ł@ȤќZ?H!P1zxCl?e.E/}J\(TS_[_|`svCοA}2(MUr_z^u;OtqFM/TPemܨl_Ο'o5͹󠾍OX~RMefT .H : `)ʪ7}Q1Sl7H~(Bwq=4|ۻ^Q1[;gp x_} :gTHe`|xl_\Êſa<xׅOgxC>6xc6O}kl}Bgb?x&pCK9^~A>?c':}}zϣ''-䓝@<=͉gB'2k!Bʬ S8F5W?'nR#_`Sbuk_=ߟ<\7D|VTn04gs+ "+ +8Z '!oS|û/;ipd@x (H"=~:GzTʒK_hvOzjo!_>XO)VeQ1͋S+<-N_9O؍\Ie*IO3Luq58Xym=xG2qw  PM}}?$Z|y$o aLŃ_ :/y*TITZ2V|[҂x )_6xuCNe!G ?{Uu=|z,GϷG/^t` *I~Żhz}P򜊥B*!~~⩌%3xxqF%#˵bs>CO t_W2gv=E5joq]H_:ܟ'e4*UZ!i ݟpO}O2׷xF;| T@rODׄ!ɲnp|iDžY<>7^)TdUZx.^qxd@%ȵf/15?]+_nedf<{BF +5=Db.¤0零O:^qQr N\mE ?[JFqJt8OGݝ~ӿJ; }_rkTXmDο@%Lc~4yA@߯H 'x(Q@Y)!x I&=xZǎ(%}@>[D1,zO.=磕. v.AR~gyC^+o_ߠ7P 9fں3"W!h4nww!3(ߟZkޡ6y:?[U0<>o)3~/@U-W8Z=Ɵel|9d_ 0ƻ3)~ow(Jw?3S &}EO<7]~ޯߪcRuM샿y\͊ђP2Cا+J.TPi>{e 珉x\/"@F_zO} xjr*^V`xpLeA#tzoMRC\{ҡ%L\:x]x#5ߟxP?{ف>h7S(:DzoWѺ {EǟxP">sx,YJkx+qd}-^ox?ʺGgzj)x*^}xlJ1 ϼ3<3R2/xm:^*S&/7__O~ |=z*g׃->@xqv*^7|re9Q}aS ?Q1BL|ŋ"?= g,xi}7RW? njT|/%dEE)fkujA80}?DW9UKl9yy#GGsrE,xBIv';qYOВ]x7{ʟlN>Ryngx#\1W)xOBΈ v“/ s6Cp/d~jomO/\!80 W=8ֳ/1G迭|'l:.Q dt"g~qѠ ~I*9Gn!MxÕt_j<c$i_R67A[zbs{4t||W2?7&}>c~ ޫ[P: CӢ/{CbEi_+p ]5/9 OΓmDs0[JD%wߟ5}Sg{x]eN}=Gg #)#tZPG}|7j:̙o]~cyN|8&QC<s%$副 :e@O;@ ՗׏I?oeÍhb%pR pŗx0x9cr 2N8 vqA Qo1e(aUxoxP#A @opvKf񆇉D,yKOb4õxٜ dswfmH\m(:mGP$%k,:z^6*D6 C~E )38b[FD%_goT EڂgޟoBO%0=ON0 |)͋}A@pU 8h"A{Br fRxл{ ֨ ?%3(Ox@ ~"껩Tzk@I+Z!N]G%/X(Jr{`z|^_0_\c]DoUR$OIn3|jGBΟG^7T2)KP=4\IJm"OzԠ;GY)48E#?'\+=tăq!t`B \ {!cy_XVHA?~ݢ^~)vLi2cyS,x.9 fWgLSL٬ko-B:>ɾbM^\Yh/9m 4/͓;-4CS`zM/ 5M[ |\yWyX5g拽'@/zOY'Jw{~)@O={AInÃ_"d A7ak#CJ6OLMǕpRu1 υPڂū fOS}fWl2ώ߮6hnŃ[Sk?pfӟH;N PyW+j,LA 'VIw>"\k{wOB3g/ `/i8Mc 2X$O}_ QySKJOO`ϯzsy埧I/Gnt[IG!AOCt E燧Z2'ߔφ)q:C D-఍l}>ooD:?yo.6x)_ X/sq5]EENA\-ȃ9? " Zsxxs*/zpg?O}qtx:Χջz3:/ݫ7=@ _Uߒvk؞(xoy'Y+_=65~fRPTXoT2qp>Of~y^[]^3=_Bx߭DcFXix< z? pf,Lq.O/"#:ϸDC#gP&4Tb)5Կ)T9yh^G(GnWlNr 'ԓ Z}|Dy,WĨ_'gV=e9ξbm3M(óE^x&H;O59R3#`KNW\'x@5屾H9v]M%yg_+1W>4W"\' ^̩[b|yto{|@w6[^& [pA׽-5zC6,+J| /5)}/0/*YJxy筶&6v܂Dwբ&LL>&S.}塳p)"? yӖ?;|Zay;\ /͑ :>s^M"s;/k1.'Ҽpm˻x3Ҭy߅~!@ ϘL/lX_Y|n\Oyˇ'Ng;Toy"ƙLnxF-GtjKh''yȑyv6y g<Ē> ?}L2ԏIH>z"ƕ0|fxMWϳ^GL)ēSc8CA2mc80p!>|#`{< ;A<~9(}py?ޡ9 E&e,hs٬ff(f~j)bK?qhh:`~ =߷XÍ)?  Z1\/cb%^8S=m\h̋  Ər|rg,.۸fi;'A~6] |~}8fgy"Ƃwwoq-SU]_ (^WTN[~[1/z `?=T?k@[=>jFo [Ѯ_k'bQ*\<|>)&Y> V>3slQގx d{ίeLy4/uWy~?7V۴Ͽ\(k<Ƚeޮ<h1*%}_ g m +I`/&>}{m矡Q[}:>y)Cwt+_o17(X՞89@H6S/pt`_8eg_Ktbd)\HR\"YBl7-gCĠB+v9vr|(x%T0 ۟Լ+Du̢34/C_%؂٭}s SxAz}eZgsz_jFPˣA*_ö,[0V 6{h]0ucB{E!^0|^lX_Qkzr۸Jj~4?<c4S~ ?> >Ri;>ⲣ]7K =l>m?KIAXPO^pS}+))<Zv^9lvS4?3mqkKMrwnBlE |)/W[,bs<@?kQt*Q#~o]$RA/ ѷժ'ʰO[/< (=` ZG+3o.Yf+[~'y/_[ pz3K$1'YȞ|7XK -tZ |VrO~uQy3쎾~mϗt=+K?W 4d‘_y=mm+RѼc%ڗ;onD~x@x.Y‹T(0Y3O短kTgmyd)>xuj|ah|eQEϣz浱 X]<ԠJ;[ςw&,b4k*_?VW-\:ou;#6B G>xfE)f"V{SLqyO+\q,)jΔ~Q&s.1i><ʗ?]g{|y|+"_7>B^GAj 8SB{ _잫kCѲ'gY{A,^Ri# "Оwy@Ev3HC_$x} lb.wU߿7N%악mi\~wa?~Kr#smF/qZ8rŨ_AcwǃF[vxTk5GG*5Wҷ)/Ιo_݊ˋvegwo ;O_دꕢLye^j3Ujb.TN=3y4x5T^@Onu]w.wixvߩORG%(|3<=68^vܥaR|[VT'Ie3Ifl]^\}?}*ٔsSJ>q v*J۞IŮ4Mb:V s/߈4rR|睅JV?*#,/qhaXd?{Ԟh|oQ|t%),qj!˗-@d*ȱE>k;uBCxRrAmB,#hn͢\8p4d3D$QXMeFR  R?jgƑ)%dfv1| C/HEr|èe6ލqgZ{rR DM(ǡhs㏢܌@nbxXe`j;;Xe<L#c&Oc5Pc5cUMՄc5XM،U{j`vk;BWx2į~]xəeh)b|v&4~1r41]*ÈY.W);K(92ؠVLp%,wuD]o"r*' V/n'z8u'!hHOa086en5ǢIЛay-u"1-4-l]2|I.#B KlcJ@bd'V|#LyRH$"z#dWvtk(o"ŤF!by}qWyQ1[bUR "O0z&T?R[w RD"鱝(K|SJim'[n10 г}|ǔ@>߰qA WG6P҂oWY詶_Lͨb^7nPՃf/[4 {T= ݦ8*}OP:}x\}:M/W޹ƥE.SeUɮyyTXDع0%(i*=6@ 0ʋ2tG/5@2"՗z)&Д'@b~ؾ4Hε1NѵQ99X N6F,ɣ O{)΂5\d1F҄ /fiA".DpiXOp<*4#! {] qeD4[Bs-/A?>]O[ W;_sX\(sB)/^thųt6gDL5sU|G!?hMLq5dyZu)dݘ#7"~2U+VL߭8jܧJ&:2qch{DR=IiTz M-PdQ><^lPHnK!s+( haNK=9<4_fl˄KAgR[2%yWXyˬr!Zp*Yf>)q/UJY&Ot*3 Q*MydVyOSC3M}y.Ǘˈ'(k<%$M'' \eǽ|kZ;➾-NC~F7)*K\f1T'JQK_?BE h9sbsȮEza 9եzbvDLݧXJņ+g2VS+^=21cZTM$ #,zR3NoŽhtUi\~n\\,FEUj+hCKfa3r3.j`w`^rѦKU9)ƴ!}!C`a\r?Z@bɪ0+1|e#'?˱ r0@3E\0vʣgʅ Uƿ2[e9ϗ2)Iqu nY(dli( 9ʯq&w NT*$od-a|WE-`^^G0%mP ~5NY#o wf%r 'pE.M@Dz̦\BD$ܱ1:j% I5ȐN3W\r.KJX5tG>$ƝJ'2Sߺ>$KY1n[DpwHIi8v& m0Hhty>/)/s\1pG(K``(>ԛRڰY4Iv3 SXe$١( \fo_m|i<\[lx'JgxȜ"}G:9VhVGg~/rߊSqD^f mVnD@#=#2:Y=|")-kImn#Ǖٰf$u<+0^Mh15+/*1 aNxIeN K\6KHX`Ilď@݇0A葦hٽkXR!>Tu& tWȸ ]-HXZ2xX, G_9 0  0 ׁkBuA 0 =;aīj`@!uj g1`e4 drZC((4K1^M=M7 ,8eQB!70oU459K\uhKL4inӀ#/(>ܟfXEEe.H< l9`ذU!chdX/ !%=+x$=IIA_bɤ\a!I MāK=Zś Ɏ촆d'GBiY蟎,(/:&#c=d.*I'lҸIU!ًDdHr6hO#?7R^-7P4eT,ߏ䱻}v'ljU]%ѫV=B)Cţ~Y[Qxɻ8-b ݄h$D#=) *iMh"@i%M$'[$xl4@v $$GĪ\Qq_|Io7XO2H=]0O pApPGehn [n@K1Z⅕B6Lje'xlb|3aJnZL҃ɘm_vXj2ߺ@ͦ}XTj$50fbeK){lf#Qb3*0 6 i2(}M/-:JΊFTe>yX}$n*$XTh.c~W;v,Kjk>!:fM嚣E7k9wl5;7uAs ! B 'p/G3i!`0H%h`xFHv܃pp`m'!~]yJt"PPyn-DP/sa7z5Pt:i<#@hO “kt%ъ îd/7aHmN֚i 4%AD?pTAoy˧-D2:˰$?0qdOdQqC{QE2TD!39 i$#qŹ ~BĴv7/GfZvQɘqg ߏ_}vX!ꣅ{9SM 3*_ = H-InFpXOhߏR}v"Q#2AaS oDBV"{GCH/h""ګ*j71z%٬c>v=6^__<?_i6zV&W%J@ @K0@+xIZLD}:SE@Կuv^P寮Wl/ec`6kWLM4&(xl dۂ9 2aH?j59t4nbV~Ŷ5V+?Kn5C '8aqžtC~mh#@6ԓ={ZH`i!G$9Q )~h;?=,bin ?8GG xo8p p :c`Ml҂-CA4J?!ˬ)Ø)g %d@X1_ȁǢ7{\ 'YN-x_ : zKA5CZ$yv?l zu 5k;B%yGju=Nсd4NQI2w#*Zei:,]3A1M{ijW =" ;_Mύf]熛z^vag##OǍߗ#0 `40 ``~@``80Lj z 7ۊA3' T!Tnу[k@;/sa7RϵHֳ:g<#?MQ[2c >Z g>wrP1/܁$WBwi8x7q* @@2Hōw '\U^ 8ZD422Kgĝ^%z4X 0h*__ivV#WeI@ @{K0@+xIZ%MD}:SE@Կu^PPnoe#`{knWLkDf,xlfK :a2_M?͐CqK(v\Wk?E[^=İ1A iIgKˇm]ا韠vd囹K[{Gu 1SHI킅w&pUxdo8׵ JKhj!ʥ5TAPXHkSz*,&R(w_?,D7@ \WgT[\ߍ'/EX__Rf. 0  p0`@;vBG `@{ vb 0`"MB$d%1Y@zŚ *2ֈv865&hvk2keӰۗWT?p4E14W'Kw&jl&'GRYnև7q#mVG${;5G]Jn?"ղ2f(}J;Tgc][LshsOsqqRU̲i6/q{B=eN`Cc:NI ['F2ZW2%ik2F|!ǧ<ӓI<cao=.GQW\9/,^]eI^~/IтX!R Z5?=Cg=zP۠y;IL[Ɔqڔ? $c<~?*]hF4\ʱ|6Ie%LebA{Hanٙ! *CF$!3"?H;u GmT:Oi?AO &~Kx>;rڱhY$ʫ:gbqH-m-V{FGI R͌vr(@V7ۧL㟦L/迩A @ @ @sߌ:oeo}Z%Zo soBugK[7[uA ߺZͣɍh5r.BpZ:T,ޱ \3C8@>vG='6]&F4_(eG$vT X%#,z]Hjd!`#Dٜ6 Q#3b <̗q QHFf+ܸp."Y %u<(zL2XfHA*P 2W7<)کJx/l*ڨMę=-#XvZO^Ao/E.ó?O[–9#Guo *v_.]u[\3+P8]GWmʑ sb G˛ 9v*-ȦDzY"@$s@Nqx,jv4xHSȕNj5z ޵{j}  )4 ' ik^~:o:1J%?)* ?z70 `V 0 Ng8a;|O0 `0\ă( Dv#d2f׫\0\37v݀@'8\\́U 4?+o%W3ס+\FXyuuj_~J_]F~ud&H<لɘd ʰ$C% D(?HQu1B7x!l\35wK03= xFlI"DM{dև$ >I|nߓVQ5^oӁصbg"HHv?6Md*(I8p4צr,MUċ`˄R<;NHC!T@C$[٢s&CŒLZƿ 6rL?~ڿO Hn?nvQ\2c >Z>n7rT1cHo}8L}v.wZܩoWx-N fiOx>;OS1M.N1c$gZ6U^ *Y4ziVBkkf}K驵v0mO͖tk @GUݛ????c(ퟮ+U'%~j< vN1nRQ.ۂ(t[^vo@=0`ߧj`AdѨV=AQ'`?GlV)Ɯߦ8/bz@! =+ :eU"@*ӡ1c *H` \KrYJγsZE)%2&pMEKG #By;@  5(e@na#ڢlKP{/sa7LrWsO 6 N:pZIfּ ?$$KrjjnhߏTo{XH&Pwdh4`_])\Hn3}U/ƥdҥ X]$cׅ>WG+$Vȭ ITS&,%y}jUF8)Ga>Vu7)]g"h ছ힝 :ջ+pa#ObF?&JKx>;?;ػ{=͒S'01_$?Ͷ"{~!@۷iy^7#2ڼRd>qxjw5IߚES`*y,I7h~JX>D0,LebA[HaY! CF G'N&ߏ2c^*@`/l蔖}3z:1f͔a?x4ߗBU?A?A?A?;S(Tڟ ڟݢ٧T ^OJ|f{$Yʝ*i. ][:h@?Z#نF4@mfkJԫդ Іg#jv?E dȭ6WOǢ g/GlVw)ץԷt:c(v+hΠx!юSe(#>QFzJ,0GWbx{lP!@ N:4pBɁ_N }O1 :o~7+i'M/G1v =~ @y[?)c]ݲS5t?ZWu8!״f 1nJ/4}(l= Էqi}w> :vgLug㍞]-Yp3fh4Қ=1:g~S;6tjj4sROƚRDlN] 3] Iـ]85Wj*^EDRNW/AtŜ j~NK5L?i<p/ nhc0 `Cp@sp"lbr@F.gz^ah&z8EXR6Ȣu-lST2m*B{&*`ug׆ &߫㟝Yss_Rfg0 K@ `p 0<0=pzpzf ~dxx3!~&މ?5}7 xU2vsx59Ywmfd,A%w oLl;P3;羶v[S'0>:Tk  kD: ~f/.xE3"+{g'x^҆d/?2ɒvǁTxK+/Oy񝨒 ׮CŒ<1eI_e&6hϏTg7:dLߗkgR5-Q?[F/'㿡G2qS$ߏq쀜 \܃ԒTEa#y^yYf~$# GF1F%&%g/m W6µ^~H\lf2Ma?x'%$QժWPWPWPU5jց+hk_I0^A5xIZtD^:SE_AWy~UG (k*z!ш{ X[z5`uD 0@gFtfڡTTЉ>q^1(%?0eN?/9: 1rgBwỞftC:J,d ,3g3 2Hp1d.x(:ՙo/aKi2FL<G1=v @ԁ?5[*ejhwFrl b/x;5 Ș>`6Iʯ>lh7'@{)o5b6wjj&?5&r?%g%?uxbtAbva;)Ýt# ?}Ic_Cx0 `3a_#L0Oؓ>Vu)]g"h^ 8{#H>5lpX8Iߗ*}v c[gv-;?qg(Vj-DV"{a~CHo!dhFdyr|a;6k5?ߏTPidI°@[*$+IlXDJH.y! 2CF$#G5VU^H h㕾q릋od㟊јqG#P*OPOPOPU4 'hgе?&J0>A3xIZlD>:SE?zAOyTG (g*zЈ{ P[z5@40@iDF2=jAU/PjrePqzfu2iK_zK3!v;]O3K:P!{D@EZO  ^z3Aa$8U2H 9_GX"/Rk:} FH]I{vZ59-' R.l&J(~WBۦ'6G}5 -͊y*|⦢DJJ_ҭ}!Ir^[[TYFk7n`+i yNpV bj4րx|a,3wؘSkM.M6z)| sblNXN.{04%_`>8 厃SWrǑU&Djj׬Ē$فƒp]ʜ'QKIAaL4EWݨ]'u!5a< cs,"vÄ?Ug Rp WQ$2'l£ȡˮmb-}M,=-5==5gW2 ZǶaKv!\}*,G۝\U[ґkoL] -4䐾9&lߝda"_(E21ϥYe1\@#6V8fWAv٣C)/țӜ oY/k"ǫ 73 (ئ&ct@r'~NU4[ZRԍ59%=>Oч>9ʫ|'fdwOŽ8.oݓ$*bG&ܕ23ue׷G3:*/pPJhxZ)]EC5'c֤x@\ <*F֨dݭ,e]t\C߈׽0bz=~9E˅zD_ORDՈa{p`c \J8gH^5Kc{v!2-a2*1$}'Yo2Kd7H%mv{jn̬8SH&X9)5Z 6/Y)>@k&M% 6LhV%ҭSb>{O_?6=`ai[?dwի;ƛ)ih`aj6Ml8cr^A}I氽zрhɡWhPi,-Ճ|몬f!22XWrVF[P梎 % h~YǩZ 7Ϭ)j #0n: ҽJv ~kd!S;vѶcTb0YC7֘֏53%tWƗ2DwU-Z3 =v+ /ubWGJ-|Gp9 'e?WF:\b@ g,zZ[oNF$GvQ-_r]%6剙JAּ{W:bY,qڏEޮvYce]*dPeнʹ0ּ\v-474oC%j.27Uݽc0<\J`Wv \I^y!0ӿ.kJ6`;ʅݨ-۵XZ&F"ta BCN*xЙƜܠݐKΤj`OR1p?Ԫw誩" ,/3(ZL el?f]l\iFUt3( ;/#%NI,UpӸG%!56OLTJT ۈzUsҞԔl˗G|!ǧ1EE.C| wە+h\#=t (9/ZfȉJ b%0_# o;KrwZTơk-Ie+L,h yVd2khV L.m5;ˎ-qd ?RPY\*V(#lK#h!2dlH$")YffΝSӳ#Ӧ9[C_(O![VmunlS-!ǦO?Ψ|6:BZ-ص-y#9^l1y 6ʂgE4 r\yiMrZ<]xlJXjcn6ϢfYQӍ##LJ=Ve ba`(e y 0ފ)g @i|/jWOۢ9^i/aTkm}ۮWxж{)b.(령{jwX.KmdP޽c0<]lpryN]֚Zp;ƗXn`JrŻSEnql$X4rԝP K<15}%; cUF*<p-mRn7e9A@7 haBLtEYSllԲy_UZpۑM n[IXC<]Cl+f0gh(ǽ5/UUayR ҅741>Q<1j r(,',[*{;q<믡Ȗ i}6-_E%LM4i^tvwF}[V萦k?lkivgyvce[ mh׽ Q[ij26l?}JmwW%Cq)*P5'4G5> ={ j΀yfSx8NS= NSx8h)#p <)=YZ lUzҳe +y1ez{UBxzgRg7*3Hqu]t8^ r$jEI@T;"L#}v$DdpL6o@'U!e2_%Gw"xkZsr=)5i¬0Gtрia+iؕ]h` }ӆUea⹣V"V.,hg mٮ]2<.̣^hpѽ.?, GO љԐt\sRlK+-wDaRM#xh+[5jq{g*|;(/tPI3pY\i[0k_FVgFhfbk%2O,+ GO7rSb%l$s3[@Ǣ7ʇAGᆱ:-y#9^lB{0(L]iH=̖V+ RH{o'6 ì0UtT᷶R;gwaC[GKk}D-׵>Xz8꜍Yj{0'L](5_[[bL.Uth+T!~rb3%P>{m/fQap$=lgel*<b; ^ M o_xى-}z0bT{zS.D)gT"Fk>T'h<&Xf!H,UЀ(>P#]ɢ`@j>R]ѥ.f˜z.E?7B]7e/r܆MR6y8eT W4=4'H:Mw]Z,9aXBQn49m>/ԭI4Ո DXY O^M6xJ@ xB^ O-ٲh'$qGRGҟь_ZoGW4JV7 h@KCWp9݀<ה/@hnQTJk~H#[4[d(_B v{zl8ϡo|M|S%Z7*_ʦ.)hWDKc=AK*L[ j4W,l#)fU"DZyAZ hk9m_3Ścegd)Nfq|>SXR>X,/@}" vѓ/gbh<bS;SsChFں#5<;sPhzn$mh,LY<5k8I'PbBߡʨmuQ_Μf)7uW#M '!)҃'l'މx-i1PPL*hd-GBSsMM][тȅ# ө!4-lW&"zŨ#eQ,@Uא][Ȕ_W"!c~GК`Ds J5рD(0c|Y !HZ2ztgtY'{X!]e%q-bHZzS"Uȏ}|||:`VгeYcܥx',22NT # b\?dOی D ,i6\3,Ӡ$-[QYذ8|k]M2 쫑J%|CC6WDr y!GG D~1Z&X GI'$C @gx 2i|yd E.-H "zG۷l/`Jgg6wG!)9a*A&Ŏ 2 r_Hsl^ymE5@`Ɨ(wW/P$L^@fd$"1 <:^rz`/RskcQ,lmqhR[9h“; ;P޾CrTl}1>n~b#"C+Z<Ea ۊoDdx%[.jȼ1=uBPƸB7gFTMz+n+!W5٢T&*^g,qɕg3J*X^Z2&\,l\ 0E`+MTǐ;'NfRs9l}@.ǗFiT`+evFi/ O"K?RjV{O?3,BKa7 ]Ԗ]r\ kjJ^"Z؃HsZ!_VUm|r0=FyRjmq=Y˸\l/ 0 4,-#8$n̠DpJ,!$sƬޙ~VAo0Aiuh+X.}#e8TLc ?ZWKc0 `.t%@'`19 ##j@_Ո*T`Lp4#,,ү0vvau [c6'G*uvпoe׺< GQ#qH=0 `pЀ;uQ `:FH X@#)8zQG^@$j) ~]uvy? "}8 @u.!W=qõ6J FŶC6nNQs.Gbc0P cB&_|AhΕc0xsDr- F*(3|l[I6 *V)͡&lyX / 9t}#yêڹeϳs A:# НUdKLM5p^%K_kF4Yh2F_vE~$W/OaAr"B=e8J2 ehXǏ${r&^\Hvg-$[􍩳Y[#f5Ŭ9!ߪJR6wi*t@V\=!)$9IILlw854O)-ah?2`;PulH Ɔv|)56 9q/a#ibʵ ً[ "EH)q[p}I]O{M~$Be% gZy-+2[ )}AV~Hõ'|%OLxr CŒ<Z*1'hϏB:ah8MBߗԐ^Z~ KQ!R&WM W@Gf ??Iȵ= "\BŢ%yNyP֕~5?DM' ORk?@巭D*ۆVL%WO'L2?gH#O |I٨jҀ+++k@_A+_vK0^A5xIZuD^:SE_AWyi#_AG_hLF~Ƚ.QZ"Ѐm-}v Sdj~&+:%K%nԿ:0 iߏ#P6sPɓX?1a:iIgLGz^0pHWx{&pPX"@ N:ҁȃb˄RioAɟ$驝CCeC~쮙nKSO1KbBY o,KB.[*kBlLO &M)CY"z#+thpfV.,xTLjfZ^L/7[?Y8]ԣ/ 7_Fn{!ǧ"-V^ Q0fMf혥RT )tET>3[@i6#&!< 7[M;A}٣&h͏R.OQf+f 5z"6 4_l>W:,7eMf-llk/ɵ7KD__izJģ`z%b:_A`@y/hvMwBYEW=gg--#b0gގeى&93~qv@,@^&8=_ġZ+/te^ r{%^>Rl4F&Ѧ_Td`j:>Ep  P&; ZjMc4 6G,ӺW҃G+M2^ѫg_(%D<\ ^\'S·o G֜NK_F`0Й Z8@Wqp"xt h19 #3q*+ dR/@ X]X*~5??/_O'dAd07Kb0B$'{#a ? ;9Zߧ28C*z7;h0 `14 O' `Aa8aA eF82v$'`0X!Xnk0LT}/saz(U@-uhFT1o#>*v'rt\d@ +W\ԲL C*A3|0[E6 t*V!%\X?p##"|^rM-'Ifٴ%n3ωF Mqc9L**͋Mw1˭n7beˋO`mh |,lpwAڮn(/>25"S_kWxPКI$}fbLߏTw˳ZX< 7gD:DĢ8H{gpBxp!oLU33WZx-$;a5wI i}$1Y!٥BTH򜒘&)s{.k?`<Ϯu;yJH,,!#98kvO>)lpXX1(Kx>;ulX k~wrqc'/_[2U^ [D4mk/l^{08< $o3g(~:JKƭS9&"\Z LBw)^ )~~HC'4OxݝR ͮCŒ<3ZǿJCltd?_otK`\MP?>%gK4uZveo~wt0o#y>;`=kIr7:LOa%yVyT:f~F G~F5-DۆNa7:֞&L2?ƽ1KiKתFU_A_A_A_;SըQگ گ]ڧ5W ^OJ֊{$l֙˝*j. ][:j@_\+4`mkJի& ؆IgJ4@Ȫ@VXSu>nYԿ}*`@͗#P6`A?[\;P1 :eIgK0 dbpÉS@sA&tm2 zLh9` KYޟ ok쟌%h?EEHo>6? 4S ڸ?#ov0 `bt0a '<#܃б 7'9xi 'TCj (~}v5]7 x9U2vs\59Ywfk= N4ώZ`?OS1 ʟ]yu\QqɼM'phd@GG ""y[@ $ @ -5+e DbCC,!_Gtب bL:ކ4WvBbۇqiPj(heD+x_bcsdshҢ<R3BJy vҚ%PzϜ7dT,M4ITR=LIhII 8]W5?Tl֥e5XC)4  v3I's¿o GFFG_uG`0Й Z8@pp"br@F^g{z&^ah&9XzNJ6:%cSJ{ uvm8X{q 14e#ov0 `et10 '<#܃б ס(8su$hji0X!Xn[P/sa7g@׀6A^; OA-4G-?6n'8p8L21qw [5@t~!ֆ@>?!@Fag/wsvZOWa4 Lnbyh1׳lϺuEylG3JGEv5CwКuOͺϜ9dT,tM, ):a&:!ɧ{!,F@JԺԺVHna,'F%:^p#0 `P@-{8z8vu h19 #γU=P`_04IJ,`t= 3E uh?M v6/?j =ή ? /NvcQH= `0y40 `t4 #$@``t,u0 8!~2Iy{suv5?CFV!Vnށ[P/sa7G;`6G;^?ڙhiLShFvJh-{V5T'9.).g_OMFFn7/]2vEe>&Q8D?pT C9,HD$^ {I2Q1&Ǐ${wF.$;q , ^93kݵE'ik+up6PR!w*$yNILlw܏Eʫee8?ϗ䱇}vRMSDba Ѽ33o|]WBOŨ/@MvY=I @Ni<5ߟK2@d/o 7t2"Vu+gDFWbN:O.&1R ?zK}S9&ĭDZ"-B'!4{BKIL7 ݉*Pi}?T,B[y<Ć@^=~$7(8F/N$~$_47;φiٲ. F\à&52? 0Hǟh@p=H-InF@G4bX?KفDsv`jhwr cQ?{In!@n 牌w7Sh Oř!Fr*Oꯠ ꯠ ꯠ jW~~+zU'%^k=y 6N}5h׎Z`_uP~׮W~L1 X!Djĉ@a^ف&;PjgVA')qMӱX+_RC٬R]??KowuH D bWgĮ9&A-G@F|``z=4Cu -$ (OΤ(:ioɵPp?@e8cF?_Ġ.x ?O @H^}[}*Ɓvgny^)>f?(Y!rzsڜ ٓLtpa@2jİb^Oag/EsvZHN:CN LnbyjױSZnP hԻ tk V2w9CȊ7cT5FȁR~lPmqJUSt K,]'eGp ,ZɡDSb !uCPmmKFo G?51_hB `@g2j! 8Dؿ) \:U)@M}L&up4kЕ,O mz(LQI*4@/*2Hzq *`pT: d{s3NN1LF}I= `0,z30 `t #$@``t,E 8m2X$3yT5#d!{n@qj.e.f nns>*xdfZR ש3C)Nr$;:u'{1:5MkxEȫR RxpHsSƃOF_kqxU ?_?C>L$#I/*Þz7#_ Ndw1EXuj<-:IZ;n!G+jH?,$\ IUS+~'79ju㟦I0D,ߏO}v:gSDba )Ѽo9S=뿂6j8TGx>;/;A=O@Nx,aQKjqLk  D:~fCNx53"+{'x^5H2Gr*,I6h~KX>$r%-+2[ )4~U?!Z}H'dzNTiM bI&~&rD]k@ڟ(?q25gK״DlYNKϘ܍NPF/JK8 }v@.{AjIoot(c'%y`yZe~M%C Gq ?RK?~V"{encH+%u+'7h OF? _EX +++vQ_A_ڧ5O ^OJ֊{$l֙ǝ*j. ][:`@_RmF4`mkj ի؆g 3bv0$n%NU2r1Fa/GlV) 8/bw+ :eU"@i5U$c$x)ƈ'TTc ],PB-ٙo/&|I7$,i'{4'/_R?bASz<@ vR5{*ebS)>U&Rcڼ#G)XXhC+A;! v^ ot 4 v:cP  dn"yjw3hBl[&$nQNƬȮvh"a:ohMwb.Eu+J s;`#= $շ7:Q`<^D,P#W!A}H-x+t[l "vo~df͖a?x#cQ@UTݨjӀ+++k5@_A_J0^A5xIZtD^:{SE_AWy~U (kW*z ш{ X[ѡz5`ujD 0@rF$g1TЉmM2qӱ(ec~YץLK%l:cus 43$rGA TUoHPOHSoO ' ZPA FjXeD4S1O_i"PiСEBЛşոZoĩy549y!,1Q)XTbCB)l&6i;-ߣ>Š_"#,I0/ @b!Xfo|8~Lq;M߄2"K)PA2%6-Ƣ'aLmUVj'guyK絈KVCՔWРJOj/ K|ג.Hl$}鵅\*̋׷,)F^C揚\!_5Y| ҕiAnf+K|RTjQ)B!gf#cF4E.nƮ\[bMghg}i8m۶My\ I~Xl`,K.v__Rb=`KM!69\W ]21݈M AALs&ߨCFٓ' Ys4<`= iI=,vE֊jfb, AEgT3OdgFvk{}%1LuWx]_bGJ uZ{,h Cj|Ut<6G3j10xևQu]eUUsWq_4Mk}Y0geu7[{U*_^j=pppznBj[t]XWr0v `kٕ2p9MQ>lZo H5mvZ6?W G"33gS~(9/jc]{ɰ[IL.2vya(^բع2$Wɐ)UQ[^eVdURwѴJl]S7XC1[8s[FFGff U`ΰl# yɅtA&T^pyRgCDXBs#>ADʹ|n.gqwG䉫B{5BOW2>[ck ˚Da5O@N] _xm)2:,ɖK\WE ;;EΓQ D5W}x=n `D쵱km,}I(֝Ԇ5O'-5W*)T"v=)T]w͠D'}az|U k w:Je$tR.XӧǂM5i9`BQ`FSAw$)</RO2G;9;նn e 酁xw$%'5"K_uʓǕDGɛ~aTS?;,#ĕܝ2ӶjnԭZkӷȖ%a|~Kk V8/7:.dNF=< gm.:uqHeYmC\f]h@R!1vtYC8` &'} `Q3'zSG%yǷ܅LjKЮ9t]X3W^%EDRSTOђa|\ɣ[fv2"C^'&RhNIq\tw/qT Ѯ_vA9WFY8~~`qtP ~_Փ4~a=w-p1#K_j0 `cp p.AP8#ZN90 #_ͳu 634@ X=X*~5??/_O 'd5S Wcgr̮i D=Ѓ1IIk ?H##z `0u0 't<(@18ZSD^@dr@(!~&t*PPU?Ү DV\7 e.,_/]fxv/CVvk 4/)2Gr$7I/U=$xC,A×$FH,"$ɈY_`bӃ}Hv Lbi!*v>6$Inڕ_J|bvy\wbqS0I*g %uޅ< L$B/q s x#NcGn&qӓف`_N֨ll2 ?OW\ZU^ h[LJ4!6kźcgz?^$ohӨ5`*)IT嚯S9dD$/TL,9!M4iXքI2 mAb6U2u~XvNS=_%56)?o tGCjktepmP?*0zӤƿM10IG(Eu8m4'j8?IOTgj|d_ۧU-@}u-rFZpU[Qjf-~SX8ߏ:-?#?#?#?vQO ATOkC$}׌c G"zSکR FQ}^Wڏ GP~ GӀQuiDF^ H @6D>;Pe DL $V/&զPjr(5? zfu254 /+y[1d SA0 Iuzgo ug@POA FޞPY#ޙI` 741>Q).O?ɝJ1 Ho-I1Ʃ?~`.g X`AXPlkhrEް bij#nM>? YucXߢb1fۏ&EA ͆wn_uc = Wel n-drH_i!;m ;X襵̟xTģxSIX<-pޙ罬gݵGQvڳYdWkN#maYH,x)V/2a;Ц( [MUᾺMom>4G8b>k8FӿFȏ" seY`[*9_L2fChelBTxq&JQO6Ij0c39eqoq M>P $Iȅ4'+Y4— .EʧdhKe_l%[&2gnʑн1,^B94$q'9xrP#h.,K?iCD~}_> 욘>Ar^dpӋ뺸:Vi"mLjR\"NKlA IJuwgF(Ǐ#3=(`@0pp`@ ,ȉ#Hr0zh8@9wAS^Q|H2<榒@&\0|,ްç88Plո^m+-:mg4Pm$T@z&6 (dowA4'91з" M,y6[ *JbcTCw}-/Q625"֛ =FjVe/_vB?Jƣ~$/ϧaAr"SdG/Io-|ې*.lHq;Gʼ(=5%1K_2${5wEC:GH N%r(C|vTkRyj2?g"K>V՝AߎhD# hDc$g?aSq ?KBQD Lk*$1dLpK|T"l%&X! ÊвBFn!?H&\"Ғm@K<=U\}]GC#5#@8'h>?!Q[Beǖw`h=Ѥ& O,38ÀK82}v@5QI(T܁Né_m8D6qߏ}v Vwv roNrlEYos#Tݚm>nԵmߌWo)D4Ϗofe^*@l/e$bJKFYw~3#ng$َm ƍoϗ[Ы ׹F%? >- ?!ZeZD:{SEE.AuaPSzs#B 5mI3` ﳃ| oy'ݡhvVE)xE@Ǘ#P6sAtɵ\C1N Ld d:3&JL-HD$vHzn$pIzKِAaI$${544܊2Ab18×4 KuBx77e}D$[X۽IcopPҰߗ#Ien:`>{Ou, DM\6_ 5ѽ'oSkV8bP^$m;QMX>fo 2AlΊ`2_P-q~"1aL &BNd)6B07>4^ jdjf65M ;gdžwM#CdzL*4#`j-z=J;0*ayo^dWW7r(8m.xRq43;:NL wឌpF~0p42n0Gxhd'lF#Fv0fZ M ~p\2AS22 a*B9o;ơg"U xtaaäz|6yęVLp%L8>v fU.C n!,G%lz;|!bQ/~ E\~ cLC "&̭f ##4ZwsыPndxkIܩJd9k=3ۏ_/?5I?Ռ*2IjQXc6e\8n>I2$݋XHb M!J%=;g|Ll ,zdQǎ ûFlq\P.ߓ6v񫆻_ n9%Ū/y̡ 3^ 6.rp$6W>óa!GZ)9m4i2ɉrMҦJR"4>z/ OuNM~Wx:mse8?_]Hz!nS{<(o a7l6nmaͷըvڻjhޣt7obJ6:n4e 7ߢ}@k-(îۖW"*8X(9I``QK^O}Ekr2Il"lU( aˬ< "H2.=WHѨl14E=b~Ŏa%|'-t 8VZ&Bu(ٌ'bP SBIuĶ2ȸ֥GŘei:o#P\cH^d 9vk+G3`IlmLrA=0A葦r|5{FP/JgT_<494BpJ|Fv^N >zK;$~3e8Yߗ?v9\jB0 60jQ 8DPbr@F"g U>=P@{m",`t) {~^c/''d{@GpB- u* b5S~e0 `>p70 `t$ #$@``t,M 8u2^$G5#C ~@=Dkn@q-] 6Fd.e.,_aZ]V%yn`sb6n$i V)V1^nĒ6q~G-:b̋ğK\,Q _)@t"89ç14in`h_ %衕9"[`1.e. VnsYl0-x- 1/P^B=25"֫nL5 ?$ݯfX#$'#I/)ÞC js}3Q8ß${/$;y݁jby3AKO+$h&w1֌cdPB˅ܭY%1 sr5C)ݖ0i01$=Jk]/A҅~& K`ŀNķ{:skW qOP<^lvsw[{ǿS'(Kju2@d/o 72"͆v˭ڋfD^W;޽.l?{Mcq:ߏTPdIBr6clӟE.+䗹5R5_`K4E|eq!Od4|B˻̘7 *םPh9}?T,sDv@&HuSO3OH&pv ]ae: @?Cr9 :18)?_A(.0tkW4F?فmvLr;7p#0Z{K6[l sO>T3ͤ,~Sq62N`@Sbꕀ'''gge@?A3ڟ}Z$Z gRG"z^mܩU i#?AK?ghLFJ Pz5@3 0@bD$F:jOU/Pjre'(K(9b|12_-ubCx, BuY"@i%Y$g$x)ΈgdTc ]XTb<;ː\QL47?MpI%XR?bAɓz;P@}LOHZ{ZlUy n>դfߛ/~Sq|I왪D?#?#?#?vQ ADOkC$WxMHQ/ت3;U\;jQTGu#(?vcӻӀiDFg^ H @6Ly>; Ndo&=,_M?c4/GlV~)sjc?[ 1`gBvQ^tCވ4B&4I ɠ ^z-A $8UHr59XT Cߏ M o Џ&s >2UxE=^PX*F%@vUe7tL]KB Gȯ#lV^`6m{5:{.2D¬VI9B/o|jd# HZ < :)|M--0v[)6W%c̓÷MMOl"G&qoVubR QM_ҵ&mhM]܍ڢ4<[Bd0 X] yN|4 UZHWVY\"H8sw-Хi܇Kh<ωx~\:|!p/EF0G6q0TJ8לHM;򗖤XXAMܥ؅"*XJNp r9 WQ$C[6a -e~]sD-}M,=-5==5gW2 ZǶuKvC\}*,G۝\p[ґkoL -4䐾9&lߝD.EP&=h]R> 9$&aR)֠~-螤T+FrWDוGsPAA\b񴦓SNsjNNkǬIMߣ>>W,GʎѦ5jd$Yw+KlYohQK{%Wu)_.CCC}^¡璸C'"0T̳sKh8\ؒ.62X~a2ƖuڸY2$P4@>.,߷'-R֚FɈ +s"AwEF!DQf涎΍M̍̊3$+^S`lSh-mddklh3jx)58݋DD ~oW֌!ݓh_MX_{iO#Ympvx;TFQMN4EU#?֮c4Ԡg]Ǚ1?+Ù ڿaN lJQw6=+#٣gTSQ`<EWt|tjm`]"1LAj fjzlw{M+LZax@5d0Gib=X%!^^R^\:QH]{T_` X"$m(ئ٦<WfFXd%%#-4[`oN1%lBza VL ت]V+oM۳Nz\k0ݘ5F7]4p;L00[ܺ4Tڄ@Øj_L%%888,V[L,A}Y=ejem9F,,Yt@~t1vmJ|qR!3ϕP\:vjQ`.`kV3#U81WK|#[%\{+uÌCv0?@wNL4M={:sQQEF4>Z3XEHqT}cbL(7]nZU6+!X=jq hCu٭k‚};- /-#b0Ms Վj۵vjQ``]l3cVA[[cFgRCE&֪RZ./q+4_N/DL&:0;U{g۩jnդ\:MTkT1#lR/I0J[dWD5S˘B?zUW5@J˨|0R:"@ vS.7U* 5XݸVs Ax-q' %4{œ-4+|wx{{hF2扉Jre Yl;`ͻ\k2Yض_w\W̓9vvZd;/9<_'T"[n wy-W)Ls~PX;4`YGncײ\ MЍהh0G+X^ZpnU,E-V1}3V_xJST<ֆ Insֲ\ MsЍלh0G+^pVQ0`8Bm=EA_F ZyFKRf'cӆ`l N_5mZV6!XiqYL 2-ƖpU%\RPY\*V(sv f_5{Nis툊unҡ`cnS5"}VfR$Y鏙];wNMϦF0<0lRY~<.D&RlI 2M,,L@ݦI5sP!7w[ͦHZdT>3[@3jzj`:9b.V|1Omf6tSC/nմ\DMUӅHDs-D8U"W^ZxC6gkQa|sZ=gag vY§tF3qK2VN'$=zvs+3@VUlNlN8ѨE6gKM4|㳅i(ް y p!e3lTPEI*ކm,Jڂ1 dpIc?lHlH j 9=9$pc1տ}r;`L:68̷&A=F4'X`:n 1 )/ԪfEmdvl*[ϹTuMeq4tarTzja0 } Szsô7 j^ô`zi=-5LGظ\,,PM>©F6 ]:gLMOOM-~ո &c&y6`kpP"E>r}3[rpČ 9ͦY}yӁL{jw[bVu ,0}W ,/-/8GE~mowbΔB'f/LMɁv`m6\J7dvH~Ӱ7DW;eR`Ru\כVځB X]=/No Ӌ 2l ɤ<.D)gT"Fk)>Cx4Ib>s %Mi[\{@lY& 6/Hб%U$`jMX>$rGkJPR]t%3^$V7 Y>ϗH_ք _^ 5ZėEEڕ*E<ܸ,[^(rBy㬕 J&2%NrS0y"R>*"KLj%4)$r GL%VKDUF^G%䡷扉J(֤rq5vPy)9t9Xɶ/lT,.+ep|KòmB5Sh+q50gkovy,hӵ,^ɩKLibǹB1\fL!<[(~^[x6-] tV%ќ`R+/RR/9\E2\ݥhMi^ P!>/hIlJ:}=2d,&єY)i͖9bvPG4QEYMB {L4 J$˙7֝hˡj_ČY x7-|+82SA@WLܸz\i٩&+7+MK J^U~1Z⅕B6c~OG|A(P_4&iiK`-U,+򕈠:ޗ0C鹰f]$DsQZ&ϭà(&9c'd*NQ1}& 99Axxi*s;GGy 'ͳcgfgg>|dldhvc]V~//Ñ渏y wf.doN\8`gS#^7o3=4=91|ݦ;O;?2?uK7~>w?O{ls;v]NǾ;NkySy۹ǾߣێQ9c{7;>/?8E/?{EWz+'gwo?>̣zGŎp^ڿ[n.=ׇ}{=z㷯ji^p ھW+}_ykuɁ/W_wO^>m~}ߺߦ&'/ȫ^Cz6v9/k|ƿ>t ?}-;.KX{ܿ~7}?w3G~^vr>B}c:/؏K?;d_]_7^|w=r=3q[>n?g̑[Nκwe]==񎡭sw|zG oy=n_}='Ժï:qǾvͭ+8e|d7 wkKE]?w3N"NxS~dWk={sFs|{~v3xͷ;vMڦob;uXٳ'ٟXqf=C?~mzEvK]z><~ɯɍE }_??i=~/w~#Ko{wM\pxx~l}Z\SO򢷑o?v%W]{ 7~+ٗ2s^6cgxߛs]7_}?~՗=؃{w*|bʓ'vomsO~kn8Tx曋Wqs3t׽[74wȽ4}ȉsGϙz ?;s.{#/|_yߎ+zsze>~+מWwFl9915߆ngy/q`n>/.gcs'w{fYQ7auxߛu]xnyOoN+O=%Lsy?;n{o7-9wQͯso}/}cϸ_Kk`t/鞇>{~Ƿw.~|>J?]/\WSO=M`~S3W-?k;NӅr7矷Um'wr_O|a3?=ҷ+O,ֻ^SwxM>PzE=;w}j-_>'>{6q=w߇u7/n:G|䨫g߰|k.v䉟Ixb=s¯˃߽s?r >]3.:u[Ճ{ v =[?{I'}墯/s‡Rss^|-?,ȟ-\sN>tнO=>7wIgί>/g'_rd|Kww̮͗^sSg =K_y̧&pf_|>Ew=zŷsǙ;~Ӷ/Ω3ꮉߜSn=g{wUa]?ux ?7oƦ>B1<~gvٮgn _~7߽{oo{ߟ7_^ȱ{YCyw{<'Dž]Ol׽|Aq}w[q.c{t"wνk77[\/}~C'm"_{//H~Cl}&|kܷ_ʏo/G/{p?x۶m9~17_C99_57,ԏ_|??x_W>Q#koozxݵ}O_]+}?;Η}?]KZxwÎ먯^¿ucoĿgCxӮ˄߬O~0vʵGz3^T|di~_n`%t?NTlGeͷ}?-cvM_8y̧?3˞{}}W=8[~|3uzCW񕛓 rwi/9{] ~;m/}}}?r<m=p}󕾗/T9n{=q[sҎݑ"w>k]}1;^㗿|;y{{ΟNi݇~/97|gzӁxG¯uwr~QgkvvI.ؾs{Σ>؋>MSyߗ=g~_|v_{dj}{Oc#oL O_qCF=dT{#;_ΝP8{a*cW]K>돆mzgp̃k\ؽK#~~ٮwwt s'6/׷^{SW>:ʷ?mfY=;s~|ƇgS=?>u~|V}~ӛN}9gs^?4K_z{Ǝߟu'={7O^G[~zAiW|_g$?i?64z5WI>k1۲|%0w߿/6_?O<ҟ2q7af_~m!מ.}M ow]/pG7wk]?d޻kvRH;??w/Q\s~_|~_#^X)K~{Qp◌v$!N} ?-Kvs^уx_Xɮx>>ߟyq ?/}'ox6?-?o~ӥkx8;nd>ѽm48}Yw=7%0k #N}tO{EGg'w}`~uo[wo|ȡ?I;9O;;_xΟ?:G{ҫ?}^x?!Wܸ畏~$vsSZ{w.~\Z;gܥ^t9O~nG_;eg8<͜}?K'g^i_}/?mqɫts/_KO{/_󒾗3=s='xϷޥ7v?u۷}w G~}w<>!u%O~3}wC|v8SusmB/]~8lϸa.uρuO<{~҃}sL=yVo;역<9pS{E7~]YفvV2 gz=Cw?xGowo_yw>Jhg}ƅWٹc3Gv$_}Kx/.~~‘u;_v~$sﻮ}o?wʯ o: c^kxEϟ{>wxTz[]'_W=cQ}g =w/G]woxc%5_<ѷ\tϑ//vA?'}jůYg})>wc'7~α7Edwx\}qMg{ _zķMA3x?9gӮ;}_s{;|]/_͚i!=Em{~ɡ{84vY?2q5f6i8uuX ^0~Wc](t`/#Grż/}*d0aB*P[u ŕ/yArrʅ'^ +x?,yuab!#%;OU)nYX%w§]z$%zM-2YѝeUWq}seTGK.l[_~lߊ=O?tG;z{::ĥ.SnH. 3pm䆅^Op䳽N2&/WJ* f۟|~eyT~;1ύ}+y%=:y55s^bQ{ʯ1>{$PVzv-u҈NWXkTc]G쯮,/eٝ 0PH[a5M+bxRkslܲ}ʗzG;kr,B=K4ǎ:u09 &͸3ekh1Go(͇y%~N{(e+*M_K tۏKYO~p{ѐJl_孟R+O^^ŎK5|]?N=G\ */-w Ι֐ tj7f˓^pצ qoEɳ_]Z;laK JP}~` n=Tӡ_?_l6OTMhɠo7Mf7V2ox=O=FȊ (Έ[\<ɀ ^,nڷb`К!'_bo!;4]ЙѲsZy*;aiIWo}-G)W3|q.5eW?Ze#L5RmZŦKw}aۧꂯGlϖ/>v󾎝FOm<Q{A[_y32T'ƀi%y!ᇖᣔzt8Wc^빒kӧV,-V;+$5 y}1eȎ;t>[#͏rpyW;,๠]gFeztˡzxOwѕ̿5T{xyZ5wjhC+ZI&}1Ps~7'S>0hԖy*WD7O~_Wv߹sgR^!H Js63J'97x3˷,zbȶ/3Z}`IBxȒ]7cː/Jys[s͚u^#ce v_.f`s%>>cϒ)/L4wθ0v]3]! VLj>~0|ṱAG_=wBݬxÓC1^occ:|!80@ RCtC Ƽ "QD)&9:uH ApXJZhy1/RJ.J 'Kbc\ "K\4z=sU&HBzɢb( f}0,Sgp6E}6&^XVH>i2=>5Qi1j>cz#t`=H#a֘Wu5*;1>)B N⸉m q@ "Zar2 &KV!TGTz]^Æδj>w!9elbS1]zaʬެSI`LH]vXI w *P fϯUTؑ}0RYx2BT/Lgl"5S,4x:XZhj |%A@m8׈c0) =!\)]ӫS xa%Scrmđ֏Q ^)zhleGMƸ~qӐCP^氻[}hI.[OE";`E}n;Ms%\5a&Fp~F\i>+FF,MlrZ9x {n8B$Ec p `Z;R(d6+ՒB5$C@߳Y* :\Rg+iOS\=xeeǓ|FE.r#TK~!QZXI#)kXjP!gh@P<-׎JO,X=-?@B?CbZ@y @= 68s@cv+l^ tBxu y4 /\YL!ē'_ zz QWdA.-_kG{ wHM <@yxx{HhA.sGS }EQ@bQCT`n?/#$?k/>XM_[:s% aő..~7-/?G$?Y<8F]q(8O wp'L|q\;3&ݷ71Xۙ*H61xArk ,`ubUVHkQĹZ./$T6rLҨ؄;,DzcNўe>.?P͹#(#5y>"KD Dn}CB @/{wmstp;1<**H n?^ql}q9"p{(KN0QH~T/QRzRBSq^##O@Rs@n@dծ'/~IG>P_kqmؘi+bE쯈"W@_+~Eܯ+ybi\5IR֥OkmZ'J꘠65Wk}~._<|u:  :"O9`Y?$17CG̟ c1 EiH"4҄;< wх V]g+Ò-#kbG(~!I}z 7`w D_G|+F0B`##!FH(!FpCG} av zA|Bvl|nφ"ԏ0iHPPABQf0ฏa4 ER)ecTrkLш"DQ8@fa\E5"UapQmk"VmE%JHTQQ,Qj yo=^F_Eqz !9+~: j%7jʜC AJL/԰M:W}^N|t"b` ڣ^8#Ǣ5Ө?&F_/"|n)"Xq*($" 'K/Ga!90?Be2?NJ ARD-!j QK=)9:o0 ]&Tb8/R7ɝ6ɝ4-ǿ "cҘkrn"-dXH$*ZI<#!yu\U!Z=GxՀŪJno{$-k iߐ iߐ iߐU%Du`!'tjQO  ! yשUPjK :v s`ȿTW@_z)=CT;WB4Ե 4S&i0!GЩ|-}hk%oadop"7s"x!jMƩG4mEh[lgzآ%w9kR<̹gsMNM^I4Ҝ_R6e8%r;]uIYz-7[푵t?/e{ºɖsaؘ9Ecج6;q4ѭs ˺-/js:5實qwj߽օ7x6pK]mo{( !DRvӧOS1*exmURv3BnxzCS^ܷ{52zE횚VM}R>5]eQ5o(u!C6]}+vLLLW~Tո`S?E=XՉ&=L0XltT.Լ=#GfL[W},6?%%< 0Z9 {T;OK\pN/y5ng9gىosUfw.o8wKžO "s1?}WL{b~9|V.kMFt^Oͼl=pmhH/Q_4dy0MB~(` 5C{Ε<:ռ̙_3}? c9olx9>N-'2RNx޻瀢 i ,-5%'aD-:\Su(m`b65nȣq} 65=82\/$ˣxY$M|yDTWco dMSbMbb"G!a7G\l*^~2% 夑vLAVq|:Na]W5gc_wv(&,۞cX>1ѝטũ:o}-u%2Kgw\>xE =1]?fs ##byPPг\稕W[ s=8f ^qOa2;T떎 !a]J?YmuWiGLkէڐ:o _!!n){'3Y,K vω ۗL:thavh+_)|o6(xq3}hYC#K+WZ3V,hݝ!q7ÿg8I+^%~SiW}vyٲe__|Ʀ]*GZX\ma쯿=iiN^NҿgK.:?O$pg&l}4˳gnJN}@֙h:VT!V.oq'>>>wi,#G2?m@o'c3L2#³ڄ߬?1]f'dCo,{+#j4;y wq`AdžȈ%_ =NLFՑc6;1];,SKp$UK/VgjZxLXi9#kQ/kK27I/}_.'l;iϾhY]ccqO?QAȃ]3~eEލ~gv7u*3BWGsagv_1]M}P14/3K,z)c2w =v <J7x|?hM>k_~JMy)r+{gFܿfie r;c{Ŗh??{s Vsq-9iKV5ޅ-oIJw#O}PĽsnK1wǾ9{ncҡv4aiiOy͟xU]{~eūÇy*<5՛w7[n'yBȦ ^s';%A6.+Ϲib7Bݪq#4&-Y|nc)5iZk^]/Iqsu$U8l?[Ot9sf5UvmO΀>ot+3x5)B乲`8s">7)t!C*W:V*#JֲlB.B,P?PDT|֜oz/ Wyi81ږ%5s&Y唬1, EU,j.p*ҴlNeԅ,;A+ kX3[fnQ3mCQV][H$w,mH:Rs$w8qY8FGZ@q 5RX,΢2+C"QBA}CӤ-Mc ̟ 1ꛠ418PKZ%ʥpZЫ[%B8B? x}E[oAH@Wl"oH\Eᇾg; yus(^I@/r B"Ua$oůw$|8FO2 JDsGqb N}gLDnX_!hðf=-ȩB*B&g90?BHit0Fk c<єM[C"OtpQ'"0՛|"lc0 Ap^ojm46yƿ@X.5UXZ3׶ RHT~ "%=Ӆ/ 6c_:S:1yC:o q}ǟ"6͈4 &%$(DI=Ax(lt7'x9d a 2Ub)R[hP%OPOPOPO5UV'OIܵh'H|juJϦ8|6mkVWzASoMc??\ڟ (gUEu2tf)@#2 hs@"jH2˚hoF7i AWuߖkmFHs ,u1: P'GSsKԃR#a]"@iVֈ^b[VSx!@ќ[S:@}t('B翸+ 7: o09ӃWΐCX'y=RBd!@RP E%%c(OL焣y 7Lt D[`v8d2Q90`âڨ :)hEYx̠IЙNh0@ ` e `3@8 0<0@= jQ>D~ Y<ڀqW2=BWGP#pF٣5rzZ)R !@?n\&_zWq%j1-"u `=`!\.x1uVDw º_>=\Ǣc02^ai *` 5Dte|z'` 4gK:pFA3z>-}ĺ{.C03go]plJ1|*Lc= TdJ:::6..**aF2R 1%Ec`/x"H"bI!(]G?Iѳ7~+.!UIzH}-&`7l`5 t})7F0g}.:zz}x?IQѳ#?||KqpD1 74_d0 qmƱA䦨Oy J@; by7x$aǹF?io#x"}ރ| P AxH`V/<K)ȩJyH# IFiE"[<ϟ=|N 2 4"D(ÀsKG#`'CQOE}<1u>H_XC7]w1*IFѳ8q8;C;`pF?h?DP.sG#xf*zvpaQ0F}Ix/x@(Ck7Ѓ?JMG}o@p 4 xgMT1>ݕC1F (5* O/_/p8 Fh~c_3#h8E8˿/qD=`Tk ;@M#²#8 N w~z 5 6T8̰9gߏ)|?&|>Bt >Bs}(|&Bۅe0 }24/e0l2QB=2886{>f!]C?u F'yh^FQ BZ,-@FU%V%5P))>vȓ=f~ϕ*p#RTⱚtd"=% j'l`,@B$!@&:b-HD2 ,3ڙ. %2EӼ``D +[N ۴j@ :ⰤEksU*& ̬"B A&z~&f}B!1ۓG}V/rv^*K6M/@g>Ѝ3>Eb{t&=$z 72$t\Y% bA ">>Tl%& &a'يDZೡIZ|EǟnP<x,N 9ڗ  Cj|cć"ea̠gd)*Tw(MٍO-I b8Ѐ~MAJHgb9;&L@|yBw~@LBHƢ)0L:UU7vEp"X* ئ$1e"ql2_Lt2aHRfN;5@N(/Ax* Os36d ݋.%ץb> <-@Ge;$A;zl$t}my`Ԅ@f03 nA_]}VWg-ÿYF"a1M4ڧ5Ow_ r^k!5OgX=3@&(_ p-+M!85Q@ZqҲl\%pF՟qncEg5qLwqw<[rFy㷆fBz" S<< # ۅ7Qho o߈du07^4d㮑![6>丹⸹x2ݸ{{c'عG|안U3cP/[XOwxd5d䪉R-m=+ZVH5FXەjJJ5эJ tBi郯2Jr_olYt(9I=9֚zR 5iJuoۏ\E(MRS] >bZV\&Ii,I8ێ=jXǹAa2ab!9ѿRtpᮥ?VN^=E_OQwM'ƶzLd-}|.[ܨw%//IN] Q.ʁy +gW s~٥xуƓBf5&zXˤ.11ѱ0xWK@wo,UrbWd8oThg,^dtLYX^⹺RmfI9NqG7rWӋl5޷϶>1y>ٔG/qov)l{ qg7j"vNװU)5c鄭E3M)P:2܍ڄiO~Ո)lSK~Ovj8/iFվJG-oՔ;g]}G*/>mjEƚ%^7Hڊ]]7-M@$"EV/~Ec%ec?93;"J,~=Q.':z17d6Wmst,Kⴓ3\o%&$<(ϰ}n}ڇ[d.i ߽/Տޞiyf_\WoҰI|̰&%P۫o6g$iiSRK0L p,H#$9U*ͨ /xzL+T_<$xmCZ+7ڱ%(EQsM"#^Z/t[fB7˴r7CiFQ|{;n4?kz!nCܞcK\|T@I!^wbz2UHHH"#:$QD(9\xG0?d?'L;.7 rӷWbVۿ{rm{x{ib}#_i|SnNWz]C5Qu[çM.ٴ^ﺛNڗi=*Wy (Y1Ϧ5i/J(#}qL7|A%EǧNZO{J緗;\+;QP-7:HttC)HE3F3[I~,`QWRRk=KceBcImiw/Dˮ0SjS_J1Wa@rjSxd̺&GoVีItH]kwhhX>,mc6zK n;+ԡy]Qx䅇r-\ԘM0MNO6,uV?tVl1t&͌)L ymK:;fV*4jCۜʟ)s$ɻ,+ ~Nᕋ\ y4.ҍF+ޫm!7 ܜnYޝu-'ΒX|?klCgM?>ٵmk>X,#vRo(?>Py֙\v3##ʿTTmICh]4zKVlIޞjU`tc,dTܝ-d{G_lZ_W$YYl'=k7g.7J<,۱(3|s׼8,$qdy[&Y8o=o4LÐ5$ &!0;ބj45-GhXi*[k[TԐgkJM(}؜uo쮌ejH񭶊uvcuDZu\|79B+q?GʴUF{}]pw%L\5blvuQjJ#bQyzRTTJ!:(ݺu;%Wlml3f}y=Cǹ=H{>gjU]%~ySJZ yKn%'WHq'ĴkcWH^~\2C ][F2^]]fBs5{Le[굃k!8 Iȧjz%Y:*&d$&M6W !E\,A5ā!'[EbYmڧpgImŚA뷞xtV}.F:0uIoQOͿgNs{sDgrFEM3HB,}Fo=}},߳'Wy72tT\5.}9M~Xγ/U &>zیL,Xۆ.[|{o;*TLf*֮lی~89Z.huVE|Zu;&7P=:9iW纒Ύm'y94ZVZūa|_k_t<⁞$smn吡3w;U߂T8og_sT邲)9`CAܩvP4[rWFyI 0/˟ǝ vDŽ7g<#c*PN:ZROS3d˨Stbv,tNI[]N/)oZ ?cɊJ?߶$ZnTXݘW.]ן ئ*7h6kxCk3Le|9TAf֝8Uq>>i!}PClJ>Y3”|rm+v rEyWp;z@kYnwntXec~Ѧw/:z[HWwp$Ora=^Oҳ_'h#T4{l̹rc/تpR!׍ ı̽c*߯2trcaɂRT=L~5%KN+Zk`d>D5BjƁo>PV{7kK*4Hi6u&KMfF Osve!fG^3Wh42 ?m^r3յS"S=o.>`O&~"6Gȗ4)ځPO0+)yckf9Vb:축 əEW(5KɡyW_g}Iv{}>F%V<{tِ9h#}A# #fwͧ,.Q."Ĭ=֞k㷙"J o~Z1) \b^A%KXy&Lywx)ry25)` ʔϏ("V`SBgCj޲\oY4, zǽnyF$."U3s/3spu$k?n[ͅk8/g'OdNxdy㻝zEڽwY6f"J-5BKCތon5Qosz~L++XVQ~b^wgFWW:jWlڵ/.s(} %U{6Z1wrR3pkTO\z MS4blRd~;.9%qݙb>_`<#J_Gh{1``r]Qf8od؆ɮ)˦^MQk<4EgWhTAߙNzpIubg/-Ĵ-NxvPY8y0rʏfF,H{oۈ=nofYqX}m賟QI2=4cUv]y )'sHоõyy.wF;U3$Iq]@13c9nԕ<}!/C(Gkr<3e"4?)D_p}tkR_dV޽iUw[ӮJY[qפ=P} <cj:g?)/PznG׿ޝiY\BL-_ߙQ7+=>_v̿j~ qk> _eooo3p݂MUmf{5vټQGVt”է~>;sǛMF gi_Y]V|^*P|b_m޴iė65bn2?*%MwW;nynJ>$t#/3q/J2h_~I>zFXرG<_?!YLO4 JK|}ڿLO:%꒤>̜*.a^[B6ƾ3\ j鶧#V?ꩭ6ŚmI ObGWo}[;xIýp^VkDˉ'N.Ӷ$dg$k1CewEz&%d^vK۽{7?!iaW!ݺX.W\2[~sP:;%kj<7fW^Lݯ\\.ciA|MNRt,*ZZ/_a'}zv-e— 2u[Ou+xTPp?Ȇ.l,fQKFW?4 2FأZWW?_!QsZ#̽/Gk}x~W~$Vd{Q{,\>R{hemn_f8qd#-W:ݨ4o.)|ʴ.Q_ɶ }B%^\wlM*zR+!ڙsv{bz%t!Ζc-lRt3Ce˖xcЈj.Qh;w>fi2BbWwgG gzptp*ڏ\7'tCޱPתO~VޫZnv`ߨ}Mq1dK7G/3hq IW EA! qR55dҤU Cfy!vTIW,*=6~%֞Oc?c6\WCXP#ϰUszYH|m_5uۦeLW=Ƭ޼uK3Ë">^DYŮ=6{'=`3^Q)&~o[p,|w[c`e ;39!ChO/zxūya.Ku+1'z"=qCw +xVg_3ٹY.D]fZrNMbړ-DitXk>Py1wG2{E~n9Hkum{n?y |: mjUޛoY\:$ȳt[d;h}/ tSl {p/)ZPj1N{ O&lG)knAݴ,-\d[IլŐS9{iQ9ҧk,t}Fqz\MVLӜ/~.o*?fk;,sfvWW|ING|U2sK-(BJeRК9_U[+RS5RBUO>㛺M0'9>DYb#'Vz<> ((7{ݛ#uO?BR~4ElR3^hgHxh<|MJ'79BZڇ ?0X4tOgߌgcyO@ H?' -[ ."ƤP-򔾓IeCWOS-k4|]&]jkM:>X@(nQ`\;$"NeM9#W/ X aS{~;[$QI%-+X^j,(/;3μN:< Ä/_m x&{)זPQI֤yd|}bc77&#yJl:v0ǏA&e J fܪjJ&J,jjh<,Z蓋'+TI3Z2AK{yӺ.V+Zm/Rsh_{eo 1:-[>vm5 tmCʢ xvxz5) wg#r9uD}QC}{ ɡ4]/1mм`Qј,#ͱCr[a2C _w]W2 (ot&ߣFϹB—qv6z|\@;,w25AH' 7Kd@:>͝Ij5یϴ5'{~6ɞB[GHe0=xQҶM1^}F4NF @ @ @D"O=Tqo7 @ zV`@3-Nk!(T 0!LZ !q;X1fnӜMNE54Ț_Ďm{|&EEpg=2dB;հ%ḯ_ZWkgthEH@zrp?g`vph|9`__e}B{&v;4w6^ӭko<_ぅ@ Ei.n Q*p0,kG^d2ƠЛHS߃PKb%|3x&㿼g:hA&"vIk`e!`jHC4a%C5!Z=0~ 7SjUjt9Ә_ dB֪@LzbEӄ1j~KaD|> `vdj EV"L$$+%Ib?@_"eJ͉W#K9іҙ8$Qy9&m&ޡ=ٮ~I&D&4Oo@0#YPht=|v sI@R`u x :0 b?B^ xς>7ZzHĮm=@j?PH0-x1`HietPGD [GDZN҂/HGDHC!^s͜;uX1?X0`Hy~s1Hls13nD4V8W~>`\ Ap^̏N(-$u"_&fj[ByL9Eӕ XI|za^CY='μlfM26[ч8/+%`K&TҪ`_ /~ٿV_.1W'jL?)%/~;>~5Mrؿ&m>W_fV*j8DdͷLD:}s9x X=o$U745ڨobPD"D:IלNR   [kb6ื]g|\quvAHEXhh@fZ' `:v@: ::,(=ׯ:) RX<(! , Bw,1/2N8 x 3PS|Gw<oIkPxs67t,y?_ng|!|rw/kO>Ƅʓ NAnB'(SoG'op vvFp&[ݨbC h~npAԙh +b<=:o 猜 kHf'ҏ RAp̎n[|Df6_S$dRNՒ)Yk!Id%ݲDJ6T-DJHYƉ()ҴR63lLy3vV \,l&LD$aqC T2Mz( m<^Q=Б4 uB :@g$`mv&y¥boQs{)PTdbOځ>o*ykOma3|pBXL8TT*;|*Bni>ϡ0x4 o{AO5%L '0v`Υq_Uߊ>_4?u3@@@@D4^ _'4b DI-]hS?L9 ZI*‘ sX/ZbHLg пo  LDTWlP / $*@@@P@;- 1b2 v!00uKu!~4 %qL^Dd4 Kh}D?K1^xvpbIcQT@拙(_cӜ,zx,Q㆗׎^B:}H^+ =\+@ǠQ8 YHƟ#}}## Zxkq02ֶ&z5%a\;ѷ$ Nķx-o$Z0YTZĆM1H! fI؇At\/(ڂ/4ż4!ژϛV:!+OE@d/;b-SĜh xc 2)Ro69apoH@(,e"mi^+A$_H4#/վOκtwޫ96iKqۻ&DOqY&ҜߐO@I8҇B 38pI0 >gDùy? vxo>7z.=UD4w[тE,D25p7Q?LQ?K` ~"oP\82).Ypk"@<OO2)oWoPnD}@ԧ"+hc/i#_QѴٗ$Hʸm)ƃ!z B#O4e"K@K?'`쟀)N?' ?uy (>;uJR"'S+g]?Zafr/ ?ZO07T$͌"gGLH@[~s`  EwI?4R7? b /$s:ܪ۲HZ;39I':k3cKDU ".".Q+H{Nn؎ phҁ"\嵨6:cOYdΠ1iҩ&9 &7YrVKԇO?2Nxyf@mA!A!A j\<2Im 4 k@ Mqo& 2i//|;h 02X! yݵE睁0@{7u.x@bT R 402؀c;3μN:^\&ϒZ?jN7@bHLZ)&wJ*TJ ŠjF7T)iK"$bSHbcr_+ڤlJJmjP65:HkBWm.5GuiZ+͏Z\a1tS;   :>@\CAF @@;   +-.iQ$pW!~эB,Ih!~"b\\ pDbƢ"$s,[-zf.糨D ^%n{ULZڇ ?D$ '<|D, ,%ZS>_d?( 8lA,k 7a\ۯq[MÐhk ~ "D}B#q8SIubHl/iKk?d"Y,}Y4}!qG&"eQ͵eDY-&`]w6 IvC߄DA? e< SWK N/\Na}iHGk[ɂ`* D ΅A o0KWܖk@kHCz$0l%qǢ(`DZ^HTGd_Gt^$^ioHZ_, ֿ,Dn 7<`pI:x1?7m_"J"IEH뿕@?D ^lD&D"9D6 8x8x K{Nڢ% ĭ%cbh4.#_Mfo6d/ؿ`_ 2/:.F1W{NI՘^SJ$_}|u{%jM_"i Wdj̖pLt2ys9Xo7H5hF4a-qhQ[o1 Bc@Lt>n'l???Ø#Pb7`Ɲ%-( y(IG%:D: f@E:,T#pLhbq1<Px&f7l{ZleA~USM臲$ ؽD5R~Mm > la>#8}֠)O%fmMXp.,?gmn>y8viذV#&'Mq,Hkp"X#CRHT]1J~k[Z3~ݒwr|jږ`xjh`.䪾:o-{ܲ7byՋy.Z疄!Sg̺O:I-p 5yTԒ&11.?4 [_)p͌ 3NI pPqʨ +pZPc\U5 I轧} {Hu[33=9ȐCǎ>?cիκă}/WEת wvEhv7k%eب$U EY,8{cx5y$4ڈPYR }B侘oEQ)+O\'J&a ^9[[LVzY)È)Z&ԜȄ67 unN[I>X-f𨱊?^_ b0M Rt7xq:i󷯇88Jz.x7+e-7?f٣k޻~1зX.1I౅8öcV9RQ%ghCclf^wOkF;xv%)G=j0,㱪"׽ |. *U[xAhm7AW`!/,!?`y6RCQK tc{2X'iI^U_||K<|{W~غdͫOg39c,,~=ꎺ/cd5R5Vk׽ޕBJ"b>OQIٲiWD!"%PYJH!*JIDE 2s{ںXU{b2Q3AnMe|ಽ&:k&SWiSyK*777s/XP鲠UT㍳y[_ U~ZE!c\ֻ\7P|nڔ)_&RRG^HLZ['@ֶ3P[rSO2z?>z!c&m~T頠+s\\\|5V>=96m3 ^I=B)_{lLt U=ޛ8Nͯ0e{ԭf,<.@'7/>j#3_'k=SvNd3F?VtyJ}"?`ȮEkpGwI6\b_^uu2ҸB]3!뉉IIJcEw7cmҎlJh~TKĝor?yT uG܋'aG>'t_o~MYLZ%AN3ZQ|e6rcIe^_e}X{Z _%48~5iK?hPXnݳ>Tܻ$ݟ1R(xdsOwQ-vXMj{gU[U3%I,LR]˩,6mB&-'4Ʊ&9#-4!\e7-R>raVaū %9sک] Q0zz>*o:{)gהv,͘GvGy WlB>XR3su  sx\/dzgd/V!C-bpπiK}|YkފI6ת;7>]Sf"SZh'{Z)',6H%)oË㫷ؠb{麣{^䉤M ).-eW|2- 1]!viXZc#*~RZKX]|>mkbrU" m퀼w?$7+Q.E ׋W109V"g(oT,ܬVRvtQ-Bjsf :vv_1Aʛr V_)\KKE#bqµ5+hrOLL,lll0Ep |F0R|jTMs<4yLj=o|H]uXWAL$߉$8!bG ^]zb$۟{2;a/5D.9+{.R8մZ:Ŧ(k͒3覵9Ý4x3^e=U5JsVDsң𰰥93umjloog}s8K񲶶'e+Ы屹UKm_zyCTsG&"]X;SM`o0ee(lxvK1L|IIX~I@Q'Ssy`ٸν*\:-*w*6m[gY+KL>@ee-bB̬ MsڕXOӛ+ݍU Aɖ< "t;ws<t:O_f݊%qBׂWo[ʳdɁB))wO,*Lٺ y dXxK=>V'=NJ~th_ܘǓcv˘\zsq 7ΜxJJ.:@Z #:oVY8eܜY'Eݾ;GEF[- };n\i)S+Yk{䳷YeC_k7yd7H_\ְp-J<> C1w r.[VcaJ1ns_e*XrGzh,`]Հ:VS֤lLWcDR#C*.ުY"$ňދzB;PiI#k4 *'p,?.TEB pM=BǷvWOE@WT(W+¹[8o>:mNHPlY!ee>iݜԫg=lY+3G? 8yWa.lfCzD{19EY|Mf܂GeU[Wh25cD8غi')rb7kjrzUC,iMeGfZ8=g2Ƌ8 %=]nm:\T!~6U_}*u |<~OGD,WwLl=L0D|d0\fe /t#a|IS&d,B8A\A.Pvkw~0K@7.<ose9f=m`qN WAפ4y[ϜZӜ" ^<%&38Y4f?d[ǵ?҂[ U[&I`$zU%׵$`T'YiLS6ǁЩ芅č-l{ѣDzph3ʆ{i˂g׊Spklh ʂv&pDgff̗+SVh]W-Pշ7uKW?N}AjL/gϞvvz no71[>]ퟝFqܛb.NqɅVoS$r~}jX]ΙΜ_YU;A/y#;`sJK._1G$AIF,f}Tw{{d6944mC%kSt\w@GSecCJ$3o%k=Ux;F"Ԙ^^zjj/MK4q.xKY[hVhӸ|?xx%Nv]Lܮb{$0NI?aLMM}!/_*]_oŵj P;wtLqJ= I 3VRdx@yQJn)/ͱ o壘YURbp>2"鶯ϋjugdۥR6uʚJ,ӹ|fpx `#>ٶ Mk_z!"v`%p/kE5S_y&7tw['L"K|l ZK߯mMБV#-_A^u^Ul3ܷgq͘dV04C[E?Zv-gW[Ɗo:yqWPDo?~x#kUJ-?-'͝/zi|c\3g#ct{ޔ|8_]8q"7Opn1Ww [Mmu *cLgStI|Rg7'K KVޙ켫q܉Ps*n@s[MQH[ o 4.fP;3gT8*I}P4؊㥥_[a`n(F'gR<8 G.Ҹ3R˨.KڵQk,3ԅ,`SjJi|H}MFTpOp{cR8u.O;oK%%Et/ڼvY+!b@c=X,-i|91?qɗs7~KRعg+8p,4>r.Ԃx)܃No$I.imߣ)pӃg1r7сVX*83ʬ'X#+kn_Ꝃ}-..y+eetjlN+ ^h,1RZБg$7}\yS^7w ~T}{|B3΋GIAxče摏?ij9)T׼DwKegy;cbdl_B3i=N{YtC2ZӃ~# \նxT?T?~Bn]yZ.58Z2BK.xpZp!Z: 8F<,v@xg~hKFX.f}$'׃?`y7ݕ]G]92M7Դc S,6mT@CKh޲X?C &]puځֲ"j5{PjY+ Ѕ_Y'[G"Ah翡H ;*]U/4C?3l»nt@?R@0E+2YE\HʂZn+f !fBeÎ4,34,0Դ(8ZLJ 8 (%_EєE]xd F0]ȅKr! V 1A+G>(ٗۦ*! mxqhI쥸n8~ݺh˞~{ I$d f ={!@#D3)@>3<`S'ξR^\~AG)3"5```0et0pt&pi@0:vrB04 ɤ gl2d12&@ėDTGb#Eű5Z]M&@2Z?:hn??3l$0000`< V H`  Ö@w< pp:Ǝ3p%; ď6 Xa!+g Vs!P89ll bzFaDlKQ`_4'] ˆ[ X[ʵ;g9NAcUl-*;hoi oAh޶J@Ck}t14ɬb'^K,z8Rm]kG;y*@0iT6ZڶUDE_70&dhyGAd} h#haq 76tO!6R, -^(m 1djFv}a3Yd֪–vmgo*^?$8)FI£a}oҌ,lF LXuPb #vn;ɃIɵ@Fn"zyYď:%IKMD~P 3y':1( bcC7tM M"XN!v[rFC=} XQ8T?mZzjC6c?֏I`g1%uUD)D]4{ SOs'R(%N:?qZ#ۃю(_`3:a] ޑ2mmf3'vn}Xd{9.#Q)h':{9z]֎4' u IF(b@?@L1QbQ\Rlș#z?M")[ ѳ!є??L1/U/S.~k3D+S(,21pԏw"۔pruAa͸IߓE>Qx,2" `3À+F6 P@W _+F~گ@~WF+xy7*%^3H䵫`sp}YG1׿(^a"р6D,Ujv'"F08 HCVY:=Y?sLw a(_ %ecjy?ݹEKuhQAA-a P@FFI=2oTG{HZyaC  )oe(kmn`yoF1ź/ꠕ 5;e'?bi t ux @@'K`JgA#tf~hAwVL=|`jfhma S576t4A|A|f| 1AAM`Nk PwO=_BOaQN]%g~x{%*R]+Q걒d{I6\tD7Z@h\ κ$̸߭Nhg\2^Ɠ֍ROċ# KDcz?%aPHQE+Hi~O^Ƌ2@>Heygg!=jA}/~k6閃|H`ƨ?Ѩn翢qg' 0L՟00/F>"F0{0`` !30ad*:(q4~?@? ˻w.L-LOSNznr6EcUuњx 8L%ىZuS;+{qU *u%-M FZUq@0@Cyo"̝u77~ b۟ h$ [&xavwablFG?H$M #.&;ɛ$I^!+ͥ#bHt$g{}>q(Bc'v[C$L5?w"謃Gє?<1/n0["L;j @`CC=+:7=?G _/p)oF84Y ^3t98Z!LL;X\0zZd+9NJ9#(h<:yMJSz]֎= u QEPa9PC0`g{ԇ*/רU"C;Ag18H@@pw u`g@cGahG$$&& e=#D+Q8t9`\{6do".JD{Z$J-Qz3t=%?_xJS r>;3P_@ /5Lտ(J_|22{Q)]6A"_]씇W}@_R{}qPg4 0kQMyN87Ł_Rq CG =Ȅ1ӺX0ubi44CBb_LQKYZv:.Y?۽md_H!e AQ-G:)0.2ROx5SF /AF,)G35wlgtGLۿcTZX<#LQx  A'KW2@:@Q z]+_EutNY~l&<gz_TbVd 8;1~:9#s7TbSJQ1KT3gRifvxMgѾ6VhRIaE1NaEcD;K{Pv:DYԞ~{ ,ѩp(,U{B@-3o9DGHznjtػ~fjp .wp %V[:+ߺ!TeIHZN(Tݩ8m1gGuXpS },"```` S@wppq@W8 М#@ɶcXN`'P C L [ y0ĊWS=ش?^ ?ZKqCp:!1Z?#NpJB6J y 4``cG$0q a;B88G  cX@B'B @#18pSvE^{&Bavabl:H,K8b$G҉c'k;iO?q^|0,Wnui)2Ab=A{$NCu0WpprQX ?3  %צMt{,'}; R'Nr.™p]0ƹy_ ? SxpS J4~thHJW?3)ηk .O ꢨK,-zV;jm5Ft=:f- L#3 VR/:(~XHd{94#)h:)6{z]֎4W u1h~#h4L1zڿ MCkahQa^Q%XRly#z4?$Cccp-`p]N@ὸBL\w]hla@~.wN_{؄5l8UsU VptI"&4>l8IM۷MJQץEXJ1$1jڱkM4쯙_C#++ݯO;2\)Cz"k_ܻU:.hfԊ޾ m02L瀝wN:`{"DQtGQs+O=L_?.It_/<֯K7\833[8;u$jIIgm7kwzj}p)rN-ZHo% V`,