Package: recountWorkflow Version: 1.32.0 Command: E:\biocbuild\bbs-3.21-bioc\R\bin\R.exe CMD INSTALL recountWorkflow StartedAt: 2025-08-15 13:02:04 -0400 (Fri, 15 Aug 2025) EndedAt: 2025-08-15 13:03:09 -0400 (Fri, 15 Aug 2025) EllapsedTime: 64.9 seconds RetCode: 0 Status: OK