Package: recountWorkflow Version: 1.32.0 Command: chmod a+r recountWorkflow -R && E:\biocbuild\bbs-3.21-bioc\R\bin\R.exe CMD build --keep-empty-dirs --no-resave-data recountWorkflow StartedAt: 2025-08-15 13:10:28 -0400 (Fri, 15 Aug 2025) EndedAt: 2025-08-15 13:24:51 -0400 (Fri, 15 Aug 2025) EllapsedTime: 862.5 seconds RetCode: 0 Status: OK PackageFile: recountWorkflow_1.32.0.tar.gz PackageFileSize: 2.839 MiB