Package: maEndToEnd Version: 2.28.0 Command: /Library/Frameworks/R.framework/Resources/bin/R CMD INSTALL maEndToEnd StartedAt: 2025-09-26 13:03:01 -0400 (Fri, 26 Sep 2025) EndedAt: 2025-09-26 13:04:34 -0400 (Fri, 26 Sep 2025) EllapsedTime: 92.9 seconds RetCode: 0 Status: OK