Package: liftOver Version: 1.34.0 Command: /home/biocbuild/bbs-3.22-bioc/R/bin/R CMD INSTALL liftOver StartedAt: 2025-11-04 13:01:01 -0500 (Tue, 04 Nov 2025) EndedAt: 2025-11-04 13:01:37 -0500 (Tue, 04 Nov 2025) EllapsedTime: 35.7 seconds RetCode: 0 Status: OK